BEGIN:VCALENDAR
VERSION:2.0
PRODID:-//Visalia Elks Lodge 1298 - ECPv6.15.20//NONSGML v1.0//EN
CALSCALE:GREGORIAN
METHOD:PUBLISH
X-WR-CALNAME:Visalia Elks Lodge 1298
X-ORIGINAL-URL:https://visaliaelks.org
X-WR-CALDESC:Events for Visalia Elks Lodge 1298
REFRESH-INTERVAL;VALUE=DURATION:PT1H
X-Robots-Tag:noindex
X-PUBLISHED-TTL:PT1H
BEGIN:VTIMEZONE
TZID:UTC
BEGIN:STANDARD
TZOFFSETFROM:+0000
TZOFFSETTO:+0000
TZNAME:UTC
DTSTART:20250101T000000
END:STANDARD
END:VTIMEZONE
BEGIN:VEVENT
DTSTART;TZID=UTC:20260514T183000
DTEND;TZID=UTC:20260514T183000
DTSTAMP:20260423T215210
CREATED:20250201T230619Z
LAST-MODIFIED:20250201T230715Z
UID:10001862-1778783400-1778783400@visaliaelks.org
SUMMARY:Cigar Club
DESCRIPTION:
URL:https://visaliaelks.org/events/cigar-club/2026-05-14/
LOCATION:Visalia Elks Lodge\, 3100 W Main St\, Visalia\, CA\, 93291\, United States
CATEGORIES:Club Meeting
GEO:36.3292721;-119.3254884
X-APPLE-STRUCTURED-LOCATION;VALUE=URI;X-ADDRESS=Visalia Elks Lodge 3100 W Main St Visalia CA 93291 United States;X-APPLE-RADIUS=500;X-TITLE=3100 W Main St:geo:-119.3254884,36.3292721
END:VEVENT
BEGIN:VEVENT
DTSTART;TZID=UTC:20260514T190000
DTEND;TZID=UTC:20260514T190000
DTSTAMP:20260423T215210
CREATED:20230605T175756Z
LAST-MODIFIED:20230605T175756Z
UID:10000277-1778785200-1778785200@visaliaelks.org
SUMMARY:Raider Booster Club
DESCRIPTION:The Las Vegas Raiders Booster Club of Tulare & Kings Counties have a meeting at the Elks on the second Thursday of each month at 7pm in the hall. No obligation to join the Club when attending. Family atmosphere. More information please contact President / Elks member Eliseo Zepeda 559-901-7406.
URL:https://visaliaelks.org/events/raider-booster-club/2026-05-14/
LOCATION:Visalia Elks Lodge\, 3100 W Main St\, Visalia\, CA\, 93291\, United States
CATEGORIES:Club Meeting
GEO:36.3292721;-119.3254884
X-APPLE-STRUCTURED-LOCATION;VALUE=URI;X-ADDRESS=Visalia Elks Lodge 3100 W Main St Visalia CA 93291 United States;X-APPLE-RADIUS=500;X-TITLE=3100 W Main St:geo:-119.3254884,36.3292721
END:VEVENT
END:VCALENDAR