BEGIN:VCALENDAR
VERSION:2.0
PRODID:-//Visalia Elks Lodge 1298 - ECPv6.15.20//NONSGML v1.0//EN
CALSCALE:GREGORIAN
METHOD:PUBLISH
X-WR-CALNAME:Visalia Elks Lodge 1298
X-ORIGINAL-URL:https://visaliaelks.org
X-WR-CALDESC:Events for Visalia Elks Lodge 1298
REFRESH-INTERVAL;VALUE=DURATION:PT1H
X-Robots-Tag:noindex
X-PUBLISHED-TTL:PT1H
BEGIN:VTIMEZONE
TZID:UTC
BEGIN:STANDARD
TZOFFSETFROM:+0000
TZOFFSETTO:+0000
TZNAME:UTC
DTSTART:20250101T000000
END:STANDARD
END:VTIMEZONE
BEGIN:VEVENT
DTSTART;TZID=UTC:20260514T183000
DTEND;TZID=UTC:20260514T183000
DTSTAMP:20260423T215314
CREATED:20250201T230619Z
LAST-MODIFIED:20250201T230715Z
UID:10001862-1778783400-1778783400@visaliaelks.org
SUMMARY:Cigar Club
DESCRIPTION:
URL:https://visaliaelks.org/events/cigar-club/2026-05-14/
LOCATION:Visalia Elks Lodge\, 3100 W Main St\, Visalia\, CA\, 93291\, United States
CATEGORIES:Club Meeting
GEO:36.3292721;-119.3254884
X-APPLE-STRUCTURED-LOCATION;VALUE=URI;X-ADDRESS=Visalia Elks Lodge 3100 W Main St Visalia CA 93291 United States;X-APPLE-RADIUS=500;X-TITLE=3100 W Main St:geo:-119.3254884,36.3292721
END:VEVENT
BEGIN:VEVENT
DTSTART;TZID=UTC:20260514T190000
DTEND;TZID=UTC:20260514T190000
DTSTAMP:20260423T215314
CREATED:20230605T175756Z
LAST-MODIFIED:20230605T175756Z
UID:10000277-1778785200-1778785200@visaliaelks.org
SUMMARY:Raider Booster Club
DESCRIPTION:The Las Vegas Raiders Booster Club of Tulare & Kings Counties have a meeting at the Elks on the second Thursday of each month at 7pm in the hall. No obligation to join the Club when attending. Family atmosphere. More information please contact President / Elks member Eliseo Zepeda 559-901-7406.
URL:https://visaliaelks.org/events/raider-booster-club/2026-05-14/
LOCATION:Visalia Elks Lodge\, 3100 W Main St\, Visalia\, CA\, 93291\, United States
CATEGORIES:Club Meeting
GEO:36.3292721;-119.3254884
X-APPLE-STRUCTURED-LOCATION;VALUE=URI;X-ADDRESS=Visalia Elks Lodge 3100 W Main St Visalia CA 93291 United States;X-APPLE-RADIUS=500;X-TITLE=3100 W Main St:geo:-119.3254884,36.3292721
END:VEVENT
BEGIN:VEVENT
DTSTART;TZID=UTC:20260520T193000
DTEND;TZID=UTC:20260520T193000
DTSTAMP:20260423T215314
CREATED:20180626T174458Z
LAST-MODIFIED:20180626T174458Z
UID:10001138-1779305400-1779305400@visaliaelks.org
SUMMARY:Vagabonds RV Club Meeting
DESCRIPTION:
URL:https://visaliaelks.org/events/vagabonds-rv-club-meeting-3/2026-05-20/
LOCATION:Visalia Elks Lodge\, 3100 W Main St\, Visalia\, CA\, 93291\, United States
CATEGORIES:Club Meeting
GEO:36.3292721;-119.3254884
X-APPLE-STRUCTURED-LOCATION;VALUE=URI;X-ADDRESS=Visalia Elks Lodge 3100 W Main St Visalia CA 93291 United States;X-APPLE-RADIUS=500;X-TITLE=3100 W Main St:geo:-119.3254884,36.3292721
END:VEVENT
BEGIN:VEVENT
DTSTART;TZID=UTC:20260611T183000
DTEND;TZID=UTC:20260611T183000
DTSTAMP:20260423T215314
CREATED:20250201T230619Z
LAST-MODIFIED:20250201T230715Z
UID:10001863-1781202600-1781202600@visaliaelks.org
SUMMARY:Cigar Club
DESCRIPTION:
URL:https://visaliaelks.org/events/cigar-club/2026-06-11/
LOCATION:Visalia Elks Lodge\, 3100 W Main St\, Visalia\, CA\, 93291\, United States
CATEGORIES:Club Meeting
GEO:36.3292721;-119.3254884
X-APPLE-STRUCTURED-LOCATION;VALUE=URI;X-ADDRESS=Visalia Elks Lodge 3100 W Main St Visalia CA 93291 United States;X-APPLE-RADIUS=500;X-TITLE=3100 W Main St:geo:-119.3254884,36.3292721
END:VEVENT
BEGIN:VEVENT
DTSTART;TZID=UTC:20260611T190000
DTEND;TZID=UTC:20260611T190000
DTSTAMP:20260423T215314
CREATED:20230605T175756Z
LAST-MODIFIED:20230605T175756Z
UID:10000278-1781204400-1781204400@visaliaelks.org
SUMMARY:Raider Booster Club
DESCRIPTION:The Las Vegas Raiders Booster Club of Tulare & Kings Counties have a meeting at the Elks on the second Thursday of each month at 7pm in the hall. No obligation to join the Club when attending. Family atmosphere. More information please contact President / Elks member Eliseo Zepeda 559-901-7406.
URL:https://visaliaelks.org/events/raider-booster-club/2026-06-11/
LOCATION:Visalia Elks Lodge\, 3100 W Main St\, Visalia\, CA\, 93291\, United States
CATEGORIES:Club Meeting
GEO:36.3292721;-119.3254884
X-APPLE-STRUCTURED-LOCATION;VALUE=URI;X-ADDRESS=Visalia Elks Lodge 3100 W Main St Visalia CA 93291 United States;X-APPLE-RADIUS=500;X-TITLE=3100 W Main St:geo:-119.3254884,36.3292721
END:VEVENT
BEGIN:VEVENT
DTSTART;TZID=UTC:20260617T193000
DTEND;TZID=UTC:20260617T193000
DTSTAMP:20260423T215314
CREATED:20180626T174458Z
LAST-MODIFIED:20180626T174458Z
UID:10001139-1781724600-1781724600@visaliaelks.org
SUMMARY:Vagabonds RV Club Meeting
DESCRIPTION:
URL:https://visaliaelks.org/events/vagabonds-rv-club-meeting-3/2026-06-17/
LOCATION:Visalia Elks Lodge\, 3100 W Main St\, Visalia\, CA\, 93291\, United States
CATEGORIES:Club Meeting
GEO:36.3292721;-119.3254884
X-APPLE-STRUCTURED-LOCATION;VALUE=URI;X-ADDRESS=Visalia Elks Lodge 3100 W Main St Visalia CA 93291 United States;X-APPLE-RADIUS=500;X-TITLE=3100 W Main St:geo:-119.3254884,36.3292721
END:VEVENT
BEGIN:VEVENT
DTSTART;TZID=UTC:20260709T183000
DTEND;TZID=UTC:20260709T183000
DTSTAMP:20260423T215314
CREATED:20250201T230619Z
LAST-MODIFIED:20250201T230715Z
UID:10001864-1783621800-1783621800@visaliaelks.org
SUMMARY:Cigar Club
DESCRIPTION:
URL:https://visaliaelks.org/events/cigar-club/2026-07-09/
LOCATION:Visalia Elks Lodge\, 3100 W Main St\, Visalia\, CA\, 93291\, United States
CATEGORIES:Club Meeting
GEO:36.3292721;-119.3254884
X-APPLE-STRUCTURED-LOCATION;VALUE=URI;X-ADDRESS=Visalia Elks Lodge 3100 W Main St Visalia CA 93291 United States;X-APPLE-RADIUS=500;X-TITLE=3100 W Main St:geo:-119.3254884,36.3292721
END:VEVENT
BEGIN:VEVENT
DTSTART;TZID=UTC:20260709T190000
DTEND;TZID=UTC:20260709T190000
DTSTAMP:20260423T215314
CREATED:20230605T175756Z
LAST-MODIFIED:20230605T175756Z
UID:10000279-1783623600-1783623600@visaliaelks.org
SUMMARY:Raider Booster Club
DESCRIPTION:The Las Vegas Raiders Booster Club of Tulare & Kings Counties have a meeting at the Elks on the second Thursday of each month at 7pm in the hall. No obligation to join the Club when attending. Family atmosphere. More information please contact President / Elks member Eliseo Zepeda 559-901-7406.
URL:https://visaliaelks.org/events/raider-booster-club/2026-07-09/
LOCATION:Visalia Elks Lodge\, 3100 W Main St\, Visalia\, CA\, 93291\, United States
CATEGORIES:Club Meeting
GEO:36.3292721;-119.3254884
X-APPLE-STRUCTURED-LOCATION;VALUE=URI;X-ADDRESS=Visalia Elks Lodge 3100 W Main St Visalia CA 93291 United States;X-APPLE-RADIUS=500;X-TITLE=3100 W Main St:geo:-119.3254884,36.3292721
END:VEVENT
BEGIN:VEVENT
DTSTART;TZID=UTC:20260715T193000
DTEND;TZID=UTC:20260715T193000
DTSTAMP:20260423T215314
CREATED:20180626T174458Z
LAST-MODIFIED:20180626T174458Z
UID:10001140-1784143800-1784143800@visaliaelks.org
SUMMARY:Vagabonds RV Club Meeting
DESCRIPTION:
URL:https://visaliaelks.org/events/vagabonds-rv-club-meeting-3/2026-07-15/
LOCATION:Visalia Elks Lodge\, 3100 W Main St\, Visalia\, CA\, 93291\, United States
CATEGORIES:Club Meeting
GEO:36.3292721;-119.3254884
X-APPLE-STRUCTURED-LOCATION;VALUE=URI;X-ADDRESS=Visalia Elks Lodge 3100 W Main St Visalia CA 93291 United States;X-APPLE-RADIUS=500;X-TITLE=3100 W Main St:geo:-119.3254884,36.3292721
END:VEVENT
BEGIN:VEVENT
DTSTART;TZID=UTC:20260813T183000
DTEND;TZID=UTC:20260813T183000
DTSTAMP:20260423T215314
CREATED:20250201T230619Z
LAST-MODIFIED:20250201T230715Z
UID:10001865-1786645800-1786645800@visaliaelks.org
SUMMARY:Cigar Club
DESCRIPTION:
URL:https://visaliaelks.org/events/cigar-club/2026-08-13/
LOCATION:Visalia Elks Lodge\, 3100 W Main St\, Visalia\, CA\, 93291\, United States
CATEGORIES:Club Meeting
GEO:36.3292721;-119.3254884
X-APPLE-STRUCTURED-LOCATION;VALUE=URI;X-ADDRESS=Visalia Elks Lodge 3100 W Main St Visalia CA 93291 United States;X-APPLE-RADIUS=500;X-TITLE=3100 W Main St:geo:-119.3254884,36.3292721
END:VEVENT
BEGIN:VEVENT
DTSTART;TZID=UTC:20260813T190000
DTEND;TZID=UTC:20260813T190000
DTSTAMP:20260423T215314
CREATED:20230605T175756Z
LAST-MODIFIED:20230605T175756Z
UID:10000280-1786647600-1786647600@visaliaelks.org
SUMMARY:Raider Booster Club
DESCRIPTION:The Las Vegas Raiders Booster Club of Tulare & Kings Counties have a meeting at the Elks on the second Thursday of each month at 7pm in the hall. No obligation to join the Club when attending. Family atmosphere. More information please contact President / Elks member Eliseo Zepeda 559-901-7406.
URL:https://visaliaelks.org/events/raider-booster-club/2026-08-13/
LOCATION:Visalia Elks Lodge\, 3100 W Main St\, Visalia\, CA\, 93291\, United States
CATEGORIES:Club Meeting
GEO:36.3292721;-119.3254884
X-APPLE-STRUCTURED-LOCATION;VALUE=URI;X-ADDRESS=Visalia Elks Lodge 3100 W Main St Visalia CA 93291 United States;X-APPLE-RADIUS=500;X-TITLE=3100 W Main St:geo:-119.3254884,36.3292721
END:VEVENT
BEGIN:VEVENT
DTSTART;TZID=UTC:20260819T193000
DTEND;TZID=UTC:20260819T193000
DTSTAMP:20260423T215314
CREATED:20180626T174458Z
LAST-MODIFIED:20180626T174458Z
UID:10001141-1787167800-1787167800@visaliaelks.org
SUMMARY:Vagabonds RV Club Meeting
DESCRIPTION:
URL:https://visaliaelks.org/events/vagabonds-rv-club-meeting-3/2026-08-19/
LOCATION:Visalia Elks Lodge\, 3100 W Main St\, Visalia\, CA\, 93291\, United States
CATEGORIES:Club Meeting
GEO:36.3292721;-119.3254884
X-APPLE-STRUCTURED-LOCATION;VALUE=URI;X-ADDRESS=Visalia Elks Lodge 3100 W Main St Visalia CA 93291 United States;X-APPLE-RADIUS=500;X-TITLE=3100 W Main St:geo:-119.3254884,36.3292721
END:VEVENT
BEGIN:VEVENT
DTSTART;TZID=UTC:20260910T183000
DTEND;TZID=UTC:20260910T183000
DTSTAMP:20260423T215314
CREATED:20250201T230619Z
LAST-MODIFIED:20250201T230715Z
UID:10001866-1789065000-1789065000@visaliaelks.org
SUMMARY:Cigar Club
DESCRIPTION:
URL:https://visaliaelks.org/events/cigar-club/2026-09-10/
LOCATION:Visalia Elks Lodge\, 3100 W Main St\, Visalia\, CA\, 93291\, United States
CATEGORIES:Club Meeting
GEO:36.3292721;-119.3254884
X-APPLE-STRUCTURED-LOCATION;VALUE=URI;X-ADDRESS=Visalia Elks Lodge 3100 W Main St Visalia CA 93291 United States;X-APPLE-RADIUS=500;X-TITLE=3100 W Main St:geo:-119.3254884,36.3292721
END:VEVENT
BEGIN:VEVENT
DTSTART;TZID=UTC:20260910T190000
DTEND;TZID=UTC:20260910T190000
DTSTAMP:20260423T215314
CREATED:20230605T175756Z
LAST-MODIFIED:20230605T175756Z
UID:10000281-1789066800-1789066800@visaliaelks.org
SUMMARY:Raider Booster Club
DESCRIPTION:The Las Vegas Raiders Booster Club of Tulare & Kings Counties have a meeting at the Elks on the second Thursday of each month at 7pm in the hall. No obligation to join the Club when attending. Family atmosphere. More information please contact President / Elks member Eliseo Zepeda 559-901-7406.
URL:https://visaliaelks.org/events/raider-booster-club/2026-09-10/
LOCATION:Visalia Elks Lodge\, 3100 W Main St\, Visalia\, CA\, 93291\, United States
CATEGORIES:Club Meeting
GEO:36.3292721;-119.3254884
X-APPLE-STRUCTURED-LOCATION;VALUE=URI;X-ADDRESS=Visalia Elks Lodge 3100 W Main St Visalia CA 93291 United States;X-APPLE-RADIUS=500;X-TITLE=3100 W Main St:geo:-119.3254884,36.3292721
END:VEVENT
BEGIN:VEVENT
DTSTART;TZID=UTC:20260916T193000
DTEND;TZID=UTC:20260916T193000
DTSTAMP:20260423T215314
CREATED:20180626T174458Z
LAST-MODIFIED:20180626T174458Z
UID:10001142-1789587000-1789587000@visaliaelks.org
SUMMARY:Vagabonds RV Club Meeting
DESCRIPTION:
URL:https://visaliaelks.org/events/vagabonds-rv-club-meeting-3/2026-09-16/
LOCATION:Visalia Elks Lodge\, 3100 W Main St\, Visalia\, CA\, 93291\, United States
CATEGORIES:Club Meeting
GEO:36.3292721;-119.3254884
X-APPLE-STRUCTURED-LOCATION;VALUE=URI;X-ADDRESS=Visalia Elks Lodge 3100 W Main St Visalia CA 93291 United States;X-APPLE-RADIUS=500;X-TITLE=3100 W Main St:geo:-119.3254884,36.3292721
END:VEVENT
BEGIN:VEVENT
DTSTART;TZID=UTC:20261008T183000
DTEND;TZID=UTC:20261008T183000
DTSTAMP:20260423T215314
CREATED:20250201T230619Z
LAST-MODIFIED:20250201T230715Z
UID:10001867-1791484200-1791484200@visaliaelks.org
SUMMARY:Cigar Club
DESCRIPTION:
URL:https://visaliaelks.org/events/cigar-club/2026-10-08/
LOCATION:Visalia Elks Lodge\, 3100 W Main St\, Visalia\, CA\, 93291\, United States
CATEGORIES:Club Meeting
GEO:36.3292721;-119.3254884
X-APPLE-STRUCTURED-LOCATION;VALUE=URI;X-ADDRESS=Visalia Elks Lodge 3100 W Main St Visalia CA 93291 United States;X-APPLE-RADIUS=500;X-TITLE=3100 W Main St:geo:-119.3254884,36.3292721
END:VEVENT
BEGIN:VEVENT
DTSTART;TZID=UTC:20261008T190000
DTEND;TZID=UTC:20261008T190000
DTSTAMP:20260423T215314
CREATED:20230605T175756Z
LAST-MODIFIED:20230605T175756Z
UID:10000282-1791486000-1791486000@visaliaelks.org
SUMMARY:Raider Booster Club
DESCRIPTION:The Las Vegas Raiders Booster Club of Tulare & Kings Counties have a meeting at the Elks on the second Thursday of each month at 7pm in the hall. No obligation to join the Club when attending. Family atmosphere. More information please contact President / Elks member Eliseo Zepeda 559-901-7406.
URL:https://visaliaelks.org/events/raider-booster-club/2026-10-08/
LOCATION:Visalia Elks Lodge\, 3100 W Main St\, Visalia\, CA\, 93291\, United States
CATEGORIES:Club Meeting
GEO:36.3292721;-119.3254884
X-APPLE-STRUCTURED-LOCATION;VALUE=URI;X-ADDRESS=Visalia Elks Lodge 3100 W Main St Visalia CA 93291 United States;X-APPLE-RADIUS=500;X-TITLE=3100 W Main St:geo:-119.3254884,36.3292721
END:VEVENT
BEGIN:VEVENT
DTSTART;TZID=UTC:20261021T193000
DTEND;TZID=UTC:20261021T193000
DTSTAMP:20260423T215314
CREATED:20180626T174458Z
LAST-MODIFIED:20180626T174458Z
UID:10001143-1792611000-1792611000@visaliaelks.org
SUMMARY:Vagabonds RV Club Meeting
DESCRIPTION:
URL:https://visaliaelks.org/events/vagabonds-rv-club-meeting-3/2026-10-21/
LOCATION:Visalia Elks Lodge\, 3100 W Main St\, Visalia\, CA\, 93291\, United States
CATEGORIES:Club Meeting
GEO:36.3292721;-119.3254884
X-APPLE-STRUCTURED-LOCATION;VALUE=URI;X-ADDRESS=Visalia Elks Lodge 3100 W Main St Visalia CA 93291 United States;X-APPLE-RADIUS=500;X-TITLE=3100 W Main St:geo:-119.3254884,36.3292721
END:VEVENT
BEGIN:VEVENT
DTSTART;TZID=UTC:20261112T183000
DTEND;TZID=UTC:20261112T183000
DTSTAMP:20260423T215314
CREATED:20250201T230619Z
LAST-MODIFIED:20250201T230715Z
UID:10001868-1794508200-1794508200@visaliaelks.org
SUMMARY:Cigar Club
DESCRIPTION:
URL:https://visaliaelks.org/events/cigar-club/2026-11-12/
LOCATION:Visalia Elks Lodge\, 3100 W Main St\, Visalia\, CA\, 93291\, United States
CATEGORIES:Club Meeting
GEO:36.3292721;-119.3254884
X-APPLE-STRUCTURED-LOCATION;VALUE=URI;X-ADDRESS=Visalia Elks Lodge 3100 W Main St Visalia CA 93291 United States;X-APPLE-RADIUS=500;X-TITLE=3100 W Main St:geo:-119.3254884,36.3292721
END:VEVENT
BEGIN:VEVENT
DTSTART;TZID=UTC:20261112T190000
DTEND;TZID=UTC:20261112T190000
DTSTAMP:20260423T215314
CREATED:20230605T175756Z
LAST-MODIFIED:20230605T175756Z
UID:10000283-1794510000-1794510000@visaliaelks.org
SUMMARY:Raider Booster Club
DESCRIPTION:The Las Vegas Raiders Booster Club of Tulare & Kings Counties have a meeting at the Elks on the second Thursday of each month at 7pm in the hall. No obligation to join the Club when attending. Family atmosphere. More information please contact President / Elks member Eliseo Zepeda 559-901-7406.
URL:https://visaliaelks.org/events/raider-booster-club/2026-11-12/
LOCATION:Visalia Elks Lodge\, 3100 W Main St\, Visalia\, CA\, 93291\, United States
CATEGORIES:Club Meeting
GEO:36.3292721;-119.3254884
X-APPLE-STRUCTURED-LOCATION;VALUE=URI;X-ADDRESS=Visalia Elks Lodge 3100 W Main St Visalia CA 93291 United States;X-APPLE-RADIUS=500;X-TITLE=3100 W Main St:geo:-119.3254884,36.3292721
END:VEVENT
BEGIN:VEVENT
DTSTART;TZID=UTC:20261118T193000
DTEND;TZID=UTC:20261118T193000
DTSTAMP:20260423T215314
CREATED:20180626T174458Z
LAST-MODIFIED:20180626T174458Z
UID:10001144-1795030200-1795030200@visaliaelks.org
SUMMARY:Vagabonds RV Club Meeting
DESCRIPTION:
URL:https://visaliaelks.org/events/vagabonds-rv-club-meeting-3/2026-11-18/
LOCATION:Visalia Elks Lodge\, 3100 W Main St\, Visalia\, CA\, 93291\, United States
CATEGORIES:Club Meeting
GEO:36.3292721;-119.3254884
X-APPLE-STRUCTURED-LOCATION;VALUE=URI;X-ADDRESS=Visalia Elks Lodge 3100 W Main St Visalia CA 93291 United States;X-APPLE-RADIUS=500;X-TITLE=3100 W Main St:geo:-119.3254884,36.3292721
END:VEVENT
BEGIN:VEVENT
DTSTART;TZID=UTC:20261210T183000
DTEND;TZID=UTC:20261210T183000
DTSTAMP:20260423T215314
CREATED:20250201T230619Z
LAST-MODIFIED:20250201T230715Z
UID:10001869-1796927400-1796927400@visaliaelks.org
SUMMARY:Cigar Club
DESCRIPTION:
URL:https://visaliaelks.org/events/cigar-club/2026-12-10/
LOCATION:Visalia Elks Lodge\, 3100 W Main St\, Visalia\, CA\, 93291\, United States
CATEGORIES:Club Meeting
GEO:36.3292721;-119.3254884
X-APPLE-STRUCTURED-LOCATION;VALUE=URI;X-ADDRESS=Visalia Elks Lodge 3100 W Main St Visalia CA 93291 United States;X-APPLE-RADIUS=500;X-TITLE=3100 W Main St:geo:-119.3254884,36.3292721
END:VEVENT
BEGIN:VEVENT
DTSTART;TZID=UTC:20261210T190000
DTEND;TZID=UTC:20261210T190000
DTSTAMP:20260423T215314
CREATED:20230605T175756Z
LAST-MODIFIED:20230605T175756Z
UID:10000284-1796929200-1796929200@visaliaelks.org
SUMMARY:Raider Booster Club
DESCRIPTION:The Las Vegas Raiders Booster Club of Tulare & Kings Counties have a meeting at the Elks on the second Thursday of each month at 7pm in the hall. No obligation to join the Club when attending. Family atmosphere. More information please contact President / Elks member Eliseo Zepeda 559-901-7406.
URL:https://visaliaelks.org/events/raider-booster-club/2026-12-10/
LOCATION:Visalia Elks Lodge\, 3100 W Main St\, Visalia\, CA\, 93291\, United States
CATEGORIES:Club Meeting
GEO:36.3292721;-119.3254884
X-APPLE-STRUCTURED-LOCATION;VALUE=URI;X-ADDRESS=Visalia Elks Lodge 3100 W Main St Visalia CA 93291 United States;X-APPLE-RADIUS=500;X-TITLE=3100 W Main St:geo:-119.3254884,36.3292721
END:VEVENT
BEGIN:VEVENT
DTSTART;TZID=UTC:20261216T193000
DTEND;TZID=UTC:20261216T193000
DTSTAMP:20260423T215314
CREATED:20180626T174458Z
LAST-MODIFIED:20180626T174458Z
UID:10001145-1797449400-1797449400@visaliaelks.org
SUMMARY:Vagabonds RV Club Meeting
DESCRIPTION:
URL:https://visaliaelks.org/events/vagabonds-rv-club-meeting-3/2026-12-16/
LOCATION:Visalia Elks Lodge\, 3100 W Main St\, Visalia\, CA\, 93291\, United States
CATEGORIES:Club Meeting
GEO:36.3292721;-119.3254884
X-APPLE-STRUCTURED-LOCATION;VALUE=URI;X-ADDRESS=Visalia Elks Lodge 3100 W Main St Visalia CA 93291 United States;X-APPLE-RADIUS=500;X-TITLE=3100 W Main St:geo:-119.3254884,36.3292721
END:VEVENT
BEGIN:VEVENT
DTSTART;TZID=UTC:20270114T183000
DTEND;TZID=UTC:20270114T183000
DTSTAMP:20260423T215314
CREATED:20250201T230619Z
LAST-MODIFIED:20250201T230715Z
UID:10001870-1799951400-1799951400@visaliaelks.org
SUMMARY:Cigar Club
DESCRIPTION:
URL:https://visaliaelks.org/events/cigar-club/2027-01-14/
LOCATION:Visalia Elks Lodge\, 3100 W Main St\, Visalia\, CA\, 93291\, United States
CATEGORIES:Club Meeting
GEO:36.3292721;-119.3254884
X-APPLE-STRUCTURED-LOCATION;VALUE=URI;X-ADDRESS=Visalia Elks Lodge 3100 W Main St Visalia CA 93291 United States;X-APPLE-RADIUS=500;X-TITLE=3100 W Main St:geo:-119.3254884,36.3292721
END:VEVENT
BEGIN:VEVENT
DTSTART;TZID=UTC:20270114T190000
DTEND;TZID=UTC:20270114T190000
DTSTAMP:20260423T215314
CREATED:20230605T175756Z
LAST-MODIFIED:20230605T175756Z
UID:10000285-1799953200-1799953200@visaliaelks.org
SUMMARY:Raider Booster Club
DESCRIPTION:The Las Vegas Raiders Booster Club of Tulare & Kings Counties have a meeting at the Elks on the second Thursday of each month at 7pm in the hall. No obligation to join the Club when attending. Family atmosphere. More information please contact President / Elks member Eliseo Zepeda 559-901-7406.
URL:https://visaliaelks.org/events/raider-booster-club/2027-01-14/
LOCATION:Visalia Elks Lodge\, 3100 W Main St\, Visalia\, CA\, 93291\, United States
CATEGORIES:Club Meeting
GEO:36.3292721;-119.3254884
X-APPLE-STRUCTURED-LOCATION;VALUE=URI;X-ADDRESS=Visalia Elks Lodge 3100 W Main St Visalia CA 93291 United States;X-APPLE-RADIUS=500;X-TITLE=3100 W Main St:geo:-119.3254884,36.3292721
END:VEVENT
BEGIN:VEVENT
DTSTART;TZID=UTC:20270120T193000
DTEND;TZID=UTC:20270120T193000
DTSTAMP:20260423T215314
CREATED:20180626T174458Z
LAST-MODIFIED:20180626T174458Z
UID:10001146-1800473400-1800473400@visaliaelks.org
SUMMARY:Vagabonds RV Club Meeting
DESCRIPTION:
URL:https://visaliaelks.org/events/vagabonds-rv-club-meeting-3/2027-01-20/
LOCATION:Visalia Elks Lodge\, 3100 W Main St\, Visalia\, CA\, 93291\, United States
CATEGORIES:Club Meeting
GEO:36.3292721;-119.3254884
X-APPLE-STRUCTURED-LOCATION;VALUE=URI;X-ADDRESS=Visalia Elks Lodge 3100 W Main St Visalia CA 93291 United States;X-APPLE-RADIUS=500;X-TITLE=3100 W Main St:geo:-119.3254884,36.3292721
END:VEVENT
BEGIN:VEVENT
DTSTART;TZID=UTC:20270211T183000
DTEND;TZID=UTC:20270211T183000
DTSTAMP:20260423T215314
CREATED:20250201T230619Z
LAST-MODIFIED:20250201T230715Z
UID:10001871-1802370600-1802370600@visaliaelks.org
SUMMARY:Cigar Club
DESCRIPTION:
URL:https://visaliaelks.org/events/cigar-club/2027-02-11/
LOCATION:Visalia Elks Lodge\, 3100 W Main St\, Visalia\, CA\, 93291\, United States
CATEGORIES:Club Meeting
GEO:36.3292721;-119.3254884
X-APPLE-STRUCTURED-LOCATION;VALUE=URI;X-ADDRESS=Visalia Elks Lodge 3100 W Main St Visalia CA 93291 United States;X-APPLE-RADIUS=500;X-TITLE=3100 W Main St:geo:-119.3254884,36.3292721
END:VEVENT
BEGIN:VEVENT
DTSTART;TZID=UTC:20270211T190000
DTEND;TZID=UTC:20270211T190000
DTSTAMP:20260423T215314
CREATED:20230605T175756Z
LAST-MODIFIED:20230605T175756Z
UID:10001949-1802372400-1802372400@visaliaelks.org
SUMMARY:Raider Booster Club
DESCRIPTION:The Las Vegas Raiders Booster Club of Tulare & Kings Counties have a meeting at the Elks on the second Thursday of each month at 7pm in the hall. No obligation to join the Club when attending. Family atmosphere. More information please contact President / Elks member Eliseo Zepeda 559-901-7406.
URL:https://visaliaelks.org/events/raider-booster-club/2027-02-11/
LOCATION:Visalia Elks Lodge\, 3100 W Main St\, Visalia\, CA\, 93291\, United States
CATEGORIES:Club Meeting
GEO:36.3292721;-119.3254884
X-APPLE-STRUCTURED-LOCATION;VALUE=URI;X-ADDRESS=Visalia Elks Lodge 3100 W Main St Visalia CA 93291 United States;X-APPLE-RADIUS=500;X-TITLE=3100 W Main St:geo:-119.3254884,36.3292721
END:VEVENT
BEGIN:VEVENT
DTSTART;TZID=UTC:20270217T193000
DTEND;TZID=UTC:20270217T193000
DTSTAMP:20260423T215314
CREATED:20180626T174458Z
LAST-MODIFIED:20180626T174458Z
UID:10001536-1802892600-1802892600@visaliaelks.org
SUMMARY:Vagabonds RV Club Meeting
DESCRIPTION:
URL:https://visaliaelks.org/events/vagabonds-rv-club-meeting-3/2027-02-17/
LOCATION:Visalia Elks Lodge\, 3100 W Main St\, Visalia\, CA\, 93291\, United States
CATEGORIES:Club Meeting
GEO:36.3292721;-119.3254884
X-APPLE-STRUCTURED-LOCATION;VALUE=URI;X-ADDRESS=Visalia Elks Lodge 3100 W Main St Visalia CA 93291 United States;X-APPLE-RADIUS=500;X-TITLE=3100 W Main St:geo:-119.3254884,36.3292721
END:VEVENT
END:VCALENDAR