BEGIN:VCALENDAR
VERSION:2.0
PRODID:-//Visalia Elks Lodge 1298 - ECPv6.15.20//NONSGML v1.0//EN
CALSCALE:GREGORIAN
METHOD:PUBLISH
X-ORIGINAL-URL:https://visaliaelks.org
X-WR-CALDESC:Events for Visalia Elks Lodge 1298
REFRESH-INTERVAL;VALUE=DURATION:PT1H
X-Robots-Tag:noindex
X-PUBLISHED-TTL:PT1H
BEGIN:VTIMEZONE
TZID:UTC
BEGIN:STANDARD
TZOFFSETFROM:+0000
TZOFFSETTO:+0000
TZNAME:UTC
DTSTART:20260101T000000
END:STANDARD
END:VTIMEZONE
BEGIN:VEVENT
DTSTART;TZID=UTC:20270616T193000
DTEND;TZID=UTC:20270616T193000
DTSTAMP:20260425T102006
CREATED:20180626T174458Z
LAST-MODIFIED:20180626T174458Z
UID:10001540-1813174200-1813174200@visaliaelks.org
SUMMARY:Vagabonds RV Club Meeting
DESCRIPTION:
URL:https://visaliaelks.org/events/vagabonds-rv-club-meeting-3/2027-06-16/
LOCATION:Visalia Elks Lodge\, 3100 W Main St\, Visalia\, CA\, 93291\, United States
CATEGORIES:Club Meeting
GEO:36.3292721;-119.3254884
X-APPLE-STRUCTURED-LOCATION;VALUE=URI;X-ADDRESS=Visalia Elks Lodge 3100 W Main St Visalia CA 93291 United States;X-APPLE-RADIUS=500;X-TITLE=3100 W Main St:geo:-119.3254884,36.3292721
END:VEVENT
BEGIN:VEVENT
DTSTART;TZID=UTC:20270708T183000
DTEND;TZID=UTC:20270708T183000
DTSTAMP:20260425T102006
CREATED:20250201T230619Z
LAST-MODIFIED:20250201T230715Z
UID:10001876-1815071400-1815071400@visaliaelks.org
SUMMARY:Cigar Club
DESCRIPTION:
URL:https://visaliaelks.org/events/cigar-club/2027-07-08/
LOCATION:Visalia Elks Lodge\, 3100 W Main St\, Visalia\, CA\, 93291\, United States
CATEGORIES:Club Meeting
GEO:36.3292721;-119.3254884
X-APPLE-STRUCTURED-LOCATION;VALUE=URI;X-ADDRESS=Visalia Elks Lodge 3100 W Main St Visalia CA 93291 United States;X-APPLE-RADIUS=500;X-TITLE=3100 W Main St:geo:-119.3254884,36.3292721
END:VEVENT
BEGIN:VEVENT
DTSTART;TZID=UTC:20270708T190000
DTEND;TZID=UTC:20270708T190000
DTSTAMP:20260425T102006
CREATED:20230605T175756Z
LAST-MODIFIED:20230605T175756Z
UID:10001954-1815073200-1815073200@visaliaelks.org
SUMMARY:Raider Booster Club
DESCRIPTION:The Las Vegas Raiders Booster Club of Tulare & Kings Counties have a meeting at the Elks on the second Thursday of each month at 7pm in the hall. No obligation to join the Club when attending. Family atmosphere. More information please contact President / Elks member Eliseo Zepeda 559-901-7406.
URL:https://visaliaelks.org/events/raider-booster-club/2027-07-08/
LOCATION:Visalia Elks Lodge\, 3100 W Main St\, Visalia\, CA\, 93291\, United States
CATEGORIES:Club Meeting
GEO:36.3292721;-119.3254884
X-APPLE-STRUCTURED-LOCATION;VALUE=URI;X-ADDRESS=Visalia Elks Lodge 3100 W Main St Visalia CA 93291 United States;X-APPLE-RADIUS=500;X-TITLE=3100 W Main St:geo:-119.3254884,36.3292721
END:VEVENT
BEGIN:VEVENT
DTSTART;TZID=UTC:20270721T193000
DTEND;TZID=UTC:20270721T193000
DTSTAMP:20260425T102006
CREATED:20180626T174458Z
LAST-MODIFIED:20180626T174458Z
UID:10001541-1816198200-1816198200@visaliaelks.org
SUMMARY:Vagabonds RV Club Meeting
DESCRIPTION:
URL:https://visaliaelks.org/events/vagabonds-rv-club-meeting-3/2027-07-21/
LOCATION:Visalia Elks Lodge\, 3100 W Main St\, Visalia\, CA\, 93291\, United States
CATEGORIES:Club Meeting
GEO:36.3292721;-119.3254884
X-APPLE-STRUCTURED-LOCATION;VALUE=URI;X-ADDRESS=Visalia Elks Lodge 3100 W Main St Visalia CA 93291 United States;X-APPLE-RADIUS=500;X-TITLE=3100 W Main St:geo:-119.3254884,36.3292721
END:VEVENT
BEGIN:VEVENT
DTSTART;TZID=UTC:20270812T183000
DTEND;TZID=UTC:20270812T183000
DTSTAMP:20260425T102006
CREATED:20250201T230619Z
LAST-MODIFIED:20250201T230715Z
UID:10001877-1818095400-1818095400@visaliaelks.org
SUMMARY:Cigar Club
DESCRIPTION:
URL:https://visaliaelks.org/events/cigar-club/2027-08-12/
LOCATION:Visalia Elks Lodge\, 3100 W Main St\, Visalia\, CA\, 93291\, United States
CATEGORIES:Club Meeting
GEO:36.3292721;-119.3254884
X-APPLE-STRUCTURED-LOCATION;VALUE=URI;X-ADDRESS=Visalia Elks Lodge 3100 W Main St Visalia CA 93291 United States;X-APPLE-RADIUS=500;X-TITLE=3100 W Main St:geo:-119.3254884,36.3292721
END:VEVENT
BEGIN:VEVENT
DTSTART;TZID=UTC:20270812T190000
DTEND;TZID=UTC:20270812T190000
DTSTAMP:20260425T102006
CREATED:20230605T175756Z
LAST-MODIFIED:20230605T175756Z
UID:10001955-1818097200-1818097200@visaliaelks.org
SUMMARY:Raider Booster Club
DESCRIPTION:The Las Vegas Raiders Booster Club of Tulare & Kings Counties have a meeting at the Elks on the second Thursday of each month at 7pm in the hall. No obligation to join the Club when attending. Family atmosphere. More information please contact President / Elks member Eliseo Zepeda 559-901-7406.
URL:https://visaliaelks.org/events/raider-booster-club/2027-08-12/
LOCATION:Visalia Elks Lodge\, 3100 W Main St\, Visalia\, CA\, 93291\, United States
CATEGORIES:Club Meeting
GEO:36.3292721;-119.3254884
X-APPLE-STRUCTURED-LOCATION;VALUE=URI;X-ADDRESS=Visalia Elks Lodge 3100 W Main St Visalia CA 93291 United States;X-APPLE-RADIUS=500;X-TITLE=3100 W Main St:geo:-119.3254884,36.3292721
END:VEVENT
BEGIN:VEVENT
DTSTART;TZID=UTC:20270818T193000
DTEND;TZID=UTC:20270818T193000
DTSTAMP:20260425T102006
CREATED:20180626T174458Z
LAST-MODIFIED:20180626T174458Z
UID:10001542-1818617400-1818617400@visaliaelks.org
SUMMARY:Vagabonds RV Club Meeting
DESCRIPTION:
URL:https://visaliaelks.org/events/vagabonds-rv-club-meeting-3/2027-08-18/
LOCATION:Visalia Elks Lodge\, 3100 W Main St\, Visalia\, CA\, 93291\, United States
CATEGORIES:Club Meeting
GEO:36.3292721;-119.3254884
X-APPLE-STRUCTURED-LOCATION;VALUE=URI;X-ADDRESS=Visalia Elks Lodge 3100 W Main St Visalia CA 93291 United States;X-APPLE-RADIUS=500;X-TITLE=3100 W Main St:geo:-119.3254884,36.3292721
END:VEVENT
BEGIN:VEVENT
DTSTART;TZID=UTC:20270909T183000
DTEND;TZID=UTC:20270909T183000
DTSTAMP:20260425T102006
CREATED:20250201T230619Z
LAST-MODIFIED:20250201T230715Z
UID:10001878-1820514600-1820514600@visaliaelks.org
SUMMARY:Cigar Club
DESCRIPTION:
URL:https://visaliaelks.org/events/cigar-club/2027-09-09/
LOCATION:Visalia Elks Lodge\, 3100 W Main St\, Visalia\, CA\, 93291\, United States
CATEGORIES:Club Meeting
GEO:36.3292721;-119.3254884
X-APPLE-STRUCTURED-LOCATION;VALUE=URI;X-ADDRESS=Visalia Elks Lodge 3100 W Main St Visalia CA 93291 United States;X-APPLE-RADIUS=500;X-TITLE=3100 W Main St:geo:-119.3254884,36.3292721
END:VEVENT
BEGIN:VEVENT
DTSTART;TZID=UTC:20270909T190000
DTEND;TZID=UTC:20270909T190000
DTSTAMP:20260425T102006
CREATED:20230605T175756Z
LAST-MODIFIED:20230605T175756Z
UID:10001956-1820516400-1820516400@visaliaelks.org
SUMMARY:Raider Booster Club
DESCRIPTION:The Las Vegas Raiders Booster Club of Tulare & Kings Counties have a meeting at the Elks on the second Thursday of each month at 7pm in the hall. No obligation to join the Club when attending. Family atmosphere. More information please contact President / Elks member Eliseo Zepeda 559-901-7406.
URL:https://visaliaelks.org/events/raider-booster-club/2027-09-09/
LOCATION:Visalia Elks Lodge\, 3100 W Main St\, Visalia\, CA\, 93291\, United States
CATEGORIES:Club Meeting
GEO:36.3292721;-119.3254884
X-APPLE-STRUCTURED-LOCATION;VALUE=URI;X-ADDRESS=Visalia Elks Lodge 3100 W Main St Visalia CA 93291 United States;X-APPLE-RADIUS=500;X-TITLE=3100 W Main St:geo:-119.3254884,36.3292721
END:VEVENT
BEGIN:VEVENT
DTSTART;TZID=UTC:20270915T193000
DTEND;TZID=UTC:20270915T193000
DTSTAMP:20260425T102006
CREATED:20180626T174458Z
LAST-MODIFIED:20180626T174458Z
UID:10001543-1821036600-1821036600@visaliaelks.org
SUMMARY:Vagabonds RV Club Meeting
DESCRIPTION:
URL:https://visaliaelks.org/events/vagabonds-rv-club-meeting-3/2027-09-15/
LOCATION:Visalia Elks Lodge\, 3100 W Main St\, Visalia\, CA\, 93291\, United States
CATEGORIES:Club Meeting
GEO:36.3292721;-119.3254884
X-APPLE-STRUCTURED-LOCATION;VALUE=URI;X-ADDRESS=Visalia Elks Lodge 3100 W Main St Visalia CA 93291 United States;X-APPLE-RADIUS=500;X-TITLE=3100 W Main St:geo:-119.3254884,36.3292721
END:VEVENT
BEGIN:VEVENT
DTSTART;TZID=UTC:20271014T183000
DTEND;TZID=UTC:20271014T183000
DTSTAMP:20260425T102006
CREATED:20250201T230619Z
LAST-MODIFIED:20250201T230715Z
UID:10001879-1823538600-1823538600@visaliaelks.org
SUMMARY:Cigar Club
DESCRIPTION:
URL:https://visaliaelks.org/events/cigar-club/2027-10-14/
LOCATION:Visalia Elks Lodge\, 3100 W Main St\, Visalia\, CA\, 93291\, United States
CATEGORIES:Club Meeting
GEO:36.3292721;-119.3254884
X-APPLE-STRUCTURED-LOCATION;VALUE=URI;X-ADDRESS=Visalia Elks Lodge 3100 W Main St Visalia CA 93291 United States;X-APPLE-RADIUS=500;X-TITLE=3100 W Main St:geo:-119.3254884,36.3292721
END:VEVENT
BEGIN:VEVENT
DTSTART;TZID=UTC:20271014T190000
DTEND;TZID=UTC:20271014T190000
DTSTAMP:20260425T102006
CREATED:20230605T175756Z
LAST-MODIFIED:20230605T175756Z
UID:10001957-1823540400-1823540400@visaliaelks.org
SUMMARY:Raider Booster Club
DESCRIPTION:The Las Vegas Raiders Booster Club of Tulare & Kings Counties have a meeting at the Elks on the second Thursday of each month at 7pm in the hall. No obligation to join the Club when attending. Family atmosphere. More information please contact President / Elks member Eliseo Zepeda 559-901-7406.
URL:https://visaliaelks.org/events/raider-booster-club/2027-10-14/
LOCATION:Visalia Elks Lodge\, 3100 W Main St\, Visalia\, CA\, 93291\, United States
CATEGORIES:Club Meeting
GEO:36.3292721;-119.3254884
X-APPLE-STRUCTURED-LOCATION;VALUE=URI;X-ADDRESS=Visalia Elks Lodge 3100 W Main St Visalia CA 93291 United States;X-APPLE-RADIUS=500;X-TITLE=3100 W Main St:geo:-119.3254884,36.3292721
END:VEVENT
BEGIN:VEVENT
DTSTART;TZID=UTC:20271020T193000
DTEND;TZID=UTC:20271020T193000
DTSTAMP:20260425T102006
CREATED:20180626T174458Z
LAST-MODIFIED:20180626T174458Z
UID:10001544-1824060600-1824060600@visaliaelks.org
SUMMARY:Vagabonds RV Club Meeting
DESCRIPTION:
URL:https://visaliaelks.org/events/vagabonds-rv-club-meeting-3/2027-10-20/
LOCATION:Visalia Elks Lodge\, 3100 W Main St\, Visalia\, CA\, 93291\, United States
CATEGORIES:Club Meeting
GEO:36.3292721;-119.3254884
X-APPLE-STRUCTURED-LOCATION;VALUE=URI;X-ADDRESS=Visalia Elks Lodge 3100 W Main St Visalia CA 93291 United States;X-APPLE-RADIUS=500;X-TITLE=3100 W Main St:geo:-119.3254884,36.3292721
END:VEVENT
BEGIN:VEVENT
DTSTART;TZID=UTC:20271111T183000
DTEND;TZID=UTC:20271111T183000
DTSTAMP:20260425T102006
CREATED:20250201T230619Z
LAST-MODIFIED:20250201T230715Z
UID:10001880-1825957800-1825957800@visaliaelks.org
SUMMARY:Cigar Club
DESCRIPTION:
URL:https://visaliaelks.org/events/cigar-club/2027-11-11/
LOCATION:Visalia Elks Lodge\, 3100 W Main St\, Visalia\, CA\, 93291\, United States
CATEGORIES:Club Meeting
GEO:36.3292721;-119.3254884
X-APPLE-STRUCTURED-LOCATION;VALUE=URI;X-ADDRESS=Visalia Elks Lodge 3100 W Main St Visalia CA 93291 United States;X-APPLE-RADIUS=500;X-TITLE=3100 W Main St:geo:-119.3254884,36.3292721
END:VEVENT
BEGIN:VEVENT
DTSTART;TZID=UTC:20271111T190000
DTEND;TZID=UTC:20271111T190000
DTSTAMP:20260425T102006
CREATED:20230605T175756Z
LAST-MODIFIED:20230605T175756Z
UID:10001958-1825959600-1825959600@visaliaelks.org
SUMMARY:Raider Booster Club
DESCRIPTION:The Las Vegas Raiders Booster Club of Tulare & Kings Counties have a meeting at the Elks on the second Thursday of each month at 7pm in the hall. No obligation to join the Club when attending. Family atmosphere. More information please contact President / Elks member Eliseo Zepeda 559-901-7406.
URL:https://visaliaelks.org/events/raider-booster-club/2027-11-11/
LOCATION:Visalia Elks Lodge\, 3100 W Main St\, Visalia\, CA\, 93291\, United States
CATEGORIES:Club Meeting
GEO:36.3292721;-119.3254884
X-APPLE-STRUCTURED-LOCATION;VALUE=URI;X-ADDRESS=Visalia Elks Lodge 3100 W Main St Visalia CA 93291 United States;X-APPLE-RADIUS=500;X-TITLE=3100 W Main St:geo:-119.3254884,36.3292721
END:VEVENT
BEGIN:VEVENT
DTSTART;TZID=UTC:20271117T193000
DTEND;TZID=UTC:20271117T193000
DTSTAMP:20260425T102006
CREATED:20180626T174458Z
LAST-MODIFIED:20180626T174458Z
UID:10001545-1826479800-1826479800@visaliaelks.org
SUMMARY:Vagabonds RV Club Meeting
DESCRIPTION:
URL:https://visaliaelks.org/events/vagabonds-rv-club-meeting-3/2027-11-17/
LOCATION:Visalia Elks Lodge\, 3100 W Main St\, Visalia\, CA\, 93291\, United States
CATEGORIES:Club Meeting
GEO:36.3292721;-119.3254884
X-APPLE-STRUCTURED-LOCATION;VALUE=URI;X-ADDRESS=Visalia Elks Lodge 3100 W Main St Visalia CA 93291 United States;X-APPLE-RADIUS=500;X-TITLE=3100 W Main St:geo:-119.3254884,36.3292721
END:VEVENT
BEGIN:VEVENT
DTSTART;TZID=UTC:20271209T183000
DTEND;TZID=UTC:20271209T183000
DTSTAMP:20260425T102006
CREATED:20250201T230619Z
LAST-MODIFIED:20250201T230715Z
UID:10001881-1828377000-1828377000@visaliaelks.org
SUMMARY:Cigar Club
DESCRIPTION:
URL:https://visaliaelks.org/events/cigar-club/2027-12-09/
LOCATION:Visalia Elks Lodge\, 3100 W Main St\, Visalia\, CA\, 93291\, United States
CATEGORIES:Club Meeting
GEO:36.3292721;-119.3254884
X-APPLE-STRUCTURED-LOCATION;VALUE=URI;X-ADDRESS=Visalia Elks Lodge 3100 W Main St Visalia CA 93291 United States;X-APPLE-RADIUS=500;X-TITLE=3100 W Main St:geo:-119.3254884,36.3292721
END:VEVENT
BEGIN:VEVENT
DTSTART;TZID=UTC:20271209T190000
DTEND;TZID=UTC:20271209T190000
DTSTAMP:20260425T102006
CREATED:20230605T175756Z
LAST-MODIFIED:20230605T175756Z
UID:10001959-1828378800-1828378800@visaliaelks.org
SUMMARY:Raider Booster Club
DESCRIPTION:The Las Vegas Raiders Booster Club of Tulare & Kings Counties have a meeting at the Elks on the second Thursday of each month at 7pm in the hall. No obligation to join the Club when attending. Family atmosphere. More information please contact President / Elks member Eliseo Zepeda 559-901-7406.
URL:https://visaliaelks.org/events/raider-booster-club/2027-12-09/
LOCATION:Visalia Elks Lodge\, 3100 W Main St\, Visalia\, CA\, 93291\, United States
CATEGORIES:Club Meeting
GEO:36.3292721;-119.3254884
X-APPLE-STRUCTURED-LOCATION;VALUE=URI;X-ADDRESS=Visalia Elks Lodge 3100 W Main St Visalia CA 93291 United States;X-APPLE-RADIUS=500;X-TITLE=3100 W Main St:geo:-119.3254884,36.3292721
END:VEVENT
BEGIN:VEVENT
DTSTART;TZID=UTC:20271215T193000
DTEND;TZID=UTC:20271215T193000
DTSTAMP:20260425T102006
CREATED:20180626T174458Z
LAST-MODIFIED:20180626T174458Z
UID:10001546-1828899000-1828899000@visaliaelks.org
SUMMARY:Vagabonds RV Club Meeting
DESCRIPTION:
URL:https://visaliaelks.org/events/vagabonds-rv-club-meeting-3/2027-12-15/
LOCATION:Visalia Elks Lodge\, 3100 W Main St\, Visalia\, CA\, 93291\, United States
CATEGORIES:Club Meeting
GEO:36.3292721;-119.3254884
X-APPLE-STRUCTURED-LOCATION;VALUE=URI;X-ADDRESS=Visalia Elks Lodge 3100 W Main St Visalia CA 93291 United States;X-APPLE-RADIUS=500;X-TITLE=3100 W Main St:geo:-119.3254884,36.3292721
END:VEVENT
BEGIN:VEVENT
DTSTART;TZID=UTC:20280113T183000
DTEND;TZID=UTC:20280113T183000
DTSTAMP:20260425T102006
CREATED:20250201T230619Z
LAST-MODIFIED:20250201T230715Z
UID:10001882-1831401000-1831401000@visaliaelks.org
SUMMARY:Cigar Club
DESCRIPTION:
URL:https://visaliaelks.org/events/cigar-club/2028-01-13/
LOCATION:Visalia Elks Lodge\, 3100 W Main St\, Visalia\, CA\, 93291\, United States
CATEGORIES:Club Meeting
GEO:36.3292721;-119.3254884
X-APPLE-STRUCTURED-LOCATION;VALUE=URI;X-ADDRESS=Visalia Elks Lodge 3100 W Main St Visalia CA 93291 United States;X-APPLE-RADIUS=500;X-TITLE=3100 W Main St:geo:-119.3254884,36.3292721
END:VEVENT
BEGIN:VEVENT
DTSTART;TZID=UTC:20280113T190000
DTEND;TZID=UTC:20280113T190000
DTSTAMP:20260425T102006
CREATED:20230605T175756Z
LAST-MODIFIED:20230605T175756Z
UID:10001960-1831402800-1831402800@visaliaelks.org
SUMMARY:Raider Booster Club
DESCRIPTION:The Las Vegas Raiders Booster Club of Tulare & Kings Counties have a meeting at the Elks on the second Thursday of each month at 7pm in the hall. No obligation to join the Club when attending. Family atmosphere. More information please contact President / Elks member Eliseo Zepeda 559-901-7406.
URL:https://visaliaelks.org/events/raider-booster-club/2028-01-13/
LOCATION:Visalia Elks Lodge\, 3100 W Main St\, Visalia\, CA\, 93291\, United States
CATEGORIES:Club Meeting
GEO:36.3292721;-119.3254884
X-APPLE-STRUCTURED-LOCATION;VALUE=URI;X-ADDRESS=Visalia Elks Lodge 3100 W Main St Visalia CA 93291 United States;X-APPLE-RADIUS=500;X-TITLE=3100 W Main St:geo:-119.3254884,36.3292721
END:VEVENT
BEGIN:VEVENT
DTSTART;TZID=UTC:20280119T193000
DTEND;TZID=UTC:20280119T193000
DTSTAMP:20260425T102006
CREATED:20180626T174458Z
LAST-MODIFIED:20180626T174458Z
UID:10001547-1831923000-1831923000@visaliaelks.org
SUMMARY:Vagabonds RV Club Meeting
DESCRIPTION:
URL:https://visaliaelks.org/events/vagabonds-rv-club-meeting-3/2028-01-19/
LOCATION:Visalia Elks Lodge\, 3100 W Main St\, Visalia\, CA\, 93291\, United States
CATEGORIES:Club Meeting
GEO:36.3292721;-119.3254884
X-APPLE-STRUCTURED-LOCATION;VALUE=URI;X-ADDRESS=Visalia Elks Lodge 3100 W Main St Visalia CA 93291 United States;X-APPLE-RADIUS=500;X-TITLE=3100 W Main St:geo:-119.3254884,36.3292721
END:VEVENT
BEGIN:VEVENT
DTSTART;TZID=UTC:20280210T183000
DTEND;TZID=UTC:20280210T183000
DTSTAMP:20260425T102006
CREATED:20250201T230619Z
LAST-MODIFIED:20250201T230715Z
UID:10001883-1833820200-1833820200@visaliaelks.org
SUMMARY:Cigar Club
DESCRIPTION:
URL:https://visaliaelks.org/events/cigar-club/2028-02-10/
LOCATION:Visalia Elks Lodge\, 3100 W Main St\, Visalia\, CA\, 93291\, United States
CATEGORIES:Club Meeting
GEO:36.3292721;-119.3254884
X-APPLE-STRUCTURED-LOCATION;VALUE=URI;X-ADDRESS=Visalia Elks Lodge 3100 W Main St Visalia CA 93291 United States;X-APPLE-RADIUS=500;X-TITLE=3100 W Main St:geo:-119.3254884,36.3292721
END:VEVENT
BEGIN:VEVENT
DTSTART;TZID=UTC:20280210T190000
DTEND;TZID=UTC:20280210T190000
DTSTAMP:20260425T102006
CREATED:20230605T175756Z
LAST-MODIFIED:20230605T175756Z
UID:10001961-1833822000-1833822000@visaliaelks.org
SUMMARY:Raider Booster Club
DESCRIPTION:The Las Vegas Raiders Booster Club of Tulare & Kings Counties have a meeting at the Elks on the second Thursday of each month at 7pm in the hall. No obligation to join the Club when attending. Family atmosphere. More information please contact President / Elks member Eliseo Zepeda 559-901-7406.
URL:https://visaliaelks.org/events/raider-booster-club/2028-02-10/
LOCATION:Visalia Elks Lodge\, 3100 W Main St\, Visalia\, CA\, 93291\, United States
CATEGORIES:Club Meeting
GEO:36.3292721;-119.3254884
X-APPLE-STRUCTURED-LOCATION;VALUE=URI;X-ADDRESS=Visalia Elks Lodge 3100 W Main St Visalia CA 93291 United States;X-APPLE-RADIUS=500;X-TITLE=3100 W Main St:geo:-119.3254884,36.3292721
END:VEVENT
BEGIN:VEVENT
DTSTART;TZID=UTC:20280216T193000
DTEND;TZID=UTC:20280216T193000
DTSTAMP:20260425T102006
CREATED:20180626T174458Z
LAST-MODIFIED:20180626T174458Z
UID:10001548-1834342200-1834342200@visaliaelks.org
SUMMARY:Vagabonds RV Club Meeting
DESCRIPTION:
URL:https://visaliaelks.org/events/vagabonds-rv-club-meeting-3/2028-02-16/
LOCATION:Visalia Elks Lodge\, 3100 W Main St\, Visalia\, CA\, 93291\, United States
CATEGORIES:Club Meeting
GEO:36.3292721;-119.3254884
X-APPLE-STRUCTURED-LOCATION;VALUE=URI;X-ADDRESS=Visalia Elks Lodge 3100 W Main St Visalia CA 93291 United States;X-APPLE-RADIUS=500;X-TITLE=3100 W Main St:geo:-119.3254884,36.3292721
END:VEVENT
BEGIN:VEVENT
DTSTART;TZID=UTC:20280309T183000
DTEND;TZID=UTC:20280309T183000
DTSTAMP:20260425T102006
CREATED:20250201T230619Z
LAST-MODIFIED:20250201T230715Z
UID:10001884-1836239400-1836239400@visaliaelks.org
SUMMARY:Cigar Club
DESCRIPTION:
URL:https://visaliaelks.org/events/cigar-club/2028-03-09/
LOCATION:Visalia Elks Lodge\, 3100 W Main St\, Visalia\, CA\, 93291\, United States
CATEGORIES:Club Meeting
GEO:36.3292721;-119.3254884
X-APPLE-STRUCTURED-LOCATION;VALUE=URI;X-ADDRESS=Visalia Elks Lodge 3100 W Main St Visalia CA 93291 United States;X-APPLE-RADIUS=500;X-TITLE=3100 W Main St:geo:-119.3254884,36.3292721
END:VEVENT
BEGIN:VEVENT
DTSTART;TZID=UTC:20280309T190000
DTEND;TZID=UTC:20280309T190000
DTSTAMP:20260425T102006
CREATED:20230605T175756Z
LAST-MODIFIED:20230605T175756Z
UID:10001962-1836241200-1836241200@visaliaelks.org
SUMMARY:Raider Booster Club
DESCRIPTION:The Las Vegas Raiders Booster Club of Tulare & Kings Counties have a meeting at the Elks on the second Thursday of each month at 7pm in the hall. No obligation to join the Club when attending. Family atmosphere. More information please contact President / Elks member Eliseo Zepeda 559-901-7406.
URL:https://visaliaelks.org/events/raider-booster-club/2028-03-09/
LOCATION:Visalia Elks Lodge\, 3100 W Main St\, Visalia\, CA\, 93291\, United States
CATEGORIES:Club Meeting
GEO:36.3292721;-119.3254884
X-APPLE-STRUCTURED-LOCATION;VALUE=URI;X-ADDRESS=Visalia Elks Lodge 3100 W Main St Visalia CA 93291 United States;X-APPLE-RADIUS=500;X-TITLE=3100 W Main St:geo:-119.3254884,36.3292721
END:VEVENT
BEGIN:VEVENT
DTSTART;TZID=UTC:20280315T193000
DTEND;TZID=UTC:20280315T193000
DTSTAMP:20260425T102006
CREATED:20180626T174458Z
LAST-MODIFIED:20180626T174458Z
UID:10001549-1836761400-1836761400@visaliaelks.org
SUMMARY:Vagabonds RV Club Meeting
DESCRIPTION:
URL:https://visaliaelks.org/events/vagabonds-rv-club-meeting-3/2028-03-15/
LOCATION:Visalia Elks Lodge\, 3100 W Main St\, Visalia\, CA\, 93291\, United States
CATEGORIES:Club Meeting
GEO:36.3292721;-119.3254884
X-APPLE-STRUCTURED-LOCATION;VALUE=URI;X-ADDRESS=Visalia Elks Lodge 3100 W Main St Visalia CA 93291 United States;X-APPLE-RADIUS=500;X-TITLE=3100 W Main St:geo:-119.3254884,36.3292721
END:VEVENT
BEGIN:VEVENT
DTSTART;TZID=UTC:20280413T183000
DTEND;TZID=UTC:20280413T183000
DTSTAMP:20260425T102006
CREATED:20250201T230619Z
LAST-MODIFIED:20250201T230715Z
UID:10001885-1839263400-1839263400@visaliaelks.org
SUMMARY:Cigar Club
DESCRIPTION:
URL:https://visaliaelks.org/events/cigar-club/2028-04-13/
LOCATION:Visalia Elks Lodge\, 3100 W Main St\, Visalia\, CA\, 93291\, United States
CATEGORIES:Club Meeting
GEO:36.3292721;-119.3254884
X-APPLE-STRUCTURED-LOCATION;VALUE=URI;X-ADDRESS=Visalia Elks Lodge 3100 W Main St Visalia CA 93291 United States;X-APPLE-RADIUS=500;X-TITLE=3100 W Main St:geo:-119.3254884,36.3292721
END:VEVENT
BEGIN:VEVENT
DTSTART;TZID=UTC:20280413T190000
DTEND;TZID=UTC:20280413T190000
DTSTAMP:20260425T102006
CREATED:20230605T175756Z
LAST-MODIFIED:20230605T175756Z
UID:10001963-1839265200-1839265200@visaliaelks.org
SUMMARY:Raider Booster Club
DESCRIPTION:The Las Vegas Raiders Booster Club of Tulare & Kings Counties have a meeting at the Elks on the second Thursday of each month at 7pm in the hall. No obligation to join the Club when attending. Family atmosphere. More information please contact President / Elks member Eliseo Zepeda 559-901-7406.
URL:https://visaliaelks.org/events/raider-booster-club/2028-04-13/
LOCATION:Visalia Elks Lodge\, 3100 W Main St\, Visalia\, CA\, 93291\, United States
CATEGORIES:Club Meeting
GEO:36.3292721;-119.3254884
X-APPLE-STRUCTURED-LOCATION;VALUE=URI;X-ADDRESS=Visalia Elks Lodge 3100 W Main St Visalia CA 93291 United States;X-APPLE-RADIUS=500;X-TITLE=3100 W Main St:geo:-119.3254884,36.3292721
END:VEVENT
END:VCALENDAR