BEGIN:VCALENDAR
VERSION:2.0
PRODID:-//Visalia Elks Lodge 1298 - ECPv6.15.20//NONSGML v1.0//EN
CALSCALE:GREGORIAN
METHOD:PUBLISH
X-WR-CALNAME:Visalia Elks Lodge 1298
X-ORIGINAL-URL:https://visaliaelks.org
X-WR-CALDESC:Events for Visalia Elks Lodge 1298
REFRESH-INTERVAL;VALUE=DURATION:PT1H
X-Robots-Tag:noindex
X-PUBLISHED-TTL:PT1H
BEGIN:VTIMEZONE
TZID:UTC
BEGIN:STANDARD
TZOFFSETFROM:+0000
TZOFFSETTO:+0000
TZNAME:UTC
DTSTART:20290101T000000
END:STANDARD
END:VTIMEZONE
BEGIN:VEVENT
DTSTART;TZID=UTC:20300621T180000
DTEND;TZID=UTC:20300621T193000
DTSTAMP:20260424T162417
CREATED:20220103T193401Z
LAST-MODIFIED:20260301T203702Z
UID:10002371-1908295200-1908300600@visaliaelks.org
SUMMARY:Cook Your Own Steak Night
DESCRIPTION:Cook Your Own Steak Night\nTime: 6-7:30pm\nReservations by Thursday at 5 pm
URL:https://visaliaelks.org/events/cook-your-own-steak-night/2030-06-21/
LOCATION:Visalia Elks Lodge\, 3100 W Main St\, Visalia\, CA\, 93291\, United States
CATEGORIES:Cook Your Own Steak
GEO:36.3292721;-119.3254884
X-APPLE-STRUCTURED-LOCATION;VALUE=URI;X-ADDRESS=Visalia Elks Lodge 3100 W Main St Visalia CA 93291 United States;X-APPLE-RADIUS=500;X-TITLE=3100 W Main St:geo:-119.3254884,36.3292721
END:VEVENT
BEGIN:VEVENT
DTSTART;TZID=UTC:20300719T180000
DTEND;TZID=UTC:20300719T193000
DTSTAMP:20260424T162417
CREATED:20220103T193401Z
LAST-MODIFIED:20260301T203702Z
UID:10002372-1910714400-1910719800@visaliaelks.org
SUMMARY:Cook Your Own Steak Night
DESCRIPTION:Cook Your Own Steak Night\nTime: 6-7:30pm\nReservations by Thursday at 5 pm
URL:https://visaliaelks.org/events/cook-your-own-steak-night/2030-07-19/
LOCATION:Visalia Elks Lodge\, 3100 W Main St\, Visalia\, CA\, 93291\, United States
CATEGORIES:Cook Your Own Steak
GEO:36.3292721;-119.3254884
X-APPLE-STRUCTURED-LOCATION;VALUE=URI;X-ADDRESS=Visalia Elks Lodge 3100 W Main St Visalia CA 93291 United States;X-APPLE-RADIUS=500;X-TITLE=3100 W Main St:geo:-119.3254884,36.3292721
END:VEVENT
BEGIN:VEVENT
DTSTART;TZID=UTC:20300816T180000
DTEND;TZID=UTC:20300816T193000
DTSTAMP:20260424T162417
CREATED:20220103T193401Z
LAST-MODIFIED:20260301T203702Z
UID:10002386-1913133600-1913139000@visaliaelks.org
SUMMARY:Cook Your Own Steak Night
DESCRIPTION:Cook Your Own Steak Night\nTime: 6-7:30pm\nReservations by Thursday at 5 pm
URL:https://visaliaelks.org/events/cook-your-own-steak-night/2030-08-16/
LOCATION:Visalia Elks Lodge\, 3100 W Main St\, Visalia\, CA\, 93291\, United States
CATEGORIES:Cook Your Own Steak
GEO:36.3292721;-119.3254884
X-APPLE-STRUCTURED-LOCATION;VALUE=URI;X-ADDRESS=Visalia Elks Lodge 3100 W Main St Visalia CA 93291 United States;X-APPLE-RADIUS=500;X-TITLE=3100 W Main St:geo:-119.3254884,36.3292721
END:VEVENT
BEGIN:VEVENT
DTSTART;TZID=UTC:20300920T180000
DTEND;TZID=UTC:20300920T193000
DTSTAMP:20260424T162417
CREATED:20220103T193401Z
LAST-MODIFIED:20260301T203702Z
UID:10002700-1916157600-1916163000@visaliaelks.org
SUMMARY:Cook Your Own Steak Night
DESCRIPTION:Cook Your Own Steak Night\nTime: 6-7:30pm\nReservations by Thursday at 5 pm
URL:https://visaliaelks.org/events/cook-your-own-steak-night/2030-09-20/
LOCATION:Visalia Elks Lodge\, 3100 W Main St\, Visalia\, CA\, 93291\, United States
CATEGORIES:Cook Your Own Steak
GEO:36.3292721;-119.3254884
X-APPLE-STRUCTURED-LOCATION;VALUE=URI;X-ADDRESS=Visalia Elks Lodge 3100 W Main St Visalia CA 93291 United States;X-APPLE-RADIUS=500;X-TITLE=3100 W Main St:geo:-119.3254884,36.3292721
END:VEVENT
BEGIN:VEVENT
DTSTART;TZID=UTC:20301018T180000
DTEND;TZID=UTC:20301018T193000
DTSTAMP:20260424T162417
CREATED:20220103T193401Z
LAST-MODIFIED:20260301T203702Z
UID:10002718-1918576800-1918582200@visaliaelks.org
SUMMARY:Cook Your Own Steak Night
DESCRIPTION:Cook Your Own Steak Night\nTime: 6-7:30pm\nReservations by Thursday at 5 pm
URL:https://visaliaelks.org/events/cook-your-own-steak-night/2030-10-18/
LOCATION:Visalia Elks Lodge\, 3100 W Main St\, Visalia\, CA\, 93291\, United States
CATEGORIES:Cook Your Own Steak
GEO:36.3292721;-119.3254884
X-APPLE-STRUCTURED-LOCATION;VALUE=URI;X-ADDRESS=Visalia Elks Lodge 3100 W Main St Visalia CA 93291 United States;X-APPLE-RADIUS=500;X-TITLE=3100 W Main St:geo:-119.3254884,36.3292721
END:VEVENT
BEGIN:VEVENT
DTSTART;TZID=UTC:20301115T180000
DTEND;TZID=UTC:20301115T193000
DTSTAMP:20260424T162417
CREATED:20220103T193401Z
LAST-MODIFIED:20260301T203702Z
UID:10002738-1920996000-1921001400@visaliaelks.org
SUMMARY:Cook Your Own Steak Night
DESCRIPTION:Cook Your Own Steak Night\nTime: 6-7:30pm\nReservations by Thursday at 5 pm
URL:https://visaliaelks.org/events/cook-your-own-steak-night/2030-11-15/
LOCATION:Visalia Elks Lodge\, 3100 W Main St\, Visalia\, CA\, 93291\, United States
CATEGORIES:Cook Your Own Steak
GEO:36.3292721;-119.3254884
X-APPLE-STRUCTURED-LOCATION;VALUE=URI;X-ADDRESS=Visalia Elks Lodge 3100 W Main St Visalia CA 93291 United States;X-APPLE-RADIUS=500;X-TITLE=3100 W Main St:geo:-119.3254884,36.3292721
END:VEVENT
BEGIN:VEVENT
DTSTART;TZID=UTC:20301220T180000
DTEND;TZID=UTC:20301220T193000
DTSTAMP:20260424T162417
CREATED:20220103T193401Z
LAST-MODIFIED:20260301T203702Z
UID:10002757-1924020000-1924025400@visaliaelks.org
SUMMARY:Cook Your Own Steak Night
DESCRIPTION:Cook Your Own Steak Night\nTime: 6-7:30pm\nReservations by Thursday at 5 pm
URL:https://visaliaelks.org/events/cook-your-own-steak-night/2030-12-20/
LOCATION:Visalia Elks Lodge\, 3100 W Main St\, Visalia\, CA\, 93291\, United States
CATEGORIES:Cook Your Own Steak
GEO:36.3292721;-119.3254884
X-APPLE-STRUCTURED-LOCATION;VALUE=URI;X-ADDRESS=Visalia Elks Lodge 3100 W Main St Visalia CA 93291 United States;X-APPLE-RADIUS=500;X-TITLE=3100 W Main St:geo:-119.3254884,36.3292721
END:VEVENT
BEGIN:VEVENT
DTSTART;TZID=UTC:20310117T180000
DTEND;TZID=UTC:20310117T193000
DTSTAMP:20260424T162417
CREATED:20220103T193401Z
LAST-MODIFIED:20260301T203702Z
UID:10002775-1926439200-1926444600@visaliaelks.org
SUMMARY:Cook Your Own Steak Night
DESCRIPTION:Cook Your Own Steak Night\nTime: 6-7:30pm\nReservations by Thursday at 5 pm
URL:https://visaliaelks.org/events/cook-your-own-steak-night/2031-01-17/
LOCATION:Visalia Elks Lodge\, 3100 W Main St\, Visalia\, CA\, 93291\, United States
CATEGORIES:Cook Your Own Steak
GEO:36.3292721;-119.3254884
X-APPLE-STRUCTURED-LOCATION;VALUE=URI;X-ADDRESS=Visalia Elks Lodge 3100 W Main St Visalia CA 93291 United States;X-APPLE-RADIUS=500;X-TITLE=3100 W Main St:geo:-119.3254884,36.3292721
END:VEVENT
BEGIN:VEVENT
DTSTART;TZID=UTC:20310221T180000
DTEND;TZID=UTC:20310221T193000
DTSTAMP:20260424T162417
CREATED:20220103T193401Z
LAST-MODIFIED:20260301T203702Z
UID:10002800-1929463200-1929468600@visaliaelks.org
SUMMARY:Cook Your Own Steak Night
DESCRIPTION:Cook Your Own Steak Night\nTime: 6-7:30pm\nReservations by Thursday at 5 pm
URL:https://visaliaelks.org/events/cook-your-own-steak-night/2031-02-21/
LOCATION:Visalia Elks Lodge\, 3100 W Main St\, Visalia\, CA\, 93291\, United States
CATEGORIES:Cook Your Own Steak
GEO:36.3292721;-119.3254884
X-APPLE-STRUCTURED-LOCATION;VALUE=URI;X-ADDRESS=Visalia Elks Lodge 3100 W Main St Visalia CA 93291 United States;X-APPLE-RADIUS=500;X-TITLE=3100 W Main St:geo:-119.3254884,36.3292721
END:VEVENT
BEGIN:VEVENT
DTSTART;TZID=UTC:20310321T180000
DTEND;TZID=UTC:20310321T193000
DTSTAMP:20260424T162417
CREATED:20220103T193401Z
LAST-MODIFIED:20260301T203702Z
UID:10003009-1931882400-1931887800@visaliaelks.org
SUMMARY:Cook Your Own Steak Night
DESCRIPTION:Cook Your Own Steak Night\nTime: 6-7:30pm\nReservations by Thursday at 5 pm
URL:https://visaliaelks.org/events/cook-your-own-steak-night/2031-03-21/
LOCATION:Visalia Elks Lodge\, 3100 W Main St\, Visalia\, CA\, 93291\, United States
CATEGORIES:Cook Your Own Steak
GEO:36.3292721;-119.3254884
X-APPLE-STRUCTURED-LOCATION;VALUE=URI;X-ADDRESS=Visalia Elks Lodge 3100 W Main St Visalia CA 93291 United States;X-APPLE-RADIUS=500;X-TITLE=3100 W Main St:geo:-119.3254884,36.3292721
END:VEVENT
END:VCALENDAR