BEGIN:VCALENDAR
VERSION:2.0
PRODID:-//Visalia Elks Lodge 1298 - ECPv6.15.20//NONSGML v1.0//EN
CALSCALE:GREGORIAN
METHOD:PUBLISH
X-WR-CALNAME:Visalia Elks Lodge 1298
X-ORIGINAL-URL:https://visaliaelks.org
X-WR-CALDESC:Events for Visalia Elks Lodge 1298
REFRESH-INTERVAL;VALUE=DURATION:PT1H
X-Robots-Tag:noindex
X-PUBLISHED-TTL:PT1H
BEGIN:VTIMEZONE
TZID:UTC
BEGIN:STANDARD
TZOFFSETFROM:+0000
TZOFFSETTO:+0000
TZNAME:UTC
DTSTART:20250101T000000
END:STANDARD
END:VTIMEZONE
BEGIN:VEVENT
DTSTART;TZID=UTC:20260422T193000
DTEND;TZID=UTC:20260422T193000
DTSTAMP:20260423T215317
CREATED:20180626T174320Z
LAST-MODIFIED:20251103T175848Z
UID:10001235-1776886200-1776886200@visaliaelks.org
SUMMARY:Lodge Meeting (Initiations)
DESCRIPTION:
URL:https://visaliaelks.org/events/lodge-meeting-initiations/2026-04-22/
LOCATION:Visalia Elks Lodge\, 3100 W Main St\, Visalia\, CA\, 93291\, United States
CATEGORIES:Lodge Meeting
GEO:36.3292721;-119.3254884
X-APPLE-STRUCTURED-LOCATION;VALUE=URI;X-ADDRESS=Visalia Elks Lodge 3100 W Main St Visalia CA 93291 United States;X-APPLE-RADIUS=500;X-TITLE=3100 W Main St:geo:-119.3254884,36.3292721
END:VEVENT
BEGIN:VEVENT
DTSTART;TZID=UTC:20260429T203000
DTEND;TZID=UTC:20260429T203000
DTSTAMP:20260423T215317
CREATED:20250502T010350Z
LAST-MODIFIED:20251201T180351Z
UID:10002295-1777494600-1777494600@visaliaelks.org
SUMMARY:Purple Pig Racing
DESCRIPTION:Following the Lodge Meeting – 5th Wednesday of the month.  Watch for details in the Member’s FB group.
URL:https://visaliaelks.org/events/purple-pig-racing/2026-04-29/
LOCATION:Visalia Elks Lodge\, 3100 W Main St\, Visalia\, CA\, 93291\, United States
CATEGORIES:Lodge Meeting,Other Lodge Events
GEO:36.3292721;-119.3254884
X-APPLE-STRUCTURED-LOCATION;VALUE=URI;X-ADDRESS=Visalia Elks Lodge 3100 W Main St Visalia CA 93291 United States;X-APPLE-RADIUS=500;X-TITLE=3100 W Main St:geo:-119.3254884,36.3292721
END:VEVENT
BEGIN:VEVENT
DTSTART;TZID=UTC:20260513T173000
DTEND;TZID=UTC:20260513T173000
DTSTAMP:20260423T215317
CREATED:20180626T174114Z
LAST-MODIFIED:20180626T174114Z
UID:10000094-1778693400-1778693400@visaliaelks.org
SUMMARY:House Committee Meeting
DESCRIPTION:
URL:https://visaliaelks.org/events/house-committee-meeting-3/2026-05-13/
LOCATION:Visalia Elks Lodge\, 3100 W Main St\, Visalia\, CA\, 93291\, United States
CATEGORIES:Lodge Meeting
GEO:36.3292721;-119.3254884
X-APPLE-STRUCTURED-LOCATION;VALUE=URI;X-ADDRESS=Visalia Elks Lodge 3100 W Main St Visalia CA 93291 United States;X-APPLE-RADIUS=500;X-TITLE=3100 W Main St:geo:-119.3254884,36.3292721
END:VEVENT
BEGIN:VEVENT
DTSTART;TZID=UTC:20260513T180000
DTEND;TZID=UTC:20260513T180000
DTSTAMP:20260423T215317
CREATED:20180626T174214Z
LAST-MODIFIED:20180626T174640Z
UID:10000906-1778695200-1778695200@visaliaelks.org
SUMMARY:Trustee Meeting
DESCRIPTION:Note: You must call or e-mail in advance to be on the agenda
URL:https://visaliaelks.org/events/trustee-meeting-3/2026-05-13/
LOCATION:Visalia Elks Lodge\, 3100 W Main St\, Visalia\, CA\, 93291\, United States
CATEGORIES:Lodge Meeting
GEO:36.3292721;-119.3254884
X-APPLE-STRUCTURED-LOCATION;VALUE=URI;X-ADDRESS=Visalia Elks Lodge 3100 W Main St Visalia CA 93291 United States;X-APPLE-RADIUS=500;X-TITLE=3100 W Main St:geo:-119.3254884,36.3292721
END:VEVENT
BEGIN:VEVENT
DTSTART;TZID=UTC:20260513T193000
DTEND;TZID=UTC:20260513T193000
DTSTAMP:20260423T215317
CREATED:20180626T173912Z
LAST-MODIFIED:20180626T173927Z
UID:10000406-1778700600-1778700600@visaliaelks.org
SUMMARY:Lodge Meeting (Business)
DESCRIPTION:
URL:https://visaliaelks.org/events/lodge-meeting-business-2/2026-05-13/
LOCATION:Visalia Elks Lodge\, 3100 W Main St\, Visalia\, CA\, 93291\, United States
CATEGORIES:Lodge Meeting
GEO:36.3292721;-119.3254884
X-APPLE-STRUCTURED-LOCATION;VALUE=URI;X-ADDRESS=Visalia Elks Lodge 3100 W Main St Visalia CA 93291 United States;X-APPLE-RADIUS=500;X-TITLE=3100 W Main St:geo:-119.3254884,36.3292721
END:VEVENT
BEGIN:VEVENT
DTSTART;TZID=UTC:20260527T193000
DTEND;TZID=UTC:20260527T193000
DTSTAMP:20260423T215317
CREATED:20180626T174320Z
LAST-MODIFIED:20251103T175848Z
UID:10001236-1779910200-1779910200@visaliaelks.org
SUMMARY:Lodge Meeting (Initiations)
DESCRIPTION:
URL:https://visaliaelks.org/events/lodge-meeting-initiations/2026-05-27/
LOCATION:Visalia Elks Lodge\, 3100 W Main St\, Visalia\, CA\, 93291\, United States
CATEGORIES:Lodge Meeting
GEO:36.3292721;-119.3254884
X-APPLE-STRUCTURED-LOCATION;VALUE=URI;X-ADDRESS=Visalia Elks Lodge 3100 W Main St Visalia CA 93291 United States;X-APPLE-RADIUS=500;X-TITLE=3100 W Main St:geo:-119.3254884,36.3292721
END:VEVENT
BEGIN:VEVENT
DTSTART;TZID=UTC:20260610T173000
DTEND;TZID=UTC:20260610T173000
DTSTAMP:20260423T215317
CREATED:20180626T174114Z
LAST-MODIFIED:20180626T174114Z
UID:10000095-1781112600-1781112600@visaliaelks.org
SUMMARY:House Committee Meeting
DESCRIPTION:
URL:https://visaliaelks.org/events/house-committee-meeting-3/2026-06-10/
LOCATION:Visalia Elks Lodge\, 3100 W Main St\, Visalia\, CA\, 93291\, United States
CATEGORIES:Lodge Meeting
GEO:36.3292721;-119.3254884
X-APPLE-STRUCTURED-LOCATION;VALUE=URI;X-ADDRESS=Visalia Elks Lodge 3100 W Main St Visalia CA 93291 United States;X-APPLE-RADIUS=500;X-TITLE=3100 W Main St:geo:-119.3254884,36.3292721
END:VEVENT
BEGIN:VEVENT
DTSTART;TZID=UTC:20260610T180000
DTEND;TZID=UTC:20260610T180000
DTSTAMP:20260423T215317
CREATED:20180626T174214Z
LAST-MODIFIED:20180626T174640Z
UID:10000907-1781114400-1781114400@visaliaelks.org
SUMMARY:Trustee Meeting
DESCRIPTION:Note: You must call or e-mail in advance to be on the agenda
URL:https://visaliaelks.org/events/trustee-meeting-3/2026-06-10/
LOCATION:Visalia Elks Lodge\, 3100 W Main St\, Visalia\, CA\, 93291\, United States
CATEGORIES:Lodge Meeting
GEO:36.3292721;-119.3254884
X-APPLE-STRUCTURED-LOCATION;VALUE=URI;X-ADDRESS=Visalia Elks Lodge 3100 W Main St Visalia CA 93291 United States;X-APPLE-RADIUS=500;X-TITLE=3100 W Main St:geo:-119.3254884,36.3292721
END:VEVENT
BEGIN:VEVENT
DTSTART;TZID=UTC:20260610T193000
DTEND;TZID=UTC:20260610T193000
DTSTAMP:20260423T215317
CREATED:20180626T173912Z
LAST-MODIFIED:20180626T173927Z
UID:10000407-1781119800-1781119800@visaliaelks.org
SUMMARY:Lodge Meeting (Business)
DESCRIPTION:
URL:https://visaliaelks.org/events/lodge-meeting-business-2/2026-06-10/
LOCATION:Visalia Elks Lodge\, 3100 W Main St\, Visalia\, CA\, 93291\, United States
CATEGORIES:Lodge Meeting
GEO:36.3292721;-119.3254884
X-APPLE-STRUCTURED-LOCATION;VALUE=URI;X-ADDRESS=Visalia Elks Lodge 3100 W Main St Visalia CA 93291 United States;X-APPLE-RADIUS=500;X-TITLE=3100 W Main St:geo:-119.3254884,36.3292721
END:VEVENT
BEGIN:VEVENT
DTSTART;TZID=UTC:20260624T193000
DTEND;TZID=UTC:20260624T193000
DTSTAMP:20260423T215317
CREATED:20180626T174320Z
LAST-MODIFIED:20251103T175848Z
UID:10001237-1782329400-1782329400@visaliaelks.org
SUMMARY:Lodge Meeting (Initiations)
DESCRIPTION:
URL:https://visaliaelks.org/events/lodge-meeting-initiations/2026-06-24/
LOCATION:Visalia Elks Lodge\, 3100 W Main St\, Visalia\, CA\, 93291\, United States
CATEGORIES:Lodge Meeting
GEO:36.3292721;-119.3254884
X-APPLE-STRUCTURED-LOCATION;VALUE=URI;X-ADDRESS=Visalia Elks Lodge 3100 W Main St Visalia CA 93291 United States;X-APPLE-RADIUS=500;X-TITLE=3100 W Main St:geo:-119.3254884,36.3292721
END:VEVENT
BEGIN:VEVENT
DTSTART;TZID=UTC:20260708T173000
DTEND;TZID=UTC:20260708T173000
DTSTAMP:20260423T215317
CREATED:20180626T174114Z
LAST-MODIFIED:20180626T174114Z
UID:10000096-1783531800-1783531800@visaliaelks.org
SUMMARY:House Committee Meeting
DESCRIPTION:
URL:https://visaliaelks.org/events/house-committee-meeting-3/2026-07-08/
LOCATION:Visalia Elks Lodge\, 3100 W Main St\, Visalia\, CA\, 93291\, United States
CATEGORIES:Lodge Meeting
GEO:36.3292721;-119.3254884
X-APPLE-STRUCTURED-LOCATION;VALUE=URI;X-ADDRESS=Visalia Elks Lodge 3100 W Main St Visalia CA 93291 United States;X-APPLE-RADIUS=500;X-TITLE=3100 W Main St:geo:-119.3254884,36.3292721
END:VEVENT
BEGIN:VEVENT
DTSTART;TZID=UTC:20260708T180000
DTEND;TZID=UTC:20260708T180000
DTSTAMP:20260423T215317
CREATED:20180626T174214Z
LAST-MODIFIED:20180626T174640Z
UID:10000908-1783533600-1783533600@visaliaelks.org
SUMMARY:Trustee Meeting
DESCRIPTION:Note: You must call or e-mail in advance to be on the agenda
URL:https://visaliaelks.org/events/trustee-meeting-3/2026-07-08/
LOCATION:Visalia Elks Lodge\, 3100 W Main St\, Visalia\, CA\, 93291\, United States
CATEGORIES:Lodge Meeting
GEO:36.3292721;-119.3254884
X-APPLE-STRUCTURED-LOCATION;VALUE=URI;X-ADDRESS=Visalia Elks Lodge 3100 W Main St Visalia CA 93291 United States;X-APPLE-RADIUS=500;X-TITLE=3100 W Main St:geo:-119.3254884,36.3292721
END:VEVENT
BEGIN:VEVENT
DTSTART;TZID=UTC:20260708T193000
DTEND;TZID=UTC:20260708T193000
DTSTAMP:20260423T215317
CREATED:20180626T173912Z
LAST-MODIFIED:20180626T173927Z
UID:10000408-1783539000-1783539000@visaliaelks.org
SUMMARY:Lodge Meeting (Business)
DESCRIPTION:
URL:https://visaliaelks.org/events/lodge-meeting-business-2/2026-07-08/
LOCATION:Visalia Elks Lodge\, 3100 W Main St\, Visalia\, CA\, 93291\, United States
CATEGORIES:Lodge Meeting
GEO:36.3292721;-119.3254884
X-APPLE-STRUCTURED-LOCATION;VALUE=URI;X-ADDRESS=Visalia Elks Lodge 3100 W Main St Visalia CA 93291 United States;X-APPLE-RADIUS=500;X-TITLE=3100 W Main St:geo:-119.3254884,36.3292721
END:VEVENT
BEGIN:VEVENT
DTSTART;TZID=UTC:20260722T193000
DTEND;TZID=UTC:20260722T193000
DTSTAMP:20260423T215317
CREATED:20180626T174320Z
LAST-MODIFIED:20251103T175848Z
UID:10001238-1784748600-1784748600@visaliaelks.org
SUMMARY:Lodge Meeting (Initiations)
DESCRIPTION:
URL:https://visaliaelks.org/events/lodge-meeting-initiations/2026-07-22/
LOCATION:Visalia Elks Lodge\, 3100 W Main St\, Visalia\, CA\, 93291\, United States
CATEGORIES:Lodge Meeting
GEO:36.3292721;-119.3254884
X-APPLE-STRUCTURED-LOCATION;VALUE=URI;X-ADDRESS=Visalia Elks Lodge 3100 W Main St Visalia CA 93291 United States;X-APPLE-RADIUS=500;X-TITLE=3100 W Main St:geo:-119.3254884,36.3292721
END:VEVENT
BEGIN:VEVENT
DTSTART;TZID=UTC:20260729T203000
DTEND;TZID=UTC:20260729T203000
DTSTAMP:20260423T215317
CREATED:20250502T010350Z
LAST-MODIFIED:20251201T180351Z
UID:10002296-1785357000-1785357000@visaliaelks.org
SUMMARY:Purple Pig Racing
DESCRIPTION:Following the Lodge Meeting – 5th Wednesday of the month.  Watch for details in the Member’s FB group.
URL:https://visaliaelks.org/events/purple-pig-racing/2026-07-29/
LOCATION:Visalia Elks Lodge\, 3100 W Main St\, Visalia\, CA\, 93291\, United States
CATEGORIES:Lodge Meeting,Other Lodge Events
GEO:36.3292721;-119.3254884
X-APPLE-STRUCTURED-LOCATION;VALUE=URI;X-ADDRESS=Visalia Elks Lodge 3100 W Main St Visalia CA 93291 United States;X-APPLE-RADIUS=500;X-TITLE=3100 W Main St:geo:-119.3254884,36.3292721
END:VEVENT
BEGIN:VEVENT
DTSTART;TZID=UTC:20260812T173000
DTEND;TZID=UTC:20260812T173000
DTSTAMP:20260423T215317
CREATED:20180626T174114Z
LAST-MODIFIED:20180626T174114Z
UID:10000097-1786555800-1786555800@visaliaelks.org
SUMMARY:House Committee Meeting
DESCRIPTION:
URL:https://visaliaelks.org/events/house-committee-meeting-3/2026-08-12/
LOCATION:Visalia Elks Lodge\, 3100 W Main St\, Visalia\, CA\, 93291\, United States
CATEGORIES:Lodge Meeting
GEO:36.3292721;-119.3254884
X-APPLE-STRUCTURED-LOCATION;VALUE=URI;X-ADDRESS=Visalia Elks Lodge 3100 W Main St Visalia CA 93291 United States;X-APPLE-RADIUS=500;X-TITLE=3100 W Main St:geo:-119.3254884,36.3292721
END:VEVENT
BEGIN:VEVENT
DTSTART;TZID=UTC:20260812T180000
DTEND;TZID=UTC:20260812T180000
DTSTAMP:20260423T215317
CREATED:20180626T174214Z
LAST-MODIFIED:20180626T174640Z
UID:10000909-1786557600-1786557600@visaliaelks.org
SUMMARY:Trustee Meeting
DESCRIPTION:Note: You must call or e-mail in advance to be on the agenda
URL:https://visaliaelks.org/events/trustee-meeting-3/2026-08-12/
LOCATION:Visalia Elks Lodge\, 3100 W Main St\, Visalia\, CA\, 93291\, United States
CATEGORIES:Lodge Meeting
GEO:36.3292721;-119.3254884
X-APPLE-STRUCTURED-LOCATION;VALUE=URI;X-ADDRESS=Visalia Elks Lodge 3100 W Main St Visalia CA 93291 United States;X-APPLE-RADIUS=500;X-TITLE=3100 W Main St:geo:-119.3254884,36.3292721
END:VEVENT
BEGIN:VEVENT
DTSTART;TZID=UTC:20260812T193000
DTEND;TZID=UTC:20260812T193000
DTSTAMP:20260423T215317
CREATED:20180626T173912Z
LAST-MODIFIED:20180626T173927Z
UID:10000409-1786563000-1786563000@visaliaelks.org
SUMMARY:Lodge Meeting (Business)
DESCRIPTION:
URL:https://visaliaelks.org/events/lodge-meeting-business-2/2026-08-12/
LOCATION:Visalia Elks Lodge\, 3100 W Main St\, Visalia\, CA\, 93291\, United States
CATEGORIES:Lodge Meeting
GEO:36.3292721;-119.3254884
X-APPLE-STRUCTURED-LOCATION;VALUE=URI;X-ADDRESS=Visalia Elks Lodge 3100 W Main St Visalia CA 93291 United States;X-APPLE-RADIUS=500;X-TITLE=3100 W Main St:geo:-119.3254884,36.3292721
END:VEVENT
BEGIN:VEVENT
DTSTART;TZID=UTC:20260826T193000
DTEND;TZID=UTC:20260826T193000
DTSTAMP:20260423T215317
CREATED:20180626T174320Z
LAST-MODIFIED:20251103T175848Z
UID:10001239-1787772600-1787772600@visaliaelks.org
SUMMARY:Lodge Meeting (Initiations)
DESCRIPTION:
URL:https://visaliaelks.org/events/lodge-meeting-initiations/2026-08-26/
LOCATION:Visalia Elks Lodge\, 3100 W Main St\, Visalia\, CA\, 93291\, United States
CATEGORIES:Lodge Meeting
GEO:36.3292721;-119.3254884
X-APPLE-STRUCTURED-LOCATION;VALUE=URI;X-ADDRESS=Visalia Elks Lodge 3100 W Main St Visalia CA 93291 United States;X-APPLE-RADIUS=500;X-TITLE=3100 W Main St:geo:-119.3254884,36.3292721
END:VEVENT
BEGIN:VEVENT
DTSTART;TZID=UTC:20260909T173000
DTEND;TZID=UTC:20260909T173000
DTSTAMP:20260423T215317
CREATED:20180626T174114Z
LAST-MODIFIED:20180626T174114Z
UID:10000098-1788975000-1788975000@visaliaelks.org
SUMMARY:House Committee Meeting
DESCRIPTION:
URL:https://visaliaelks.org/events/house-committee-meeting-3/2026-09-09/
LOCATION:Visalia Elks Lodge\, 3100 W Main St\, Visalia\, CA\, 93291\, United States
CATEGORIES:Lodge Meeting
GEO:36.3292721;-119.3254884
X-APPLE-STRUCTURED-LOCATION;VALUE=URI;X-ADDRESS=Visalia Elks Lodge 3100 W Main St Visalia CA 93291 United States;X-APPLE-RADIUS=500;X-TITLE=3100 W Main St:geo:-119.3254884,36.3292721
END:VEVENT
BEGIN:VEVENT
DTSTART;TZID=UTC:20260909T180000
DTEND;TZID=UTC:20260909T180000
DTSTAMP:20260423T215317
CREATED:20180626T174214Z
LAST-MODIFIED:20180626T174640Z
UID:10000910-1788976800-1788976800@visaliaelks.org
SUMMARY:Trustee Meeting
DESCRIPTION:Note: You must call or e-mail in advance to be on the agenda
URL:https://visaliaelks.org/events/trustee-meeting-3/2026-09-09/
LOCATION:Visalia Elks Lodge\, 3100 W Main St\, Visalia\, CA\, 93291\, United States
CATEGORIES:Lodge Meeting
GEO:36.3292721;-119.3254884
X-APPLE-STRUCTURED-LOCATION;VALUE=URI;X-ADDRESS=Visalia Elks Lodge 3100 W Main St Visalia CA 93291 United States;X-APPLE-RADIUS=500;X-TITLE=3100 W Main St:geo:-119.3254884,36.3292721
END:VEVENT
BEGIN:VEVENT
DTSTART;TZID=UTC:20260909T193000
DTEND;TZID=UTC:20260909T193000
DTSTAMP:20260423T215317
CREATED:20180626T173912Z
LAST-MODIFIED:20180626T173927Z
UID:10000410-1788982200-1788982200@visaliaelks.org
SUMMARY:Lodge Meeting (Business)
DESCRIPTION:
URL:https://visaliaelks.org/events/lodge-meeting-business-2/2026-09-09/
LOCATION:Visalia Elks Lodge\, 3100 W Main St\, Visalia\, CA\, 93291\, United States
CATEGORIES:Lodge Meeting
GEO:36.3292721;-119.3254884
X-APPLE-STRUCTURED-LOCATION;VALUE=URI;X-ADDRESS=Visalia Elks Lodge 3100 W Main St Visalia CA 93291 United States;X-APPLE-RADIUS=500;X-TITLE=3100 W Main St:geo:-119.3254884,36.3292721
END:VEVENT
BEGIN:VEVENT
DTSTART;TZID=UTC:20260923T193000
DTEND;TZID=UTC:20260923T193000
DTSTAMP:20260423T215317
CREATED:20180626T174320Z
LAST-MODIFIED:20251103T175848Z
UID:10001240-1790191800-1790191800@visaliaelks.org
SUMMARY:Lodge Meeting (Initiations)
DESCRIPTION:
URL:https://visaliaelks.org/events/lodge-meeting-initiations/2026-09-23/
LOCATION:Visalia Elks Lodge\, 3100 W Main St\, Visalia\, CA\, 93291\, United States
CATEGORIES:Lodge Meeting
GEO:36.3292721;-119.3254884
X-APPLE-STRUCTURED-LOCATION;VALUE=URI;X-ADDRESS=Visalia Elks Lodge 3100 W Main St Visalia CA 93291 United States;X-APPLE-RADIUS=500;X-TITLE=3100 W Main St:geo:-119.3254884,36.3292721
END:VEVENT
BEGIN:VEVENT
DTSTART;TZID=UTC:20260930T203000
DTEND;TZID=UTC:20260930T203000
DTSTAMP:20260423T215317
CREATED:20250502T010350Z
LAST-MODIFIED:20251201T180351Z
UID:10002297-1790800200-1790800200@visaliaelks.org
SUMMARY:Purple Pig Racing
DESCRIPTION:Following the Lodge Meeting – 5th Wednesday of the month.  Watch for details in the Member’s FB group.
URL:https://visaliaelks.org/events/purple-pig-racing/2026-09-30/
LOCATION:Visalia Elks Lodge\, 3100 W Main St\, Visalia\, CA\, 93291\, United States
CATEGORIES:Lodge Meeting,Other Lodge Events
GEO:36.3292721;-119.3254884
X-APPLE-STRUCTURED-LOCATION;VALUE=URI;X-ADDRESS=Visalia Elks Lodge 3100 W Main St Visalia CA 93291 United States;X-APPLE-RADIUS=500;X-TITLE=3100 W Main St:geo:-119.3254884,36.3292721
END:VEVENT
BEGIN:VEVENT
DTSTART;TZID=UTC:20261014T173000
DTEND;TZID=UTC:20261014T173000
DTSTAMP:20260423T215317
CREATED:20180626T174114Z
LAST-MODIFIED:20180626T174114Z
UID:10000099-1791999000-1791999000@visaliaelks.org
SUMMARY:House Committee Meeting
DESCRIPTION:
URL:https://visaliaelks.org/events/house-committee-meeting-3/2026-10-14/
LOCATION:Visalia Elks Lodge\, 3100 W Main St\, Visalia\, CA\, 93291\, United States
CATEGORIES:Lodge Meeting
GEO:36.3292721;-119.3254884
X-APPLE-STRUCTURED-LOCATION;VALUE=URI;X-ADDRESS=Visalia Elks Lodge 3100 W Main St Visalia CA 93291 United States;X-APPLE-RADIUS=500;X-TITLE=3100 W Main St:geo:-119.3254884,36.3292721
END:VEVENT
BEGIN:VEVENT
DTSTART;TZID=UTC:20261014T180000
DTEND;TZID=UTC:20261014T180000
DTSTAMP:20260423T215317
CREATED:20180626T174214Z
LAST-MODIFIED:20180626T174640Z
UID:10000911-1792000800-1792000800@visaliaelks.org
SUMMARY:Trustee Meeting
DESCRIPTION:Note: You must call or e-mail in advance to be on the agenda
URL:https://visaliaelks.org/events/trustee-meeting-3/2026-10-14/
LOCATION:Visalia Elks Lodge\, 3100 W Main St\, Visalia\, CA\, 93291\, United States
CATEGORIES:Lodge Meeting
GEO:36.3292721;-119.3254884
X-APPLE-STRUCTURED-LOCATION;VALUE=URI;X-ADDRESS=Visalia Elks Lodge 3100 W Main St Visalia CA 93291 United States;X-APPLE-RADIUS=500;X-TITLE=3100 W Main St:geo:-119.3254884,36.3292721
END:VEVENT
BEGIN:VEVENT
DTSTART;TZID=UTC:20261014T193000
DTEND;TZID=UTC:20261014T193000
DTSTAMP:20260423T215317
CREATED:20180626T173912Z
LAST-MODIFIED:20180626T173927Z
UID:10000411-1792006200-1792006200@visaliaelks.org
SUMMARY:Lodge Meeting (Business)
DESCRIPTION:
URL:https://visaliaelks.org/events/lodge-meeting-business-2/2026-10-14/
LOCATION:Visalia Elks Lodge\, 3100 W Main St\, Visalia\, CA\, 93291\, United States
CATEGORIES:Lodge Meeting
GEO:36.3292721;-119.3254884
X-APPLE-STRUCTURED-LOCATION;VALUE=URI;X-ADDRESS=Visalia Elks Lodge 3100 W Main St Visalia CA 93291 United States;X-APPLE-RADIUS=500;X-TITLE=3100 W Main St:geo:-119.3254884,36.3292721
END:VEVENT
BEGIN:VEVENT
DTSTART;TZID=UTC:20261028T193000
DTEND;TZID=UTC:20261028T193000
DTSTAMP:20260423T215317
CREATED:20180626T174320Z
LAST-MODIFIED:20251103T175848Z
UID:10001241-1793215800-1793215800@visaliaelks.org
SUMMARY:Lodge Meeting (Initiations)
DESCRIPTION:
URL:https://visaliaelks.org/events/lodge-meeting-initiations/2026-10-28/
LOCATION:Visalia Elks Lodge\, 3100 W Main St\, Visalia\, CA\, 93291\, United States
CATEGORIES:Lodge Meeting
GEO:36.3292721;-119.3254884
X-APPLE-STRUCTURED-LOCATION;VALUE=URI;X-ADDRESS=Visalia Elks Lodge 3100 W Main St Visalia CA 93291 United States;X-APPLE-RADIUS=500;X-TITLE=3100 W Main St:geo:-119.3254884,36.3292721
END:VEVENT
BEGIN:VEVENT
DTSTART;TZID=UTC:20261111T173000
DTEND;TZID=UTC:20261111T173000
DTSTAMP:20260423T215317
CREATED:20180626T174114Z
LAST-MODIFIED:20180626T174114Z
UID:10000100-1794418200-1794418200@visaliaelks.org
SUMMARY:House Committee Meeting
DESCRIPTION:
URL:https://visaliaelks.org/events/house-committee-meeting-3/2026-11-11/
LOCATION:Visalia Elks Lodge\, 3100 W Main St\, Visalia\, CA\, 93291\, United States
CATEGORIES:Lodge Meeting
GEO:36.3292721;-119.3254884
X-APPLE-STRUCTURED-LOCATION;VALUE=URI;X-ADDRESS=Visalia Elks Lodge 3100 W Main St Visalia CA 93291 United States;X-APPLE-RADIUS=500;X-TITLE=3100 W Main St:geo:-119.3254884,36.3292721
END:VEVENT
BEGIN:VEVENT
DTSTART;TZID=UTC:20261111T180000
DTEND;TZID=UTC:20261111T180000
DTSTAMP:20260423T215317
CREATED:20180626T174214Z
LAST-MODIFIED:20180626T174640Z
UID:10000912-1794420000-1794420000@visaliaelks.org
SUMMARY:Trustee Meeting
DESCRIPTION:Note: You must call or e-mail in advance to be on the agenda
URL:https://visaliaelks.org/events/trustee-meeting-3/2026-11-11/
LOCATION:Visalia Elks Lodge\, 3100 W Main St\, Visalia\, CA\, 93291\, United States
CATEGORIES:Lodge Meeting
GEO:36.3292721;-119.3254884
X-APPLE-STRUCTURED-LOCATION;VALUE=URI;X-ADDRESS=Visalia Elks Lodge 3100 W Main St Visalia CA 93291 United States;X-APPLE-RADIUS=500;X-TITLE=3100 W Main St:geo:-119.3254884,36.3292721
END:VEVENT
END:VCALENDAR