BEGIN:VCALENDAR
VERSION:2.0
PRODID:-//Visalia Elks Lodge 1298 - ECPv6.15.20//NONSGML v1.0//EN
CALSCALE:GREGORIAN
METHOD:PUBLISH
X-WR-CALNAME:Visalia Elks Lodge 1298
X-ORIGINAL-URL:https://visaliaelks.org
X-WR-CALDESC:Events for Visalia Elks Lodge 1298
REFRESH-INTERVAL;VALUE=DURATION:PT1H
X-Robots-Tag:noindex
X-PUBLISHED-TTL:PT1H
BEGIN:VTIMEZONE
TZID:UTC
BEGIN:STANDARD
TZOFFSETFROM:+0000
TZOFFSETTO:+0000
TZNAME:UTC
DTSTART:20270101T000000
END:STANDARD
END:VTIMEZONE
BEGIN:VEVENT
DTSTART;TZID=UTC:20280809T193000
DTEND;TZID=UTC:20280809T193000
DTSTAMP:20260425T160337
CREATED:20180626T173912Z
LAST-MODIFIED:20180626T173927Z
UID:10001518-1849462200-1849462200@visaliaelks.org
SUMMARY:Lodge Meeting (Business)
DESCRIPTION:
URL:https://visaliaelks.org/events/lodge-meeting-business-2/2028-08-09/
LOCATION:Visalia Elks Lodge\, 3100 W Main St\, Visalia\, CA\, 93291\, United States
CATEGORIES:Lodge Meeting
GEO:36.3292721;-119.3254884
X-APPLE-STRUCTURED-LOCATION;VALUE=URI;X-ADDRESS=Visalia Elks Lodge 3100 W Main St Visalia CA 93291 United States;X-APPLE-RADIUS=500;X-TITLE=3100 W Main St:geo:-119.3254884,36.3292721
END:VEVENT
BEGIN:VEVENT
DTSTART;TZID=UTC:20280823T193000
DTEND;TZID=UTC:20280823T193000
DTSTAMP:20260425T160337
CREATED:20180626T174320Z
LAST-MODIFIED:20251103T175848Z
UID:10001590-1850671800-1850671800@visaliaelks.org
SUMMARY:Lodge Meeting (Initiations)
DESCRIPTION:
URL:https://visaliaelks.org/events/lodge-meeting-initiations/2028-08-23/
LOCATION:Visalia Elks Lodge\, 3100 W Main St\, Visalia\, CA\, 93291\, United States
CATEGORIES:Lodge Meeting
GEO:36.3292721;-119.3254884
X-APPLE-STRUCTURED-LOCATION;VALUE=URI;X-ADDRESS=Visalia Elks Lodge 3100 W Main St Visalia CA 93291 United States;X-APPLE-RADIUS=500;X-TITLE=3100 W Main St:geo:-119.3254884,36.3292721
END:VEVENT
BEGIN:VEVENT
DTSTART;TZID=UTC:20280830T203000
DTEND;TZID=UTC:20280830T203000
DTSTAMP:20260425T160337
CREATED:20250502T010350Z
LAST-MODIFIED:20251201T180351Z
UID:10002305-1851280200-1851280200@visaliaelks.org
SUMMARY:Purple Pig Racing
DESCRIPTION:Following the Lodge Meeting – 5th Wednesday of the month.  Watch for details in the Member’s FB group.
URL:https://visaliaelks.org/events/purple-pig-racing/2028-08-30/
LOCATION:Visalia Elks Lodge\, 3100 W Main St\, Visalia\, CA\, 93291\, United States
CATEGORIES:Lodge Meeting,Other Lodge Events
GEO:36.3292721;-119.3254884
X-APPLE-STRUCTURED-LOCATION;VALUE=URI;X-ADDRESS=Visalia Elks Lodge 3100 W Main St Visalia CA 93291 United States;X-APPLE-RADIUS=500;X-TITLE=3100 W Main St:geo:-119.3254884,36.3292721
END:VEVENT
BEGIN:VEVENT
DTSTART;TZID=UTC:20280913T173000
DTEND;TZID=UTC:20280913T173000
DTSTAMP:20260425T160337
CREATED:20180626T174114Z
LAST-MODIFIED:20180626T174114Z
UID:10001447-1852479000-1852479000@visaliaelks.org
SUMMARY:House Committee Meeting
DESCRIPTION:
URL:https://visaliaelks.org/events/house-committee-meeting-3/2028-09-13/
LOCATION:Visalia Elks Lodge\, 3100 W Main St\, Visalia\, CA\, 93291\, United States
CATEGORIES:Lodge Meeting
GEO:36.3292721;-119.3254884
X-APPLE-STRUCTURED-LOCATION;VALUE=URI;X-ADDRESS=Visalia Elks Lodge 3100 W Main St Visalia CA 93291 United States;X-APPLE-RADIUS=500;X-TITLE=3100 W Main St:geo:-119.3254884,36.3292721
END:VEVENT
BEGIN:VEVENT
DTSTART;TZID=UTC:20280913T180000
DTEND;TZID=UTC:20280913T180000
DTSTAMP:20260425T160337
CREATED:20180626T174214Z
LAST-MODIFIED:20180626T174640Z
UID:10001483-1852480800-1852480800@visaliaelks.org
SUMMARY:Trustee Meeting
DESCRIPTION:Note: You must call or e-mail in advance to be on the agenda
URL:https://visaliaelks.org/events/trustee-meeting-3/2028-09-13/
LOCATION:Visalia Elks Lodge\, 3100 W Main St\, Visalia\, CA\, 93291\, United States
CATEGORIES:Lodge Meeting
GEO:36.3292721;-119.3254884
X-APPLE-STRUCTURED-LOCATION;VALUE=URI;X-ADDRESS=Visalia Elks Lodge 3100 W Main St Visalia CA 93291 United States;X-APPLE-RADIUS=500;X-TITLE=3100 W Main St:geo:-119.3254884,36.3292721
END:VEVENT
BEGIN:VEVENT
DTSTART;TZID=UTC:20280913T193000
DTEND;TZID=UTC:20280913T193000
DTSTAMP:20260425T160337
CREATED:20180626T173912Z
LAST-MODIFIED:20180626T173927Z
UID:10001519-1852486200-1852486200@visaliaelks.org
SUMMARY:Lodge Meeting (Business)
DESCRIPTION:
URL:https://visaliaelks.org/events/lodge-meeting-business-2/2028-09-13/
LOCATION:Visalia Elks Lodge\, 3100 W Main St\, Visalia\, CA\, 93291\, United States
CATEGORIES:Lodge Meeting
GEO:36.3292721;-119.3254884
X-APPLE-STRUCTURED-LOCATION;VALUE=URI;X-ADDRESS=Visalia Elks Lodge 3100 W Main St Visalia CA 93291 United States;X-APPLE-RADIUS=500;X-TITLE=3100 W Main St:geo:-119.3254884,36.3292721
END:VEVENT
BEGIN:VEVENT
DTSTART;TZID=UTC:20280927T193000
DTEND;TZID=UTC:20280927T193000
DTSTAMP:20260425T160337
CREATED:20180626T174320Z
LAST-MODIFIED:20251103T175848Z
UID:10001591-1853695800-1853695800@visaliaelks.org
SUMMARY:Lodge Meeting (Initiations)
DESCRIPTION:
URL:https://visaliaelks.org/events/lodge-meeting-initiations/2028-09-27/
LOCATION:Visalia Elks Lodge\, 3100 W Main St\, Visalia\, CA\, 93291\, United States
CATEGORIES:Lodge Meeting
GEO:36.3292721;-119.3254884
X-APPLE-STRUCTURED-LOCATION;VALUE=URI;X-ADDRESS=Visalia Elks Lodge 3100 W Main St Visalia CA 93291 United States;X-APPLE-RADIUS=500;X-TITLE=3100 W Main St:geo:-119.3254884,36.3292721
END:VEVENT
BEGIN:VEVENT
DTSTART;TZID=UTC:20281011T173000
DTEND;TZID=UTC:20281011T173000
DTSTAMP:20260425T160337
CREATED:20180626T174114Z
LAST-MODIFIED:20180626T174114Z
UID:10001448-1854898200-1854898200@visaliaelks.org
SUMMARY:House Committee Meeting
DESCRIPTION:
URL:https://visaliaelks.org/events/house-committee-meeting-3/2028-10-11/
LOCATION:Visalia Elks Lodge\, 3100 W Main St\, Visalia\, CA\, 93291\, United States
CATEGORIES:Lodge Meeting
GEO:36.3292721;-119.3254884
X-APPLE-STRUCTURED-LOCATION;VALUE=URI;X-ADDRESS=Visalia Elks Lodge 3100 W Main St Visalia CA 93291 United States;X-APPLE-RADIUS=500;X-TITLE=3100 W Main St:geo:-119.3254884,36.3292721
END:VEVENT
BEGIN:VEVENT
DTSTART;TZID=UTC:20281011T180000
DTEND;TZID=UTC:20281011T180000
DTSTAMP:20260425T160337
CREATED:20180626T174214Z
LAST-MODIFIED:20180626T174640Z
UID:10001484-1854900000-1854900000@visaliaelks.org
SUMMARY:Trustee Meeting
DESCRIPTION:Note: You must call or e-mail in advance to be on the agenda
URL:https://visaliaelks.org/events/trustee-meeting-3/2028-10-11/
LOCATION:Visalia Elks Lodge\, 3100 W Main St\, Visalia\, CA\, 93291\, United States
CATEGORIES:Lodge Meeting
GEO:36.3292721;-119.3254884
X-APPLE-STRUCTURED-LOCATION;VALUE=URI;X-ADDRESS=Visalia Elks Lodge 3100 W Main St Visalia CA 93291 United States;X-APPLE-RADIUS=500;X-TITLE=3100 W Main St:geo:-119.3254884,36.3292721
END:VEVENT
BEGIN:VEVENT
DTSTART;TZID=UTC:20281011T193000
DTEND;TZID=UTC:20281011T193000
DTSTAMP:20260425T160337
CREATED:20180626T173912Z
LAST-MODIFIED:20180626T173927Z
UID:10001520-1854905400-1854905400@visaliaelks.org
SUMMARY:Lodge Meeting (Business)
DESCRIPTION:
URL:https://visaliaelks.org/events/lodge-meeting-business-2/2028-10-11/
LOCATION:Visalia Elks Lodge\, 3100 W Main St\, Visalia\, CA\, 93291\, United States
CATEGORIES:Lodge Meeting
GEO:36.3292721;-119.3254884
X-APPLE-STRUCTURED-LOCATION;VALUE=URI;X-ADDRESS=Visalia Elks Lodge 3100 W Main St Visalia CA 93291 United States;X-APPLE-RADIUS=500;X-TITLE=3100 W Main St:geo:-119.3254884,36.3292721
END:VEVENT
BEGIN:VEVENT
DTSTART;TZID=UTC:20281025T193000
DTEND;TZID=UTC:20281025T193000
DTSTAMP:20260425T160337
CREATED:20180626T174320Z
LAST-MODIFIED:20251103T175848Z
UID:10001592-1856115000-1856115000@visaliaelks.org
SUMMARY:Lodge Meeting (Initiations)
DESCRIPTION:
URL:https://visaliaelks.org/events/lodge-meeting-initiations/2028-10-25/
LOCATION:Visalia Elks Lodge\, 3100 W Main St\, Visalia\, CA\, 93291\, United States
CATEGORIES:Lodge Meeting
GEO:36.3292721;-119.3254884
X-APPLE-STRUCTURED-LOCATION;VALUE=URI;X-ADDRESS=Visalia Elks Lodge 3100 W Main St Visalia CA 93291 United States;X-APPLE-RADIUS=500;X-TITLE=3100 W Main St:geo:-119.3254884,36.3292721
END:VEVENT
BEGIN:VEVENT
DTSTART;TZID=UTC:20281108T173000
DTEND;TZID=UTC:20281108T173000
DTSTAMP:20260425T160337
CREATED:20180626T174114Z
LAST-MODIFIED:20180626T174114Z
UID:10001449-1857317400-1857317400@visaliaelks.org
SUMMARY:House Committee Meeting
DESCRIPTION:
URL:https://visaliaelks.org/events/house-committee-meeting-3/2028-11-08/
LOCATION:Visalia Elks Lodge\, 3100 W Main St\, Visalia\, CA\, 93291\, United States
CATEGORIES:Lodge Meeting
GEO:36.3292721;-119.3254884
X-APPLE-STRUCTURED-LOCATION;VALUE=URI;X-ADDRESS=Visalia Elks Lodge 3100 W Main St Visalia CA 93291 United States;X-APPLE-RADIUS=500;X-TITLE=3100 W Main St:geo:-119.3254884,36.3292721
END:VEVENT
BEGIN:VEVENT
DTSTART;TZID=UTC:20281108T180000
DTEND;TZID=UTC:20281108T180000
DTSTAMP:20260425T160337
CREATED:20180626T174214Z
LAST-MODIFIED:20180626T174640Z
UID:10001485-1857319200-1857319200@visaliaelks.org
SUMMARY:Trustee Meeting
DESCRIPTION:Note: You must call or e-mail in advance to be on the agenda
URL:https://visaliaelks.org/events/trustee-meeting-3/2028-11-08/
LOCATION:Visalia Elks Lodge\, 3100 W Main St\, Visalia\, CA\, 93291\, United States
CATEGORIES:Lodge Meeting
GEO:36.3292721;-119.3254884
X-APPLE-STRUCTURED-LOCATION;VALUE=URI;X-ADDRESS=Visalia Elks Lodge 3100 W Main St Visalia CA 93291 United States;X-APPLE-RADIUS=500;X-TITLE=3100 W Main St:geo:-119.3254884,36.3292721
END:VEVENT
BEGIN:VEVENT
DTSTART;TZID=UTC:20281108T193000
DTEND;TZID=UTC:20281108T193000
DTSTAMP:20260425T160337
CREATED:20180626T173912Z
LAST-MODIFIED:20180626T173927Z
UID:10001521-1857324600-1857324600@visaliaelks.org
SUMMARY:Lodge Meeting (Business)
DESCRIPTION:
URL:https://visaliaelks.org/events/lodge-meeting-business-2/2028-11-08/
LOCATION:Visalia Elks Lodge\, 3100 W Main St\, Visalia\, CA\, 93291\, United States
CATEGORIES:Lodge Meeting
GEO:36.3292721;-119.3254884
X-APPLE-STRUCTURED-LOCATION;VALUE=URI;X-ADDRESS=Visalia Elks Lodge 3100 W Main St Visalia CA 93291 United States;X-APPLE-RADIUS=500;X-TITLE=3100 W Main St:geo:-119.3254884,36.3292721
END:VEVENT
BEGIN:VEVENT
DTSTART;TZID=UTC:20281122T193000
DTEND;TZID=UTC:20281122T193000
DTSTAMP:20260425T160337
CREATED:20180626T174320Z
LAST-MODIFIED:20251103T175848Z
UID:10001593-1858534200-1858534200@visaliaelks.org
SUMMARY:Lodge Meeting (Initiations)
DESCRIPTION:
URL:https://visaliaelks.org/events/lodge-meeting-initiations/2028-11-22/
LOCATION:Visalia Elks Lodge\, 3100 W Main St\, Visalia\, CA\, 93291\, United States
CATEGORIES:Lodge Meeting
GEO:36.3292721;-119.3254884
X-APPLE-STRUCTURED-LOCATION;VALUE=URI;X-ADDRESS=Visalia Elks Lodge 3100 W Main St Visalia CA 93291 United States;X-APPLE-RADIUS=500;X-TITLE=3100 W Main St:geo:-119.3254884,36.3292721
END:VEVENT
BEGIN:VEVENT
DTSTART;TZID=UTC:20281129T203000
DTEND;TZID=UTC:20281129T203000
DTSTAMP:20260425T160337
CREATED:20250502T010350Z
LAST-MODIFIED:20251201T180351Z
UID:10002306-1859142600-1859142600@visaliaelks.org
SUMMARY:Purple Pig Racing
DESCRIPTION:Following the Lodge Meeting – 5th Wednesday of the month.  Watch for details in the Member’s FB group.
URL:https://visaliaelks.org/events/purple-pig-racing/2028-11-29/
LOCATION:Visalia Elks Lodge\, 3100 W Main St\, Visalia\, CA\, 93291\, United States
CATEGORIES:Lodge Meeting,Other Lodge Events
GEO:36.3292721;-119.3254884
X-APPLE-STRUCTURED-LOCATION;VALUE=URI;X-ADDRESS=Visalia Elks Lodge 3100 W Main St Visalia CA 93291 United States;X-APPLE-RADIUS=500;X-TITLE=3100 W Main St:geo:-119.3254884,36.3292721
END:VEVENT
BEGIN:VEVENT
DTSTART;TZID=UTC:20281213T173000
DTEND;TZID=UTC:20281213T173000
DTSTAMP:20260425T160337
CREATED:20180626T174114Z
LAST-MODIFIED:20180626T174114Z
UID:10001450-1860341400-1860341400@visaliaelks.org
SUMMARY:House Committee Meeting
DESCRIPTION:
URL:https://visaliaelks.org/events/house-committee-meeting-3/2028-12-13/
LOCATION:Visalia Elks Lodge\, 3100 W Main St\, Visalia\, CA\, 93291\, United States
CATEGORIES:Lodge Meeting
GEO:36.3292721;-119.3254884
X-APPLE-STRUCTURED-LOCATION;VALUE=URI;X-ADDRESS=Visalia Elks Lodge 3100 W Main St Visalia CA 93291 United States;X-APPLE-RADIUS=500;X-TITLE=3100 W Main St:geo:-119.3254884,36.3292721
END:VEVENT
BEGIN:VEVENT
DTSTART;TZID=UTC:20281213T180000
DTEND;TZID=UTC:20281213T180000
DTSTAMP:20260425T160337
CREATED:20180626T174214Z
LAST-MODIFIED:20180626T174640Z
UID:10001486-1860343200-1860343200@visaliaelks.org
SUMMARY:Trustee Meeting
DESCRIPTION:Note: You must call or e-mail in advance to be on the agenda
URL:https://visaliaelks.org/events/trustee-meeting-3/2028-12-13/
LOCATION:Visalia Elks Lodge\, 3100 W Main St\, Visalia\, CA\, 93291\, United States
CATEGORIES:Lodge Meeting
GEO:36.3292721;-119.3254884
X-APPLE-STRUCTURED-LOCATION;VALUE=URI;X-ADDRESS=Visalia Elks Lodge 3100 W Main St Visalia CA 93291 United States;X-APPLE-RADIUS=500;X-TITLE=3100 W Main St:geo:-119.3254884,36.3292721
END:VEVENT
BEGIN:VEVENT
DTSTART;TZID=UTC:20281213T193000
DTEND;TZID=UTC:20281213T193000
DTSTAMP:20260425T160337
CREATED:20180626T173912Z
LAST-MODIFIED:20180626T173927Z
UID:10001522-1860348600-1860348600@visaliaelks.org
SUMMARY:Lodge Meeting (Business)
DESCRIPTION:
URL:https://visaliaelks.org/events/lodge-meeting-business-2/2028-12-13/
LOCATION:Visalia Elks Lodge\, 3100 W Main St\, Visalia\, CA\, 93291\, United States
CATEGORIES:Lodge Meeting
GEO:36.3292721;-119.3254884
X-APPLE-STRUCTURED-LOCATION;VALUE=URI;X-ADDRESS=Visalia Elks Lodge 3100 W Main St Visalia CA 93291 United States;X-APPLE-RADIUS=500;X-TITLE=3100 W Main St:geo:-119.3254884,36.3292721
END:VEVENT
BEGIN:VEVENT
DTSTART;TZID=UTC:20281227T193000
DTEND;TZID=UTC:20281227T193000
DTSTAMP:20260425T160337
CREATED:20180626T174320Z
LAST-MODIFIED:20251103T175848Z
UID:10001594-1861558200-1861558200@visaliaelks.org
SUMMARY:Lodge Meeting (Initiations)
DESCRIPTION:
URL:https://visaliaelks.org/events/lodge-meeting-initiations/2028-12-27/
LOCATION:Visalia Elks Lodge\, 3100 W Main St\, Visalia\, CA\, 93291\, United States
CATEGORIES:Lodge Meeting
GEO:36.3292721;-119.3254884
X-APPLE-STRUCTURED-LOCATION;VALUE=URI;X-ADDRESS=Visalia Elks Lodge 3100 W Main St Visalia CA 93291 United States;X-APPLE-RADIUS=500;X-TITLE=3100 W Main St:geo:-119.3254884,36.3292721
END:VEVENT
BEGIN:VEVENT
DTSTART;TZID=UTC:20290110T173000
DTEND;TZID=UTC:20290110T173000
DTSTAMP:20260425T160337
CREATED:20180626T174114Z
LAST-MODIFIED:20180626T174114Z
UID:10001451-1862760600-1862760600@visaliaelks.org
SUMMARY:House Committee Meeting
DESCRIPTION:
URL:https://visaliaelks.org/events/house-committee-meeting-3/2029-01-10/
LOCATION:Visalia Elks Lodge\, 3100 W Main St\, Visalia\, CA\, 93291\, United States
CATEGORIES:Lodge Meeting
GEO:36.3292721;-119.3254884
X-APPLE-STRUCTURED-LOCATION;VALUE=URI;X-ADDRESS=Visalia Elks Lodge 3100 W Main St Visalia CA 93291 United States;X-APPLE-RADIUS=500;X-TITLE=3100 W Main St:geo:-119.3254884,36.3292721
END:VEVENT
BEGIN:VEVENT
DTSTART;TZID=UTC:20290110T180000
DTEND;TZID=UTC:20290110T180000
DTSTAMP:20260425T160337
CREATED:20180626T174214Z
LAST-MODIFIED:20180626T174640Z
UID:10001487-1862762400-1862762400@visaliaelks.org
SUMMARY:Trustee Meeting
DESCRIPTION:Note: You must call or e-mail in advance to be on the agenda
URL:https://visaliaelks.org/events/trustee-meeting-3/2029-01-10/
LOCATION:Visalia Elks Lodge\, 3100 W Main St\, Visalia\, CA\, 93291\, United States
CATEGORIES:Lodge Meeting
GEO:36.3292721;-119.3254884
X-APPLE-STRUCTURED-LOCATION;VALUE=URI;X-ADDRESS=Visalia Elks Lodge 3100 W Main St Visalia CA 93291 United States;X-APPLE-RADIUS=500;X-TITLE=3100 W Main St:geo:-119.3254884,36.3292721
END:VEVENT
BEGIN:VEVENT
DTSTART;TZID=UTC:20290110T193000
DTEND;TZID=UTC:20290110T193000
DTSTAMP:20260425T160337
CREATED:20180626T173912Z
LAST-MODIFIED:20180626T173927Z
UID:10001523-1862767800-1862767800@visaliaelks.org
SUMMARY:Lodge Meeting (Business)
DESCRIPTION:
URL:https://visaliaelks.org/events/lodge-meeting-business-2/2029-01-10/
LOCATION:Visalia Elks Lodge\, 3100 W Main St\, Visalia\, CA\, 93291\, United States
CATEGORIES:Lodge Meeting
GEO:36.3292721;-119.3254884
X-APPLE-STRUCTURED-LOCATION;VALUE=URI;X-ADDRESS=Visalia Elks Lodge 3100 W Main St Visalia CA 93291 United States;X-APPLE-RADIUS=500;X-TITLE=3100 W Main St:geo:-119.3254884,36.3292721
END:VEVENT
BEGIN:VEVENT
DTSTART;TZID=UTC:20290124T193000
DTEND;TZID=UTC:20290124T193000
DTSTAMP:20260425T160337
CREATED:20180626T174320Z
LAST-MODIFIED:20251103T175848Z
UID:10001595-1863977400-1863977400@visaliaelks.org
SUMMARY:Lodge Meeting (Initiations)
DESCRIPTION:
URL:https://visaliaelks.org/events/lodge-meeting-initiations/2029-01-24/
LOCATION:Visalia Elks Lodge\, 3100 W Main St\, Visalia\, CA\, 93291\, United States
CATEGORIES:Lodge Meeting
GEO:36.3292721;-119.3254884
X-APPLE-STRUCTURED-LOCATION;VALUE=URI;X-ADDRESS=Visalia Elks Lodge 3100 W Main St Visalia CA 93291 United States;X-APPLE-RADIUS=500;X-TITLE=3100 W Main St:geo:-119.3254884,36.3292721
END:VEVENT
BEGIN:VEVENT
DTSTART;TZID=UTC:20290131T203000
DTEND;TZID=UTC:20290131T203000
DTSTAMP:20260425T160337
CREATED:20250502T010350Z
LAST-MODIFIED:20251201T180351Z
UID:10002307-1864585800-1864585800@visaliaelks.org
SUMMARY:Purple Pig Racing
DESCRIPTION:Following the Lodge Meeting – 5th Wednesday of the month.  Watch for details in the Member’s FB group.
URL:https://visaliaelks.org/events/purple-pig-racing/2029-01-31/
LOCATION:Visalia Elks Lodge\, 3100 W Main St\, Visalia\, CA\, 93291\, United States
CATEGORIES:Lodge Meeting,Other Lodge Events
GEO:36.3292721;-119.3254884
X-APPLE-STRUCTURED-LOCATION;VALUE=URI;X-ADDRESS=Visalia Elks Lodge 3100 W Main St Visalia CA 93291 United States;X-APPLE-RADIUS=500;X-TITLE=3100 W Main St:geo:-119.3254884,36.3292721
END:VEVENT
BEGIN:VEVENT
DTSTART;TZID=UTC:20290214T173000
DTEND;TZID=UTC:20290214T173000
DTSTAMP:20260425T160337
CREATED:20180626T174114Z
LAST-MODIFIED:20180626T174114Z
UID:10001452-1865784600-1865784600@visaliaelks.org
SUMMARY:House Committee Meeting
DESCRIPTION:
URL:https://visaliaelks.org/events/house-committee-meeting-3/2029-02-14/
LOCATION:Visalia Elks Lodge\, 3100 W Main St\, Visalia\, CA\, 93291\, United States
CATEGORIES:Lodge Meeting
GEO:36.3292721;-119.3254884
X-APPLE-STRUCTURED-LOCATION;VALUE=URI;X-ADDRESS=Visalia Elks Lodge 3100 W Main St Visalia CA 93291 United States;X-APPLE-RADIUS=500;X-TITLE=3100 W Main St:geo:-119.3254884,36.3292721
END:VEVENT
BEGIN:VEVENT
DTSTART;TZID=UTC:20290214T180000
DTEND;TZID=UTC:20290214T180000
DTSTAMP:20260425T160337
CREATED:20180626T174214Z
LAST-MODIFIED:20180626T174640Z
UID:10001488-1865786400-1865786400@visaliaelks.org
SUMMARY:Trustee Meeting
DESCRIPTION:Note: You must call or e-mail in advance to be on the agenda
URL:https://visaliaelks.org/events/trustee-meeting-3/2029-02-14/
LOCATION:Visalia Elks Lodge\, 3100 W Main St\, Visalia\, CA\, 93291\, United States
CATEGORIES:Lodge Meeting
GEO:36.3292721;-119.3254884
X-APPLE-STRUCTURED-LOCATION;VALUE=URI;X-ADDRESS=Visalia Elks Lodge 3100 W Main St Visalia CA 93291 United States;X-APPLE-RADIUS=500;X-TITLE=3100 W Main St:geo:-119.3254884,36.3292721
END:VEVENT
BEGIN:VEVENT
DTSTART;TZID=UTC:20290214T193000
DTEND;TZID=UTC:20290214T193000
DTSTAMP:20260425T160337
CREATED:20180626T173912Z
LAST-MODIFIED:20180626T173927Z
UID:10001524-1865791800-1865791800@visaliaelks.org
SUMMARY:Lodge Meeting (Business)
DESCRIPTION:
URL:https://visaliaelks.org/events/lodge-meeting-business-2/2029-02-14/
LOCATION:Visalia Elks Lodge\, 3100 W Main St\, Visalia\, CA\, 93291\, United States
CATEGORIES:Lodge Meeting
GEO:36.3292721;-119.3254884
X-APPLE-STRUCTURED-LOCATION;VALUE=URI;X-ADDRESS=Visalia Elks Lodge 3100 W Main St Visalia CA 93291 United States;X-APPLE-RADIUS=500;X-TITLE=3100 W Main St:geo:-119.3254884,36.3292721
END:VEVENT
BEGIN:VEVENT
DTSTART;TZID=UTC:20290228T193000
DTEND;TZID=UTC:20290228T193000
DTSTAMP:20260425T160337
CREATED:20180626T174320Z
LAST-MODIFIED:20251103T175848Z
UID:10001596-1867001400-1867001400@visaliaelks.org
SUMMARY:Lodge Meeting (Initiations)
DESCRIPTION:
URL:https://visaliaelks.org/events/lodge-meeting-initiations/2029-02-28/
LOCATION:Visalia Elks Lodge\, 3100 W Main St\, Visalia\, CA\, 93291\, United States
CATEGORIES:Lodge Meeting
GEO:36.3292721;-119.3254884
X-APPLE-STRUCTURED-LOCATION;VALUE=URI;X-ADDRESS=Visalia Elks Lodge 3100 W Main St Visalia CA 93291 United States;X-APPLE-RADIUS=500;X-TITLE=3100 W Main St:geo:-119.3254884,36.3292721
END:VEVENT
BEGIN:VEVENT
DTSTART;TZID=UTC:20290314T173000
DTEND;TZID=UTC:20290314T173000
DTSTAMP:20260425T160337
CREATED:20180626T174114Z
LAST-MODIFIED:20180626T174114Z
UID:10001453-1868203800-1868203800@visaliaelks.org
SUMMARY:House Committee Meeting
DESCRIPTION:
URL:https://visaliaelks.org/events/house-committee-meeting-3/2029-03-14/
LOCATION:Visalia Elks Lodge\, 3100 W Main St\, Visalia\, CA\, 93291\, United States
CATEGORIES:Lodge Meeting
GEO:36.3292721;-119.3254884
X-APPLE-STRUCTURED-LOCATION;VALUE=URI;X-ADDRESS=Visalia Elks Lodge 3100 W Main St Visalia CA 93291 United States;X-APPLE-RADIUS=500;X-TITLE=3100 W Main St:geo:-119.3254884,36.3292721
END:VEVENT
END:VCALENDAR