BEGIN:VCALENDAR
VERSION:2.0
PRODID:-//Visalia Elks Lodge 1298 - ECPv6.15.20//NONSGML v1.0//EN
CALSCALE:GREGORIAN
METHOD:PUBLISH
X-ORIGINAL-URL:https://visaliaelks.org
X-WR-CALDESC:Events for Visalia Elks Lodge 1298
REFRESH-INTERVAL;VALUE=DURATION:PT1H
X-Robots-Tag:noindex
X-PUBLISHED-TTL:PT1H
BEGIN:VTIMEZONE
TZID:UTC
BEGIN:STANDARD
TZOFFSETFROM:+0000
TZOFFSETTO:+0000
TZNAME:UTC
DTSTART:20270101T000000
END:STANDARD
END:VTIMEZONE
BEGIN:VEVENT
DTSTART;TZID=UTC:20280209T180000
DTEND;TZID=UTC:20280209T180000
DTSTAMP:20260425T145404
CREATED:20180626T174214Z
LAST-MODIFIED:20180626T174640Z
UID:10001476-1833732000-1833732000@visaliaelks.org
SUMMARY:Trustee Meeting
DESCRIPTION:Note: You must call or e-mail in advance to be on the agenda
URL:https://visaliaelks.org/events/trustee-meeting-3/2028-02-09/
LOCATION:Visalia Elks Lodge\, 3100 W Main St\, Visalia\, CA\, 93291\, United States
CATEGORIES:Lodge Meeting
GEO:36.3292721;-119.3254884
X-APPLE-STRUCTURED-LOCATION;VALUE=URI;X-ADDRESS=Visalia Elks Lodge 3100 W Main St Visalia CA 93291 United States;X-APPLE-RADIUS=500;X-TITLE=3100 W Main St:geo:-119.3254884,36.3292721
END:VEVENT
BEGIN:VEVENT
DTSTART;TZID=UTC:20280209T193000
DTEND;TZID=UTC:20280209T193000
DTSTAMP:20260425T145404
CREATED:20180626T173912Z
LAST-MODIFIED:20180626T173927Z
UID:10001512-1833737400-1833737400@visaliaelks.org
SUMMARY:Lodge Meeting (Business)
DESCRIPTION:
URL:https://visaliaelks.org/events/lodge-meeting-business-2/2028-02-09/
LOCATION:Visalia Elks Lodge\, 3100 W Main St\, Visalia\, CA\, 93291\, United States
CATEGORIES:Lodge Meeting
GEO:36.3292721;-119.3254884
X-APPLE-STRUCTURED-LOCATION;VALUE=URI;X-ADDRESS=Visalia Elks Lodge 3100 W Main St Visalia CA 93291 United States;X-APPLE-RADIUS=500;X-TITLE=3100 W Main St:geo:-119.3254884,36.3292721
END:VEVENT
BEGIN:VEVENT
DTSTART;TZID=UTC:20280223T193000
DTEND;TZID=UTC:20280223T193000
DTSTAMP:20260425T145404
CREATED:20180626T174320Z
LAST-MODIFIED:20251103T175848Z
UID:10001584-1834947000-1834947000@visaliaelks.org
SUMMARY:Lodge Meeting (Initiations)
DESCRIPTION:
URL:https://visaliaelks.org/events/lodge-meeting-initiations/2028-02-23/
LOCATION:Visalia Elks Lodge\, 3100 W Main St\, Visalia\, CA\, 93291\, United States
CATEGORIES:Lodge Meeting
GEO:36.3292721;-119.3254884
X-APPLE-STRUCTURED-LOCATION;VALUE=URI;X-ADDRESS=Visalia Elks Lodge 3100 W Main St Visalia CA 93291 United States;X-APPLE-RADIUS=500;X-TITLE=3100 W Main St:geo:-119.3254884,36.3292721
END:VEVENT
BEGIN:VEVENT
DTSTART;TZID=UTC:20280308T173000
DTEND;TZID=UTC:20280308T173000
DTSTAMP:20260425T145404
CREATED:20180626T174114Z
LAST-MODIFIED:20180626T174114Z
UID:10001441-1836149400-1836149400@visaliaelks.org
SUMMARY:House Committee Meeting
DESCRIPTION:
URL:https://visaliaelks.org/events/house-committee-meeting-3/2028-03-08/
LOCATION:Visalia Elks Lodge\, 3100 W Main St\, Visalia\, CA\, 93291\, United States
CATEGORIES:Lodge Meeting
GEO:36.3292721;-119.3254884
X-APPLE-STRUCTURED-LOCATION;VALUE=URI;X-ADDRESS=Visalia Elks Lodge 3100 W Main St Visalia CA 93291 United States;X-APPLE-RADIUS=500;X-TITLE=3100 W Main St:geo:-119.3254884,36.3292721
END:VEVENT
BEGIN:VEVENT
DTSTART;TZID=UTC:20280308T180000
DTEND;TZID=UTC:20280308T180000
DTSTAMP:20260425T145404
CREATED:20180626T174214Z
LAST-MODIFIED:20180626T174640Z
UID:10001477-1836151200-1836151200@visaliaelks.org
SUMMARY:Trustee Meeting
DESCRIPTION:Note: You must call or e-mail in advance to be on the agenda
URL:https://visaliaelks.org/events/trustee-meeting-3/2028-03-08/
LOCATION:Visalia Elks Lodge\, 3100 W Main St\, Visalia\, CA\, 93291\, United States
CATEGORIES:Lodge Meeting
GEO:36.3292721;-119.3254884
X-APPLE-STRUCTURED-LOCATION;VALUE=URI;X-ADDRESS=Visalia Elks Lodge 3100 W Main St Visalia CA 93291 United States;X-APPLE-RADIUS=500;X-TITLE=3100 W Main St:geo:-119.3254884,36.3292721
END:VEVENT
BEGIN:VEVENT
DTSTART;TZID=UTC:20280308T193000
DTEND;TZID=UTC:20280308T193000
DTSTAMP:20260425T145404
CREATED:20180626T173912Z
LAST-MODIFIED:20180626T173927Z
UID:10001513-1836156600-1836156600@visaliaelks.org
SUMMARY:Lodge Meeting (Business)
DESCRIPTION:
URL:https://visaliaelks.org/events/lodge-meeting-business-2/2028-03-08/
LOCATION:Visalia Elks Lodge\, 3100 W Main St\, Visalia\, CA\, 93291\, United States
CATEGORIES:Lodge Meeting
GEO:36.3292721;-119.3254884
X-APPLE-STRUCTURED-LOCATION;VALUE=URI;X-ADDRESS=Visalia Elks Lodge 3100 W Main St Visalia CA 93291 United States;X-APPLE-RADIUS=500;X-TITLE=3100 W Main St:geo:-119.3254884,36.3292721
END:VEVENT
BEGIN:VEVENT
DTSTART;TZID=UTC:20280322T193000
DTEND;TZID=UTC:20280322T193000
DTSTAMP:20260425T145404
CREATED:20180626T174320Z
LAST-MODIFIED:20251103T175848Z
UID:10001585-1837366200-1837366200@visaliaelks.org
SUMMARY:Lodge Meeting (Initiations)
DESCRIPTION:
URL:https://visaliaelks.org/events/lodge-meeting-initiations/2028-03-22/
LOCATION:Visalia Elks Lodge\, 3100 W Main St\, Visalia\, CA\, 93291\, United States
CATEGORIES:Lodge Meeting
GEO:36.3292721;-119.3254884
X-APPLE-STRUCTURED-LOCATION;VALUE=URI;X-ADDRESS=Visalia Elks Lodge 3100 W Main St Visalia CA 93291 United States;X-APPLE-RADIUS=500;X-TITLE=3100 W Main St:geo:-119.3254884,36.3292721
END:VEVENT
BEGIN:VEVENT
DTSTART;TZID=UTC:20280329T203000
DTEND;TZID=UTC:20280329T203000
DTSTAMP:20260425T145404
CREATED:20250502T010350Z
LAST-MODIFIED:20251201T180351Z
UID:10002303-1837974600-1837974600@visaliaelks.org
SUMMARY:Purple Pig Racing
DESCRIPTION:Following the Lodge Meeting – 5th Wednesday of the month.  Watch for details in the Member’s FB group.
URL:https://visaliaelks.org/events/purple-pig-racing/2028-03-29/
LOCATION:Visalia Elks Lodge\, 3100 W Main St\, Visalia\, CA\, 93291\, United States
CATEGORIES:Lodge Meeting,Other Lodge Events
GEO:36.3292721;-119.3254884
X-APPLE-STRUCTURED-LOCATION;VALUE=URI;X-ADDRESS=Visalia Elks Lodge 3100 W Main St Visalia CA 93291 United States;X-APPLE-RADIUS=500;X-TITLE=3100 W Main St:geo:-119.3254884,36.3292721
END:VEVENT
BEGIN:VEVENT
DTSTART;TZID=UTC:20280412T173000
DTEND;TZID=UTC:20280412T173000
DTSTAMP:20260425T145404
CREATED:20180626T174114Z
LAST-MODIFIED:20180626T174114Z
UID:10001442-1839173400-1839173400@visaliaelks.org
SUMMARY:House Committee Meeting
DESCRIPTION:
URL:https://visaliaelks.org/events/house-committee-meeting-3/2028-04-12/
LOCATION:Visalia Elks Lodge\, 3100 W Main St\, Visalia\, CA\, 93291\, United States
CATEGORIES:Lodge Meeting
GEO:36.3292721;-119.3254884
X-APPLE-STRUCTURED-LOCATION;VALUE=URI;X-ADDRESS=Visalia Elks Lodge 3100 W Main St Visalia CA 93291 United States;X-APPLE-RADIUS=500;X-TITLE=3100 W Main St:geo:-119.3254884,36.3292721
END:VEVENT
BEGIN:VEVENT
DTSTART;TZID=UTC:20280412T180000
DTEND;TZID=UTC:20280412T180000
DTSTAMP:20260425T145404
CREATED:20180626T174214Z
LAST-MODIFIED:20180626T174640Z
UID:10001478-1839175200-1839175200@visaliaelks.org
SUMMARY:Trustee Meeting
DESCRIPTION:Note: You must call or e-mail in advance to be on the agenda
URL:https://visaliaelks.org/events/trustee-meeting-3/2028-04-12/
LOCATION:Visalia Elks Lodge\, 3100 W Main St\, Visalia\, CA\, 93291\, United States
CATEGORIES:Lodge Meeting
GEO:36.3292721;-119.3254884
X-APPLE-STRUCTURED-LOCATION;VALUE=URI;X-ADDRESS=Visalia Elks Lodge 3100 W Main St Visalia CA 93291 United States;X-APPLE-RADIUS=500;X-TITLE=3100 W Main St:geo:-119.3254884,36.3292721
END:VEVENT
BEGIN:VEVENT
DTSTART;TZID=UTC:20280412T193000
DTEND;TZID=UTC:20280412T193000
DTSTAMP:20260425T145404
CREATED:20180626T173912Z
LAST-MODIFIED:20180626T173927Z
UID:10001514-1839180600-1839180600@visaliaelks.org
SUMMARY:Lodge Meeting (Business)
DESCRIPTION:
URL:https://visaliaelks.org/events/lodge-meeting-business-2/2028-04-12/
LOCATION:Visalia Elks Lodge\, 3100 W Main St\, Visalia\, CA\, 93291\, United States
CATEGORIES:Lodge Meeting
GEO:36.3292721;-119.3254884
X-APPLE-STRUCTURED-LOCATION;VALUE=URI;X-ADDRESS=Visalia Elks Lodge 3100 W Main St Visalia CA 93291 United States;X-APPLE-RADIUS=500;X-TITLE=3100 W Main St:geo:-119.3254884,36.3292721
END:VEVENT
BEGIN:VEVENT
DTSTART;TZID=UTC:20280426T193000
DTEND;TZID=UTC:20280426T193000
DTSTAMP:20260425T145404
CREATED:20180626T174320Z
LAST-MODIFIED:20251103T175848Z
UID:10001586-1840390200-1840390200@visaliaelks.org
SUMMARY:Lodge Meeting (Initiations)
DESCRIPTION:
URL:https://visaliaelks.org/events/lodge-meeting-initiations/2028-04-26/
LOCATION:Visalia Elks Lodge\, 3100 W Main St\, Visalia\, CA\, 93291\, United States
CATEGORIES:Lodge Meeting
GEO:36.3292721;-119.3254884
X-APPLE-STRUCTURED-LOCATION;VALUE=URI;X-ADDRESS=Visalia Elks Lodge 3100 W Main St Visalia CA 93291 United States;X-APPLE-RADIUS=500;X-TITLE=3100 W Main St:geo:-119.3254884,36.3292721
END:VEVENT
BEGIN:VEVENT
DTSTART;TZID=UTC:20280510T173000
DTEND;TZID=UTC:20280510T173000
DTSTAMP:20260425T145404
CREATED:20180626T174114Z
LAST-MODIFIED:20180626T174114Z
UID:10001443-1841592600-1841592600@visaliaelks.org
SUMMARY:House Committee Meeting
DESCRIPTION:
URL:https://visaliaelks.org/events/house-committee-meeting-3/2028-05-10/
LOCATION:Visalia Elks Lodge\, 3100 W Main St\, Visalia\, CA\, 93291\, United States
CATEGORIES:Lodge Meeting
GEO:36.3292721;-119.3254884
X-APPLE-STRUCTURED-LOCATION;VALUE=URI;X-ADDRESS=Visalia Elks Lodge 3100 W Main St Visalia CA 93291 United States;X-APPLE-RADIUS=500;X-TITLE=3100 W Main St:geo:-119.3254884,36.3292721
END:VEVENT
BEGIN:VEVENT
DTSTART;TZID=UTC:20280510T180000
DTEND;TZID=UTC:20280510T180000
DTSTAMP:20260425T145404
CREATED:20180626T174214Z
LAST-MODIFIED:20180626T174640Z
UID:10001479-1841594400-1841594400@visaliaelks.org
SUMMARY:Trustee Meeting
DESCRIPTION:Note: You must call or e-mail in advance to be on the agenda
URL:https://visaliaelks.org/events/trustee-meeting-3/2028-05-10/
LOCATION:Visalia Elks Lodge\, 3100 W Main St\, Visalia\, CA\, 93291\, United States
CATEGORIES:Lodge Meeting
GEO:36.3292721;-119.3254884
X-APPLE-STRUCTURED-LOCATION;VALUE=URI;X-ADDRESS=Visalia Elks Lodge 3100 W Main St Visalia CA 93291 United States;X-APPLE-RADIUS=500;X-TITLE=3100 W Main St:geo:-119.3254884,36.3292721
END:VEVENT
BEGIN:VEVENT
DTSTART;TZID=UTC:20280510T193000
DTEND;TZID=UTC:20280510T193000
DTSTAMP:20260425T145404
CREATED:20180626T173912Z
LAST-MODIFIED:20180626T173927Z
UID:10001515-1841599800-1841599800@visaliaelks.org
SUMMARY:Lodge Meeting (Business)
DESCRIPTION:
URL:https://visaliaelks.org/events/lodge-meeting-business-2/2028-05-10/
LOCATION:Visalia Elks Lodge\, 3100 W Main St\, Visalia\, CA\, 93291\, United States
CATEGORIES:Lodge Meeting
GEO:36.3292721;-119.3254884
X-APPLE-STRUCTURED-LOCATION;VALUE=URI;X-ADDRESS=Visalia Elks Lodge 3100 W Main St Visalia CA 93291 United States;X-APPLE-RADIUS=500;X-TITLE=3100 W Main St:geo:-119.3254884,36.3292721
END:VEVENT
BEGIN:VEVENT
DTSTART;TZID=UTC:20280524T193000
DTEND;TZID=UTC:20280524T193000
DTSTAMP:20260425T145404
CREATED:20180626T174320Z
LAST-MODIFIED:20251103T175848Z
UID:10001587-1842809400-1842809400@visaliaelks.org
SUMMARY:Lodge Meeting (Initiations)
DESCRIPTION:
URL:https://visaliaelks.org/events/lodge-meeting-initiations/2028-05-24/
LOCATION:Visalia Elks Lodge\, 3100 W Main St\, Visalia\, CA\, 93291\, United States
CATEGORIES:Lodge Meeting
GEO:36.3292721;-119.3254884
X-APPLE-STRUCTURED-LOCATION;VALUE=URI;X-ADDRESS=Visalia Elks Lodge 3100 W Main St Visalia CA 93291 United States;X-APPLE-RADIUS=500;X-TITLE=3100 W Main St:geo:-119.3254884,36.3292721
END:VEVENT
BEGIN:VEVENT
DTSTART;TZID=UTC:20280531T203000
DTEND;TZID=UTC:20280531T203000
DTSTAMP:20260425T145404
CREATED:20250502T010350Z
LAST-MODIFIED:20251201T180351Z
UID:10002304-1843417800-1843417800@visaliaelks.org
SUMMARY:Purple Pig Racing
DESCRIPTION:Following the Lodge Meeting – 5th Wednesday of the month.  Watch for details in the Member’s FB group.
URL:https://visaliaelks.org/events/purple-pig-racing/2028-05-31/
LOCATION:Visalia Elks Lodge\, 3100 W Main St\, Visalia\, CA\, 93291\, United States
CATEGORIES:Lodge Meeting,Other Lodge Events
GEO:36.3292721;-119.3254884
X-APPLE-STRUCTURED-LOCATION;VALUE=URI;X-ADDRESS=Visalia Elks Lodge 3100 W Main St Visalia CA 93291 United States;X-APPLE-RADIUS=500;X-TITLE=3100 W Main St:geo:-119.3254884,36.3292721
END:VEVENT
BEGIN:VEVENT
DTSTART;TZID=UTC:20280614T173000
DTEND;TZID=UTC:20280614T173000
DTSTAMP:20260425T145404
CREATED:20180626T174114Z
LAST-MODIFIED:20180626T174114Z
UID:10001444-1844616600-1844616600@visaliaelks.org
SUMMARY:House Committee Meeting
DESCRIPTION:
URL:https://visaliaelks.org/events/house-committee-meeting-3/2028-06-14/
LOCATION:Visalia Elks Lodge\, 3100 W Main St\, Visalia\, CA\, 93291\, United States
CATEGORIES:Lodge Meeting
GEO:36.3292721;-119.3254884
X-APPLE-STRUCTURED-LOCATION;VALUE=URI;X-ADDRESS=Visalia Elks Lodge 3100 W Main St Visalia CA 93291 United States;X-APPLE-RADIUS=500;X-TITLE=3100 W Main St:geo:-119.3254884,36.3292721
END:VEVENT
BEGIN:VEVENT
DTSTART;TZID=UTC:20280614T180000
DTEND;TZID=UTC:20280614T180000
DTSTAMP:20260425T145404
CREATED:20180626T174214Z
LAST-MODIFIED:20180626T174640Z
UID:10001480-1844618400-1844618400@visaliaelks.org
SUMMARY:Trustee Meeting
DESCRIPTION:Note: You must call or e-mail in advance to be on the agenda
URL:https://visaliaelks.org/events/trustee-meeting-3/2028-06-14/
LOCATION:Visalia Elks Lodge\, 3100 W Main St\, Visalia\, CA\, 93291\, United States
CATEGORIES:Lodge Meeting
GEO:36.3292721;-119.3254884
X-APPLE-STRUCTURED-LOCATION;VALUE=URI;X-ADDRESS=Visalia Elks Lodge 3100 W Main St Visalia CA 93291 United States;X-APPLE-RADIUS=500;X-TITLE=3100 W Main St:geo:-119.3254884,36.3292721
END:VEVENT
BEGIN:VEVENT
DTSTART;TZID=UTC:20280614T193000
DTEND;TZID=UTC:20280614T193000
DTSTAMP:20260425T145404
CREATED:20180626T173912Z
LAST-MODIFIED:20180626T173927Z
UID:10001516-1844623800-1844623800@visaliaelks.org
SUMMARY:Lodge Meeting (Business)
DESCRIPTION:
URL:https://visaliaelks.org/events/lodge-meeting-business-2/2028-06-14/
LOCATION:Visalia Elks Lodge\, 3100 W Main St\, Visalia\, CA\, 93291\, United States
CATEGORIES:Lodge Meeting
GEO:36.3292721;-119.3254884
X-APPLE-STRUCTURED-LOCATION;VALUE=URI;X-ADDRESS=Visalia Elks Lodge 3100 W Main St Visalia CA 93291 United States;X-APPLE-RADIUS=500;X-TITLE=3100 W Main St:geo:-119.3254884,36.3292721
END:VEVENT
BEGIN:VEVENT
DTSTART;TZID=UTC:20280628T193000
DTEND;TZID=UTC:20280628T193000
DTSTAMP:20260425T145404
CREATED:20180626T174320Z
LAST-MODIFIED:20251103T175848Z
UID:10001588-1845833400-1845833400@visaliaelks.org
SUMMARY:Lodge Meeting (Initiations)
DESCRIPTION:
URL:https://visaliaelks.org/events/lodge-meeting-initiations/2028-06-28/
LOCATION:Visalia Elks Lodge\, 3100 W Main St\, Visalia\, CA\, 93291\, United States
CATEGORIES:Lodge Meeting
GEO:36.3292721;-119.3254884
X-APPLE-STRUCTURED-LOCATION;VALUE=URI;X-ADDRESS=Visalia Elks Lodge 3100 W Main St Visalia CA 93291 United States;X-APPLE-RADIUS=500;X-TITLE=3100 W Main St:geo:-119.3254884,36.3292721
END:VEVENT
BEGIN:VEVENT
DTSTART;TZID=UTC:20280712T173000
DTEND;TZID=UTC:20280712T173000
DTSTAMP:20260425T145404
CREATED:20180626T174114Z
LAST-MODIFIED:20180626T174114Z
UID:10001445-1847035800-1847035800@visaliaelks.org
SUMMARY:House Committee Meeting
DESCRIPTION:
URL:https://visaliaelks.org/events/house-committee-meeting-3/2028-07-12/
LOCATION:Visalia Elks Lodge\, 3100 W Main St\, Visalia\, CA\, 93291\, United States
CATEGORIES:Lodge Meeting
GEO:36.3292721;-119.3254884
X-APPLE-STRUCTURED-LOCATION;VALUE=URI;X-ADDRESS=Visalia Elks Lodge 3100 W Main St Visalia CA 93291 United States;X-APPLE-RADIUS=500;X-TITLE=3100 W Main St:geo:-119.3254884,36.3292721
END:VEVENT
BEGIN:VEVENT
DTSTART;TZID=UTC:20280712T180000
DTEND;TZID=UTC:20280712T180000
DTSTAMP:20260425T145404
CREATED:20180626T174214Z
LAST-MODIFIED:20180626T174640Z
UID:10001481-1847037600-1847037600@visaliaelks.org
SUMMARY:Trustee Meeting
DESCRIPTION:Note: You must call or e-mail in advance to be on the agenda
URL:https://visaliaelks.org/events/trustee-meeting-3/2028-07-12/
LOCATION:Visalia Elks Lodge\, 3100 W Main St\, Visalia\, CA\, 93291\, United States
CATEGORIES:Lodge Meeting
GEO:36.3292721;-119.3254884
X-APPLE-STRUCTURED-LOCATION;VALUE=URI;X-ADDRESS=Visalia Elks Lodge 3100 W Main St Visalia CA 93291 United States;X-APPLE-RADIUS=500;X-TITLE=3100 W Main St:geo:-119.3254884,36.3292721
END:VEVENT
BEGIN:VEVENT
DTSTART;TZID=UTC:20280712T193000
DTEND;TZID=UTC:20280712T193000
DTSTAMP:20260425T145404
CREATED:20180626T173912Z
LAST-MODIFIED:20180626T173927Z
UID:10001517-1847043000-1847043000@visaliaelks.org
SUMMARY:Lodge Meeting (Business)
DESCRIPTION:
URL:https://visaliaelks.org/events/lodge-meeting-business-2/2028-07-12/
LOCATION:Visalia Elks Lodge\, 3100 W Main St\, Visalia\, CA\, 93291\, United States
CATEGORIES:Lodge Meeting
GEO:36.3292721;-119.3254884
X-APPLE-STRUCTURED-LOCATION;VALUE=URI;X-ADDRESS=Visalia Elks Lodge 3100 W Main St Visalia CA 93291 United States;X-APPLE-RADIUS=500;X-TITLE=3100 W Main St:geo:-119.3254884,36.3292721
END:VEVENT
BEGIN:VEVENT
DTSTART;TZID=UTC:20280726T193000
DTEND;TZID=UTC:20280726T193000
DTSTAMP:20260425T145404
CREATED:20180626T174320Z
LAST-MODIFIED:20251103T175848Z
UID:10001589-1848252600-1848252600@visaliaelks.org
SUMMARY:Lodge Meeting (Initiations)
DESCRIPTION:
URL:https://visaliaelks.org/events/lodge-meeting-initiations/2028-07-26/
LOCATION:Visalia Elks Lodge\, 3100 W Main St\, Visalia\, CA\, 93291\, United States
CATEGORIES:Lodge Meeting
GEO:36.3292721;-119.3254884
X-APPLE-STRUCTURED-LOCATION;VALUE=URI;X-ADDRESS=Visalia Elks Lodge 3100 W Main St Visalia CA 93291 United States;X-APPLE-RADIUS=500;X-TITLE=3100 W Main St:geo:-119.3254884,36.3292721
END:VEVENT
BEGIN:VEVENT
DTSTART;TZID=UTC:20280809T173000
DTEND;TZID=UTC:20280809T173000
DTSTAMP:20260425T145404
CREATED:20180626T174114Z
LAST-MODIFIED:20180626T174114Z
UID:10001446-1849455000-1849455000@visaliaelks.org
SUMMARY:House Committee Meeting
DESCRIPTION:
URL:https://visaliaelks.org/events/house-committee-meeting-3/2028-08-09/
LOCATION:Visalia Elks Lodge\, 3100 W Main St\, Visalia\, CA\, 93291\, United States
CATEGORIES:Lodge Meeting
GEO:36.3292721;-119.3254884
X-APPLE-STRUCTURED-LOCATION;VALUE=URI;X-ADDRESS=Visalia Elks Lodge 3100 W Main St Visalia CA 93291 United States;X-APPLE-RADIUS=500;X-TITLE=3100 W Main St:geo:-119.3254884,36.3292721
END:VEVENT
BEGIN:VEVENT
DTSTART;TZID=UTC:20280809T180000
DTEND;TZID=UTC:20280809T180000
DTSTAMP:20260425T145404
CREATED:20180626T174214Z
LAST-MODIFIED:20180626T174640Z
UID:10001482-1849456800-1849456800@visaliaelks.org
SUMMARY:Trustee Meeting
DESCRIPTION:Note: You must call or e-mail in advance to be on the agenda
URL:https://visaliaelks.org/events/trustee-meeting-3/2028-08-09/
LOCATION:Visalia Elks Lodge\, 3100 W Main St\, Visalia\, CA\, 93291\, United States
CATEGORIES:Lodge Meeting
GEO:36.3292721;-119.3254884
X-APPLE-STRUCTURED-LOCATION;VALUE=URI;X-ADDRESS=Visalia Elks Lodge 3100 W Main St Visalia CA 93291 United States;X-APPLE-RADIUS=500;X-TITLE=3100 W Main St:geo:-119.3254884,36.3292721
END:VEVENT
BEGIN:VEVENT
DTSTART;TZID=UTC:20280809T193000
DTEND;TZID=UTC:20280809T193000
DTSTAMP:20260425T145404
CREATED:20180626T173912Z
LAST-MODIFIED:20180626T173927Z
UID:10001518-1849462200-1849462200@visaliaelks.org
SUMMARY:Lodge Meeting (Business)
DESCRIPTION:
URL:https://visaliaelks.org/events/lodge-meeting-business-2/2028-08-09/
LOCATION:Visalia Elks Lodge\, 3100 W Main St\, Visalia\, CA\, 93291\, United States
CATEGORIES:Lodge Meeting
GEO:36.3292721;-119.3254884
X-APPLE-STRUCTURED-LOCATION;VALUE=URI;X-ADDRESS=Visalia Elks Lodge 3100 W Main St Visalia CA 93291 United States;X-APPLE-RADIUS=500;X-TITLE=3100 W Main St:geo:-119.3254884,36.3292721
END:VEVENT
BEGIN:VEVENT
DTSTART;TZID=UTC:20280823T193000
DTEND;TZID=UTC:20280823T193000
DTSTAMP:20260425T145404
CREATED:20180626T174320Z
LAST-MODIFIED:20251103T175848Z
UID:10001590-1850671800-1850671800@visaliaelks.org
SUMMARY:Lodge Meeting (Initiations)
DESCRIPTION:
URL:https://visaliaelks.org/events/lodge-meeting-initiations/2028-08-23/
LOCATION:Visalia Elks Lodge\, 3100 W Main St\, Visalia\, CA\, 93291\, United States
CATEGORIES:Lodge Meeting
GEO:36.3292721;-119.3254884
X-APPLE-STRUCTURED-LOCATION;VALUE=URI;X-ADDRESS=Visalia Elks Lodge 3100 W Main St Visalia CA 93291 United States;X-APPLE-RADIUS=500;X-TITLE=3100 W Main St:geo:-119.3254884,36.3292721
END:VEVENT
BEGIN:VEVENT
DTSTART;TZID=UTC:20280830T203000
DTEND;TZID=UTC:20280830T203000
DTSTAMP:20260425T145404
CREATED:20250502T010350Z
LAST-MODIFIED:20251201T180351Z
UID:10002305-1851280200-1851280200@visaliaelks.org
SUMMARY:Purple Pig Racing
DESCRIPTION:Following the Lodge Meeting – 5th Wednesday of the month.  Watch for details in the Member’s FB group.
URL:https://visaliaelks.org/events/purple-pig-racing/2028-08-30/
LOCATION:Visalia Elks Lodge\, 3100 W Main St\, Visalia\, CA\, 93291\, United States
CATEGORIES:Lodge Meeting,Other Lodge Events
GEO:36.3292721;-119.3254884
X-APPLE-STRUCTURED-LOCATION;VALUE=URI;X-ADDRESS=Visalia Elks Lodge 3100 W Main St Visalia CA 93291 United States;X-APPLE-RADIUS=500;X-TITLE=3100 W Main St:geo:-119.3254884,36.3292721
END:VEVENT
END:VCALENDAR