BEGIN:VCALENDAR
VERSION:2.0
PRODID:-//Visalia Elks Lodge 1298 - ECPv6.15.20//NONSGML v1.0//EN
CALSCALE:GREGORIAN
METHOD:PUBLISH
X-WR-CALNAME:Visalia Elks Lodge 1298
X-ORIGINAL-URL:https://visaliaelks.org
X-WR-CALDESC:Events for Visalia Elks Lodge 1298
REFRESH-INTERVAL;VALUE=DURATION:PT1H
X-Robots-Tag:noindex
X-PUBLISHED-TTL:PT1H
BEGIN:VTIMEZONE
TZID:UTC
BEGIN:STANDARD
TZOFFSETFROM:+0000
TZOFFSETTO:+0000
TZNAME:UTC
DTSTART:20250101T000000
END:STANDARD
END:VTIMEZONE
BEGIN:VEVENT
DTSTART;TZID=UTC:20260605T113000
DTEND;TZID=UTC:20260605T130000
DTSTAMP:20260423T214804
CREATED:20240223T205440Z
LAST-MODIFIED:20250901T192420Z
UID:10002434-1780659000-1780664400@visaliaelks.org
SUMMARY:Friday Lunch
DESCRIPTION:Menu will be posted in the Member’s FB group.
URL:https://visaliaelks.org/events/friday-lunch/2026-06-05/
LOCATION:Visalia Elks Lodge\, 3100 W Main St\, Visalia\, CA\, 93291\, United States
CATEGORIES:Lunch Event
GEO:36.3292721;-119.3254884
X-APPLE-STRUCTURED-LOCATION;VALUE=URI;X-ADDRESS=Visalia Elks Lodge 3100 W Main St Visalia CA 93291 United States;X-APPLE-RADIUS=500;X-TITLE=3100 W Main St:geo:-119.3254884,36.3292721
END:VEVENT
BEGIN:VEVENT
DTSTART;TZID=UTC:20260612T113000
DTEND;TZID=UTC:20260612T130000
DTSTAMP:20260423T214804
CREATED:20240223T205440Z
LAST-MODIFIED:20250901T192420Z
UID:10000234-1781263800-1781269200@visaliaelks.org
SUMMARY:Friday Lunch
DESCRIPTION:Menu will be posted in the Member’s FB group.
URL:https://visaliaelks.org/events/friday-lunch/2026-06-12/
LOCATION:Visalia Elks Lodge\, 3100 W Main St\, Visalia\, CA\, 93291\, United States
CATEGORIES:Lunch Event
GEO:36.3292721;-119.3254884
X-APPLE-STRUCTURED-LOCATION;VALUE=URI;X-ADDRESS=Visalia Elks Lodge 3100 W Main St Visalia CA 93291 United States;X-APPLE-RADIUS=500;X-TITLE=3100 W Main St:geo:-119.3254884,36.3292721
END:VEVENT
BEGIN:VEVENT
DTSTART;TZID=UTC:20260619T113000
DTEND;TZID=UTC:20260619T130000
DTSTAMP:20260423T214804
CREATED:20240223T205440Z
LAST-MODIFIED:20250901T192420Z
UID:10002435-1781868600-1781874000@visaliaelks.org
SUMMARY:Friday Lunch
DESCRIPTION:Menu will be posted in the Member’s FB group.
URL:https://visaliaelks.org/events/friday-lunch/2026-06-19/
LOCATION:Visalia Elks Lodge\, 3100 W Main St\, Visalia\, CA\, 93291\, United States
CATEGORIES:Lunch Event
GEO:36.3292721;-119.3254884
X-APPLE-STRUCTURED-LOCATION;VALUE=URI;X-ADDRESS=Visalia Elks Lodge 3100 W Main St Visalia CA 93291 United States;X-APPLE-RADIUS=500;X-TITLE=3100 W Main St:geo:-119.3254884,36.3292721
END:VEVENT
BEGIN:VEVENT
DTSTART;TZID=UTC:20260626T113000
DTEND;TZID=UTC:20260626T130000
DTSTAMP:20260423T214804
CREATED:20240223T205440Z
LAST-MODIFIED:20250901T192420Z
UID:10002436-1782473400-1782478800@visaliaelks.org
SUMMARY:Friday Lunch
DESCRIPTION:Menu will be posted in the Member’s FB group.
URL:https://visaliaelks.org/events/friday-lunch/2026-06-26/
LOCATION:Visalia Elks Lodge\, 3100 W Main St\, Visalia\, CA\, 93291\, United States
CATEGORIES:Lunch Event
GEO:36.3292721;-119.3254884
X-APPLE-STRUCTURED-LOCATION;VALUE=URI;X-ADDRESS=Visalia Elks Lodge 3100 W Main St Visalia CA 93291 United States;X-APPLE-RADIUS=500;X-TITLE=3100 W Main St:geo:-119.3254884,36.3292721
END:VEVENT
END:VCALENDAR