BEGIN:VCALENDAR
VERSION:2.0
PRODID:-//Visalia Elks Lodge 1298 - ECPv6.15.20//NONSGML v1.0//EN
CALSCALE:GREGORIAN
METHOD:PUBLISH
X-WR-CALNAME:Visalia Elks Lodge 1298
X-ORIGINAL-URL:https://visaliaelks.org
X-WR-CALDESC:Events for Visalia Elks Lodge 1298
REFRESH-INTERVAL;VALUE=DURATION:PT1H
X-Robots-Tag:noindex
X-PUBLISHED-TTL:PT1H
BEGIN:VTIMEZONE
TZID:UTC
BEGIN:STANDARD
TZOFFSETFROM:+0000
TZOFFSETTO:+0000
TZNAME:UTC
DTSTART:20250101T000000
END:STANDARD
END:VTIMEZONE
BEGIN:VEVENT
DTSTART;TZID=UTC:20260206T113000
DTEND;TZID=UTC:20260206T130000
DTSTAMP:20260424T001159
CREATED:20240223T205440Z
LAST-MODIFIED:20250901T192420Z
UID:10002421-1770377400-1770382800@visaliaelks.org
SUMMARY:Friday Lunch
DESCRIPTION:Menu will be posted in the Member’s FB group.
URL:https://visaliaelks.org/events/friday-lunch/2026-02-06/
LOCATION:Visalia Elks Lodge\, 3100 W Main St\, Visalia\, CA\, 93291\, United States
CATEGORIES:Lunch Event
GEO:36.3292721;-119.3254884
X-APPLE-STRUCTURED-LOCATION;VALUE=URI;X-ADDRESS=Visalia Elks Lodge 3100 W Main St Visalia CA 93291 United States;X-APPLE-RADIUS=500;X-TITLE=3100 W Main St:geo:-119.3254884,36.3292721
END:VEVENT
BEGIN:VEVENT
DTSTART;TZID=UTC:20260213T113000
DTEND;TZID=UTC:20260213T130000
DTSTAMP:20260424T001159
CREATED:20240223T205440Z
LAST-MODIFIED:20250901T192420Z
UID:10000230-1770982200-1770987600@visaliaelks.org
SUMMARY:Friday Lunch
DESCRIPTION:Menu will be posted in the Member’s FB group.
URL:https://visaliaelks.org/events/friday-lunch/2026-02-13/
LOCATION:Visalia Elks Lodge\, 3100 W Main St\, Visalia\, CA\, 93291\, United States
CATEGORIES:Lunch Event
GEO:36.3292721;-119.3254884
X-APPLE-STRUCTURED-LOCATION;VALUE=URI;X-ADDRESS=Visalia Elks Lodge 3100 W Main St Visalia CA 93291 United States;X-APPLE-RADIUS=500;X-TITLE=3100 W Main St:geo:-119.3254884,36.3292721
END:VEVENT
BEGIN:VEVENT
DTSTART;TZID=UTC:20260220T113000
DTEND;TZID=UTC:20260220T130000
DTSTAMP:20260424T001159
CREATED:20240223T205440Z
LAST-MODIFIED:20250901T192420Z
UID:10002422-1771587000-1771592400@visaliaelks.org
SUMMARY:Friday Lunch
DESCRIPTION:Menu will be posted in the Member’s FB group.
URL:https://visaliaelks.org/events/friday-lunch/2026-02-20/
LOCATION:Visalia Elks Lodge\, 3100 W Main St\, Visalia\, CA\, 93291\, United States
CATEGORIES:Lunch Event
GEO:36.3292721;-119.3254884
X-APPLE-STRUCTURED-LOCATION;VALUE=URI;X-ADDRESS=Visalia Elks Lodge 3100 W Main St Visalia CA 93291 United States;X-APPLE-RADIUS=500;X-TITLE=3100 W Main St:geo:-119.3254884,36.3292721
END:VEVENT
BEGIN:VEVENT
DTSTART;TZID=UTC:20260227T113000
DTEND;TZID=UTC:20260227T130000
DTSTAMP:20260424T001159
CREATED:20240223T205440Z
LAST-MODIFIED:20250901T192420Z
UID:10002423-1772191800-1772197200@visaliaelks.org
SUMMARY:Friday Lunch
DESCRIPTION:Menu will be posted in the Member’s FB group.
URL:https://visaliaelks.org/events/friday-lunch/2026-02-27/
LOCATION:Visalia Elks Lodge\, 3100 W Main St\, Visalia\, CA\, 93291\, United States
CATEGORIES:Lunch Event
GEO:36.3292721;-119.3254884
X-APPLE-STRUCTURED-LOCATION;VALUE=URI;X-ADDRESS=Visalia Elks Lodge 3100 W Main St Visalia CA 93291 United States;X-APPLE-RADIUS=500;X-TITLE=3100 W Main St:geo:-119.3254884,36.3292721
END:VEVENT
BEGIN:VEVENT
DTSTART;TZID=UTC:20260306T113000
DTEND;TZID=UTC:20260306T130000
DTSTAMP:20260424T001159
CREATED:20240223T205440Z
LAST-MODIFIED:20250901T192420Z
UID:10002424-1772796600-1772802000@visaliaelks.org
SUMMARY:Friday Lunch
DESCRIPTION:Menu will be posted in the Member’s FB group.
URL:https://visaliaelks.org/events/friday-lunch/2026-03-06/
LOCATION:Visalia Elks Lodge\, 3100 W Main St\, Visalia\, CA\, 93291\, United States
CATEGORIES:Lunch Event
GEO:36.3292721;-119.3254884
X-APPLE-STRUCTURED-LOCATION;VALUE=URI;X-ADDRESS=Visalia Elks Lodge 3100 W Main St Visalia CA 93291 United States;X-APPLE-RADIUS=500;X-TITLE=3100 W Main St:geo:-119.3254884,36.3292721
END:VEVENT
BEGIN:VEVENT
DTSTART;TZID=UTC:20260313T113000
DTEND;TZID=UTC:20260313T130000
DTSTAMP:20260424T001159
CREATED:20240223T205440Z
LAST-MODIFIED:20250901T192420Z
UID:10000231-1773401400-1773406800@visaliaelks.org
SUMMARY:Friday Lunch
DESCRIPTION:Menu will be posted in the Member’s FB group.
URL:https://visaliaelks.org/events/friday-lunch/2026-03-13/
LOCATION:Visalia Elks Lodge\, 3100 W Main St\, Visalia\, CA\, 93291\, United States
CATEGORIES:Lunch Event
GEO:36.3292721;-119.3254884
X-APPLE-STRUCTURED-LOCATION;VALUE=URI;X-ADDRESS=Visalia Elks Lodge 3100 W Main St Visalia CA 93291 United States;X-APPLE-RADIUS=500;X-TITLE=3100 W Main St:geo:-119.3254884,36.3292721
END:VEVENT
BEGIN:VEVENT
DTSTART;TZID=UTC:20260320T113000
DTEND;TZID=UTC:20260320T130000
DTSTAMP:20260424T001159
CREATED:20240223T205440Z
LAST-MODIFIED:20250901T192420Z
UID:10002425-1774006200-1774011600@visaliaelks.org
SUMMARY:Friday Lunch
DESCRIPTION:Menu will be posted in the Member’s FB group.
URL:https://visaliaelks.org/events/friday-lunch/2026-03-20/
LOCATION:Visalia Elks Lodge\, 3100 W Main St\, Visalia\, CA\, 93291\, United States
CATEGORIES:Lunch Event
GEO:36.3292721;-119.3254884
X-APPLE-STRUCTURED-LOCATION;VALUE=URI;X-ADDRESS=Visalia Elks Lodge 3100 W Main St Visalia CA 93291 United States;X-APPLE-RADIUS=500;X-TITLE=3100 W Main St:geo:-119.3254884,36.3292721
END:VEVENT
BEGIN:VEVENT
DTSTART;TZID=UTC:20260327T113000
DTEND;TZID=UTC:20260327T130000
DTSTAMP:20260424T001159
CREATED:20240223T205440Z
LAST-MODIFIED:20250901T192420Z
UID:10002426-1774611000-1774616400@visaliaelks.org
SUMMARY:Friday Lunch
DESCRIPTION:Menu will be posted in the Member’s FB group.
URL:https://visaliaelks.org/events/friday-lunch/2026-03-27/
LOCATION:Visalia Elks Lodge\, 3100 W Main St\, Visalia\, CA\, 93291\, United States
CATEGORIES:Lunch Event
GEO:36.3292721;-119.3254884
X-APPLE-STRUCTURED-LOCATION;VALUE=URI;X-ADDRESS=Visalia Elks Lodge 3100 W Main St Visalia CA 93291 United States;X-APPLE-RADIUS=500;X-TITLE=3100 W Main St:geo:-119.3254884,36.3292721
END:VEVENT
BEGIN:VEVENT
DTSTART;TZID=UTC:20260403T113000
DTEND;TZID=UTC:20260403T130000
DTSTAMP:20260424T001159
CREATED:20240223T205440Z
LAST-MODIFIED:20250901T192420Z
UID:10002427-1775215800-1775221200@visaliaelks.org
SUMMARY:Friday Lunch
DESCRIPTION:Menu will be posted in the Member’s FB group.
URL:https://visaliaelks.org/events/friday-lunch/2026-04-03/
LOCATION:Visalia Elks Lodge\, 3100 W Main St\, Visalia\, CA\, 93291\, United States
CATEGORIES:Lunch Event
GEO:36.3292721;-119.3254884
X-APPLE-STRUCTURED-LOCATION;VALUE=URI;X-ADDRESS=Visalia Elks Lodge 3100 W Main St Visalia CA 93291 United States;X-APPLE-RADIUS=500;X-TITLE=3100 W Main St:geo:-119.3254884,36.3292721
END:VEVENT
BEGIN:VEVENT
DTSTART;TZID=UTC:20260410T113000
DTEND;TZID=UTC:20260410T130000
DTSTAMP:20260424T001159
CREATED:20240223T205440Z
LAST-MODIFIED:20250901T192420Z
UID:10000232-1775820600-1775826000@visaliaelks.org
SUMMARY:Friday Lunch
DESCRIPTION:Menu will be posted in the Member’s FB group.
URL:https://visaliaelks.org/events/friday-lunch/2026-04-10/
LOCATION:Visalia Elks Lodge\, 3100 W Main St\, Visalia\, CA\, 93291\, United States
CATEGORIES:Lunch Event
GEO:36.3292721;-119.3254884
X-APPLE-STRUCTURED-LOCATION;VALUE=URI;X-ADDRESS=Visalia Elks Lodge 3100 W Main St Visalia CA 93291 United States;X-APPLE-RADIUS=500;X-TITLE=3100 W Main St:geo:-119.3254884,36.3292721
END:VEVENT
BEGIN:VEVENT
DTSTART;TZID=UTC:20260417T113000
DTEND;TZID=UTC:20260417T130000
DTSTAMP:20260424T001159
CREATED:20240223T205440Z
LAST-MODIFIED:20250901T192420Z
UID:10002428-1776425400-1776430800@visaliaelks.org
SUMMARY:Friday Lunch
DESCRIPTION:Menu will be posted in the Member’s FB group.
URL:https://visaliaelks.org/events/friday-lunch/2026-04-17/
LOCATION:Visalia Elks Lodge\, 3100 W Main St\, Visalia\, CA\, 93291\, United States
CATEGORIES:Lunch Event
GEO:36.3292721;-119.3254884
X-APPLE-STRUCTURED-LOCATION;VALUE=URI;X-ADDRESS=Visalia Elks Lodge 3100 W Main St Visalia CA 93291 United States;X-APPLE-RADIUS=500;X-TITLE=3100 W Main St:geo:-119.3254884,36.3292721
END:VEVENT
BEGIN:VEVENT
DTSTART;TZID=UTC:20260424T113000
DTEND;TZID=UTC:20260424T130000
DTSTAMP:20260424T001159
CREATED:20240223T205440Z
LAST-MODIFIED:20250901T192420Z
UID:10002429-1777030200-1777035600@visaliaelks.org
SUMMARY:Friday Lunch
DESCRIPTION:Menu will be posted in the Member’s FB group.
URL:https://visaliaelks.org/events/friday-lunch/2026-04-24/
LOCATION:Visalia Elks Lodge\, 3100 W Main St\, Visalia\, CA\, 93291\, United States
CATEGORIES:Lunch Event
GEO:36.3292721;-119.3254884
X-APPLE-STRUCTURED-LOCATION;VALUE=URI;X-ADDRESS=Visalia Elks Lodge 3100 W Main St Visalia CA 93291 United States;X-APPLE-RADIUS=500;X-TITLE=3100 W Main St:geo:-119.3254884,36.3292721
END:VEVENT
BEGIN:VEVENT
DTSTART;TZID=UTC:20260501T113000
DTEND;TZID=UTC:20260501T130000
DTSTAMP:20260424T001159
CREATED:20240223T205440Z
LAST-MODIFIED:20250901T192420Z
UID:10002430-1777635000-1777640400@visaliaelks.org
SUMMARY:Friday Lunch
DESCRIPTION:Menu will be posted in the Member’s FB group.
URL:https://visaliaelks.org/events/friday-lunch/2026-05-01/
LOCATION:Visalia Elks Lodge\, 3100 W Main St\, Visalia\, CA\, 93291\, United States
CATEGORIES:Lunch Event
GEO:36.3292721;-119.3254884
X-APPLE-STRUCTURED-LOCATION;VALUE=URI;X-ADDRESS=Visalia Elks Lodge 3100 W Main St Visalia CA 93291 United States;X-APPLE-RADIUS=500;X-TITLE=3100 W Main St:geo:-119.3254884,36.3292721
END:VEVENT
BEGIN:VEVENT
DTSTART;TZID=UTC:20260508T113000
DTEND;TZID=UTC:20260508T130000
DTSTAMP:20260424T001159
CREATED:20240223T205440Z
LAST-MODIFIED:20250901T192420Z
UID:10000233-1778239800-1778245200@visaliaelks.org
SUMMARY:Friday Lunch
DESCRIPTION:Menu will be posted in the Member’s FB group.
URL:https://visaliaelks.org/events/friday-lunch/2026-05-08/
LOCATION:Visalia Elks Lodge\, 3100 W Main St\, Visalia\, CA\, 93291\, United States
CATEGORIES:Lunch Event
GEO:36.3292721;-119.3254884
X-APPLE-STRUCTURED-LOCATION;VALUE=URI;X-ADDRESS=Visalia Elks Lodge 3100 W Main St Visalia CA 93291 United States;X-APPLE-RADIUS=500;X-TITLE=3100 W Main St:geo:-119.3254884,36.3292721
END:VEVENT
BEGIN:VEVENT
DTSTART;TZID=UTC:20260515T113000
DTEND;TZID=UTC:20260515T130000
DTSTAMP:20260424T001159
CREATED:20240223T205440Z
LAST-MODIFIED:20250901T192420Z
UID:10002431-1778844600-1778850000@visaliaelks.org
SUMMARY:Friday Lunch
DESCRIPTION:Menu will be posted in the Member’s FB group.
URL:https://visaliaelks.org/events/friday-lunch/2026-05-15/
LOCATION:Visalia Elks Lodge\, 3100 W Main St\, Visalia\, CA\, 93291\, United States
CATEGORIES:Lunch Event
GEO:36.3292721;-119.3254884
X-APPLE-STRUCTURED-LOCATION;VALUE=URI;X-ADDRESS=Visalia Elks Lodge 3100 W Main St Visalia CA 93291 United States;X-APPLE-RADIUS=500;X-TITLE=3100 W Main St:geo:-119.3254884,36.3292721
END:VEVENT
BEGIN:VEVENT
DTSTART;TZID=UTC:20260522T113000
DTEND;TZID=UTC:20260522T130000
DTSTAMP:20260424T001159
CREATED:20240223T205440Z
LAST-MODIFIED:20250901T192420Z
UID:10002432-1779449400-1779454800@visaliaelks.org
SUMMARY:Friday Lunch
DESCRIPTION:Menu will be posted in the Member’s FB group.
URL:https://visaliaelks.org/events/friday-lunch/2026-05-22/
LOCATION:Visalia Elks Lodge\, 3100 W Main St\, Visalia\, CA\, 93291\, United States
CATEGORIES:Lunch Event
GEO:36.3292721;-119.3254884
X-APPLE-STRUCTURED-LOCATION;VALUE=URI;X-ADDRESS=Visalia Elks Lodge 3100 W Main St Visalia CA 93291 United States;X-APPLE-RADIUS=500;X-TITLE=3100 W Main St:geo:-119.3254884,36.3292721
END:VEVENT
BEGIN:VEVENT
DTSTART;TZID=UTC:20260529T113000
DTEND;TZID=UTC:20260529T130000
DTSTAMP:20260424T001159
CREATED:20240223T205440Z
LAST-MODIFIED:20250901T192420Z
UID:10002433-1780054200-1780059600@visaliaelks.org
SUMMARY:Friday Lunch
DESCRIPTION:Menu will be posted in the Member’s FB group.
URL:https://visaliaelks.org/events/friday-lunch/2026-05-29/
LOCATION:Visalia Elks Lodge\, 3100 W Main St\, Visalia\, CA\, 93291\, United States
CATEGORIES:Lunch Event
GEO:36.3292721;-119.3254884
X-APPLE-STRUCTURED-LOCATION;VALUE=URI;X-ADDRESS=Visalia Elks Lodge 3100 W Main St Visalia CA 93291 United States;X-APPLE-RADIUS=500;X-TITLE=3100 W Main St:geo:-119.3254884,36.3292721
END:VEVENT
BEGIN:VEVENT
DTSTART;TZID=UTC:20260605T113000
DTEND;TZID=UTC:20260605T130000
DTSTAMP:20260424T001159
CREATED:20240223T205440Z
LAST-MODIFIED:20250901T192420Z
UID:10002434-1780659000-1780664400@visaliaelks.org
SUMMARY:Friday Lunch
DESCRIPTION:Menu will be posted in the Member’s FB group.
URL:https://visaliaelks.org/events/friday-lunch/2026-06-05/
LOCATION:Visalia Elks Lodge\, 3100 W Main St\, Visalia\, CA\, 93291\, United States
CATEGORIES:Lunch Event
GEO:36.3292721;-119.3254884
X-APPLE-STRUCTURED-LOCATION;VALUE=URI;X-ADDRESS=Visalia Elks Lodge 3100 W Main St Visalia CA 93291 United States;X-APPLE-RADIUS=500;X-TITLE=3100 W Main St:geo:-119.3254884,36.3292721
END:VEVENT
BEGIN:VEVENT
DTSTART;TZID=UTC:20260612T113000
DTEND;TZID=UTC:20260612T130000
DTSTAMP:20260424T001200
CREATED:20240223T205440Z
LAST-MODIFIED:20250901T192420Z
UID:10000234-1781263800-1781269200@visaliaelks.org
SUMMARY:Friday Lunch
DESCRIPTION:Menu will be posted in the Member’s FB group.
URL:https://visaliaelks.org/events/friday-lunch/2026-06-12/
LOCATION:Visalia Elks Lodge\, 3100 W Main St\, Visalia\, CA\, 93291\, United States
CATEGORIES:Lunch Event
GEO:36.3292721;-119.3254884
X-APPLE-STRUCTURED-LOCATION;VALUE=URI;X-ADDRESS=Visalia Elks Lodge 3100 W Main St Visalia CA 93291 United States;X-APPLE-RADIUS=500;X-TITLE=3100 W Main St:geo:-119.3254884,36.3292721
END:VEVENT
BEGIN:VEVENT
DTSTART;TZID=UTC:20260619T113000
DTEND;TZID=UTC:20260619T130000
DTSTAMP:20260424T001200
CREATED:20240223T205440Z
LAST-MODIFIED:20250901T192420Z
UID:10002435-1781868600-1781874000@visaliaelks.org
SUMMARY:Friday Lunch
DESCRIPTION:Menu will be posted in the Member’s FB group.
URL:https://visaliaelks.org/events/friday-lunch/2026-06-19/
LOCATION:Visalia Elks Lodge\, 3100 W Main St\, Visalia\, CA\, 93291\, United States
CATEGORIES:Lunch Event
GEO:36.3292721;-119.3254884
X-APPLE-STRUCTURED-LOCATION;VALUE=URI;X-ADDRESS=Visalia Elks Lodge 3100 W Main St Visalia CA 93291 United States;X-APPLE-RADIUS=500;X-TITLE=3100 W Main St:geo:-119.3254884,36.3292721
END:VEVENT
BEGIN:VEVENT
DTSTART;TZID=UTC:20260626T113000
DTEND;TZID=UTC:20260626T130000
DTSTAMP:20260424T001200
CREATED:20240223T205440Z
LAST-MODIFIED:20250901T192420Z
UID:10002436-1782473400-1782478800@visaliaelks.org
SUMMARY:Friday Lunch
DESCRIPTION:Menu will be posted in the Member’s FB group.
URL:https://visaliaelks.org/events/friday-lunch/2026-06-26/
LOCATION:Visalia Elks Lodge\, 3100 W Main St\, Visalia\, CA\, 93291\, United States
CATEGORIES:Lunch Event
GEO:36.3292721;-119.3254884
X-APPLE-STRUCTURED-LOCATION;VALUE=URI;X-ADDRESS=Visalia Elks Lodge 3100 W Main St Visalia CA 93291 United States;X-APPLE-RADIUS=500;X-TITLE=3100 W Main St:geo:-119.3254884,36.3292721
END:VEVENT
BEGIN:VEVENT
DTSTART;TZID=UTC:20260703T113000
DTEND;TZID=UTC:20260703T130000
DTSTAMP:20260424T001200
CREATED:20240223T205440Z
LAST-MODIFIED:20250901T192420Z
UID:10002437-1783078200-1783083600@visaliaelks.org
SUMMARY:Friday Lunch
DESCRIPTION:Menu will be posted in the Member’s FB group.
URL:https://visaliaelks.org/events/friday-lunch/2026-07-03/
LOCATION:Visalia Elks Lodge\, 3100 W Main St\, Visalia\, CA\, 93291\, United States
CATEGORIES:Lunch Event
GEO:36.3292721;-119.3254884
X-APPLE-STRUCTURED-LOCATION;VALUE=URI;X-ADDRESS=Visalia Elks Lodge 3100 W Main St Visalia CA 93291 United States;X-APPLE-RADIUS=500;X-TITLE=3100 W Main St:geo:-119.3254884,36.3292721
END:VEVENT
BEGIN:VEVENT
DTSTART;TZID=UTC:20260710T113000
DTEND;TZID=UTC:20260710T130000
DTSTAMP:20260424T001200
CREATED:20240223T205440Z
LAST-MODIFIED:20250901T192420Z
UID:10000235-1783683000-1783688400@visaliaelks.org
SUMMARY:Friday Lunch
DESCRIPTION:Menu will be posted in the Member’s FB group.
URL:https://visaliaelks.org/events/friday-lunch/2026-07-10/
LOCATION:Visalia Elks Lodge\, 3100 W Main St\, Visalia\, CA\, 93291\, United States
CATEGORIES:Lunch Event
GEO:36.3292721;-119.3254884
X-APPLE-STRUCTURED-LOCATION;VALUE=URI;X-ADDRESS=Visalia Elks Lodge 3100 W Main St Visalia CA 93291 United States;X-APPLE-RADIUS=500;X-TITLE=3100 W Main St:geo:-119.3254884,36.3292721
END:VEVENT
BEGIN:VEVENT
DTSTART;TZID=UTC:20260717T113000
DTEND;TZID=UTC:20260717T130000
DTSTAMP:20260424T001200
CREATED:20240223T205440Z
LAST-MODIFIED:20250901T192420Z
UID:10002438-1784287800-1784293200@visaliaelks.org
SUMMARY:Friday Lunch
DESCRIPTION:Menu will be posted in the Member’s FB group.
URL:https://visaliaelks.org/events/friday-lunch/2026-07-17/
LOCATION:Visalia Elks Lodge\, 3100 W Main St\, Visalia\, CA\, 93291\, United States
CATEGORIES:Lunch Event
GEO:36.3292721;-119.3254884
X-APPLE-STRUCTURED-LOCATION;VALUE=URI;X-ADDRESS=Visalia Elks Lodge 3100 W Main St Visalia CA 93291 United States;X-APPLE-RADIUS=500;X-TITLE=3100 W Main St:geo:-119.3254884,36.3292721
END:VEVENT
BEGIN:VEVENT
DTSTART;TZID=UTC:20260724T113000
DTEND;TZID=UTC:20260724T130000
DTSTAMP:20260424T001200
CREATED:20240223T205440Z
LAST-MODIFIED:20250901T192420Z
UID:10002439-1784892600-1784898000@visaliaelks.org
SUMMARY:Friday Lunch
DESCRIPTION:Menu will be posted in the Member’s FB group.
URL:https://visaliaelks.org/events/friday-lunch/2026-07-24/
LOCATION:Visalia Elks Lodge\, 3100 W Main St\, Visalia\, CA\, 93291\, United States
CATEGORIES:Lunch Event
GEO:36.3292721;-119.3254884
X-APPLE-STRUCTURED-LOCATION;VALUE=URI;X-ADDRESS=Visalia Elks Lodge 3100 W Main St Visalia CA 93291 United States;X-APPLE-RADIUS=500;X-TITLE=3100 W Main St:geo:-119.3254884,36.3292721
END:VEVENT
BEGIN:VEVENT
DTSTART;TZID=UTC:20260731T113000
DTEND;TZID=UTC:20260731T130000
DTSTAMP:20260424T001200
CREATED:20240223T205440Z
LAST-MODIFIED:20250901T192420Z
UID:10002440-1785497400-1785502800@visaliaelks.org
SUMMARY:Friday Lunch
DESCRIPTION:Menu will be posted in the Member’s FB group.
URL:https://visaliaelks.org/events/friday-lunch/2026-07-31/
LOCATION:Visalia Elks Lodge\, 3100 W Main St\, Visalia\, CA\, 93291\, United States
CATEGORIES:Lunch Event
GEO:36.3292721;-119.3254884
X-APPLE-STRUCTURED-LOCATION;VALUE=URI;X-ADDRESS=Visalia Elks Lodge 3100 W Main St Visalia CA 93291 United States;X-APPLE-RADIUS=500;X-TITLE=3100 W Main St:geo:-119.3254884,36.3292721
END:VEVENT
BEGIN:VEVENT
DTSTART;TZID=UTC:20260807T113000
DTEND;TZID=UTC:20260807T130000
DTSTAMP:20260424T001200
CREATED:20240223T205440Z
LAST-MODIFIED:20250901T192420Z
UID:10002441-1786102200-1786107600@visaliaelks.org
SUMMARY:Friday Lunch
DESCRIPTION:Menu will be posted in the Member’s FB group.
URL:https://visaliaelks.org/events/friday-lunch/2026-08-07/
LOCATION:Visalia Elks Lodge\, 3100 W Main St\, Visalia\, CA\, 93291\, United States
CATEGORIES:Lunch Event
GEO:36.3292721;-119.3254884
X-APPLE-STRUCTURED-LOCATION;VALUE=URI;X-ADDRESS=Visalia Elks Lodge 3100 W Main St Visalia CA 93291 United States;X-APPLE-RADIUS=500;X-TITLE=3100 W Main St:geo:-119.3254884,36.3292721
END:VEVENT
BEGIN:VEVENT
DTSTART;TZID=UTC:20260814T113000
DTEND;TZID=UTC:20260814T130000
DTSTAMP:20260424T001200
CREATED:20240223T205440Z
LAST-MODIFIED:20250901T192420Z
UID:10000236-1786707000-1786712400@visaliaelks.org
SUMMARY:Friday Lunch
DESCRIPTION:Menu will be posted in the Member’s FB group.
URL:https://visaliaelks.org/events/friday-lunch/2026-08-14/
LOCATION:Visalia Elks Lodge\, 3100 W Main St\, Visalia\, CA\, 93291\, United States
CATEGORIES:Lunch Event
GEO:36.3292721;-119.3254884
X-APPLE-STRUCTURED-LOCATION;VALUE=URI;X-ADDRESS=Visalia Elks Lodge 3100 W Main St Visalia CA 93291 United States;X-APPLE-RADIUS=500;X-TITLE=3100 W Main St:geo:-119.3254884,36.3292721
END:VEVENT
BEGIN:VEVENT
DTSTART;TZID=UTC:20260821T113000
DTEND;TZID=UTC:20260821T130000
DTSTAMP:20260424T001200
CREATED:20240223T205440Z
LAST-MODIFIED:20250901T192420Z
UID:10002442-1787311800-1787317200@visaliaelks.org
SUMMARY:Friday Lunch
DESCRIPTION:Menu will be posted in the Member’s FB group.
URL:https://visaliaelks.org/events/friday-lunch/2026-08-21/
LOCATION:Visalia Elks Lodge\, 3100 W Main St\, Visalia\, CA\, 93291\, United States
CATEGORIES:Lunch Event
GEO:36.3292721;-119.3254884
X-APPLE-STRUCTURED-LOCATION;VALUE=URI;X-ADDRESS=Visalia Elks Lodge 3100 W Main St Visalia CA 93291 United States;X-APPLE-RADIUS=500;X-TITLE=3100 W Main St:geo:-119.3254884,36.3292721
END:VEVENT
BEGIN:VEVENT
DTSTART;TZID=UTC:20260828T113000
DTEND;TZID=UTC:20260828T130000
DTSTAMP:20260424T001200
CREATED:20240223T205440Z
LAST-MODIFIED:20250901T192420Z
UID:10002443-1787916600-1787922000@visaliaelks.org
SUMMARY:Friday Lunch
DESCRIPTION:Menu will be posted in the Member’s FB group.
URL:https://visaliaelks.org/events/friday-lunch/2026-08-28/
LOCATION:Visalia Elks Lodge\, 3100 W Main St\, Visalia\, CA\, 93291\, United States
CATEGORIES:Lunch Event
GEO:36.3292721;-119.3254884
X-APPLE-STRUCTURED-LOCATION;VALUE=URI;X-ADDRESS=Visalia Elks Lodge 3100 W Main St Visalia CA 93291 United States;X-APPLE-RADIUS=500;X-TITLE=3100 W Main St:geo:-119.3254884,36.3292721
END:VEVENT
END:VCALENDAR