BEGIN:VCALENDAR
VERSION:2.0
PRODID:-//Visalia Elks Lodge 1298 - ECPv6.15.20//NONSGML v1.0//EN
CALSCALE:GREGORIAN
METHOD:PUBLISH
X-WR-CALNAME:Visalia Elks Lodge 1298
X-ORIGINAL-URL:https://visaliaelks.org
X-WR-CALDESC:Events for Visalia Elks Lodge 1298
REFRESH-INTERVAL;VALUE=DURATION:PT1H
X-Robots-Tag:noindex
X-PUBLISHED-TTL:PT1H
BEGIN:VTIMEZONE
TZID:UTC
BEGIN:STANDARD
TZOFFSETFROM:+0000
TZOFFSETTO:+0000
TZNAME:UTC
DTSTART:20260101T000000
END:STANDARD
END:VTIMEZONE
BEGIN:VEVENT
DTSTART;TZID=UTC:20270430T113000
DTEND;TZID=UTC:20270430T130000
DTSTAMP:20260425T120758
CREATED:20240223T205440Z
LAST-MODIFIED:20250901T192420Z
UID:10002470-1809084600-1809090000@visaliaelks.org
SUMMARY:Friday Lunch
DESCRIPTION:Menu will be posted in the Member’s FB group.
URL:https://visaliaelks.org/events/friday-lunch/2027-04-30/
LOCATION:Visalia Elks Lodge\, 3100 W Main St\, Visalia\, CA\, 93291\, United States
CATEGORIES:Lunch Event
GEO:36.3292721;-119.3254884
X-APPLE-STRUCTURED-LOCATION;VALUE=URI;X-ADDRESS=Visalia Elks Lodge 3100 W Main St Visalia CA 93291 United States;X-APPLE-RADIUS=500;X-TITLE=3100 W Main St:geo:-119.3254884,36.3292721
END:VEVENT
BEGIN:VEVENT
DTSTART;TZID=UTC:20270507T113000
DTEND;TZID=UTC:20270507T130000
DTSTAMP:20260425T120758
CREATED:20240223T205440Z
LAST-MODIFIED:20250901T192420Z
UID:10002471-1809689400-1809694800@visaliaelks.org
SUMMARY:Friday Lunch
DESCRIPTION:Menu will be posted in the Member’s FB group.
URL:https://visaliaelks.org/events/friday-lunch/2027-05-07/
LOCATION:Visalia Elks Lodge\, 3100 W Main St\, Visalia\, CA\, 93291\, United States
CATEGORIES:Lunch Event
GEO:36.3292721;-119.3254884
X-APPLE-STRUCTURED-LOCATION;VALUE=URI;X-ADDRESS=Visalia Elks Lodge 3100 W Main St Visalia CA 93291 United States;X-APPLE-RADIUS=500;X-TITLE=3100 W Main St:geo:-119.3254884,36.3292721
END:VEVENT
BEGIN:VEVENT
DTSTART;TZID=UTC:20270514T113000
DTEND;TZID=UTC:20270514T130000
DTSTAMP:20260425T120758
CREATED:20240223T205440Z
LAST-MODIFIED:20250901T192420Z
UID:10001990-1810294200-1810299600@visaliaelks.org
SUMMARY:Friday Lunch
DESCRIPTION:Menu will be posted in the Member’s FB group.
URL:https://visaliaelks.org/events/friday-lunch/2027-05-14/
LOCATION:Visalia Elks Lodge\, 3100 W Main St\, Visalia\, CA\, 93291\, United States
CATEGORIES:Lunch Event
GEO:36.3292721;-119.3254884
X-APPLE-STRUCTURED-LOCATION;VALUE=URI;X-ADDRESS=Visalia Elks Lodge 3100 W Main St Visalia CA 93291 United States;X-APPLE-RADIUS=500;X-TITLE=3100 W Main St:geo:-119.3254884,36.3292721
END:VEVENT
BEGIN:VEVENT
DTSTART;TZID=UTC:20270521T113000
DTEND;TZID=UTC:20270521T130000
DTSTAMP:20260425T120758
CREATED:20240223T205440Z
LAST-MODIFIED:20250901T192420Z
UID:10002472-1810899000-1810904400@visaliaelks.org
SUMMARY:Friday Lunch
DESCRIPTION:Menu will be posted in the Member’s FB group.
URL:https://visaliaelks.org/events/friday-lunch/2027-05-21/
LOCATION:Visalia Elks Lodge\, 3100 W Main St\, Visalia\, CA\, 93291\, United States
CATEGORIES:Lunch Event
GEO:36.3292721;-119.3254884
X-APPLE-STRUCTURED-LOCATION;VALUE=URI;X-ADDRESS=Visalia Elks Lodge 3100 W Main St Visalia CA 93291 United States;X-APPLE-RADIUS=500;X-TITLE=3100 W Main St:geo:-119.3254884,36.3292721
END:VEVENT
BEGIN:VEVENT
DTSTART;TZID=UTC:20270528T113000
DTEND;TZID=UTC:20270528T130000
DTSTAMP:20260425T120758
CREATED:20240223T205440Z
LAST-MODIFIED:20250901T192420Z
UID:10002473-1811503800-1811509200@visaliaelks.org
SUMMARY:Friday Lunch
DESCRIPTION:Menu will be posted in the Member’s FB group.
URL:https://visaliaelks.org/events/friday-lunch/2027-05-28/
LOCATION:Visalia Elks Lodge\, 3100 W Main St\, Visalia\, CA\, 93291\, United States
CATEGORIES:Lunch Event
GEO:36.3292721;-119.3254884
X-APPLE-STRUCTURED-LOCATION;VALUE=URI;X-ADDRESS=Visalia Elks Lodge 3100 W Main St Visalia CA 93291 United States;X-APPLE-RADIUS=500;X-TITLE=3100 W Main St:geo:-119.3254884,36.3292721
END:VEVENT
BEGIN:VEVENT
DTSTART;TZID=UTC:20270604T113000
DTEND;TZID=UTC:20270604T130000
DTSTAMP:20260425T120758
CREATED:20240223T205440Z
LAST-MODIFIED:20250901T192420Z
UID:10002474-1812108600-1812114000@visaliaelks.org
SUMMARY:Friday Lunch
DESCRIPTION:Menu will be posted in the Member’s FB group.
URL:https://visaliaelks.org/events/friday-lunch/2027-06-04/
LOCATION:Visalia Elks Lodge\, 3100 W Main St\, Visalia\, CA\, 93291\, United States
CATEGORIES:Lunch Event
GEO:36.3292721;-119.3254884
X-APPLE-STRUCTURED-LOCATION;VALUE=URI;X-ADDRESS=Visalia Elks Lodge 3100 W Main St Visalia CA 93291 United States;X-APPLE-RADIUS=500;X-TITLE=3100 W Main St:geo:-119.3254884,36.3292721
END:VEVENT
BEGIN:VEVENT
DTSTART;TZID=UTC:20270611T113000
DTEND;TZID=UTC:20270611T130000
DTSTAMP:20260425T120758
CREATED:20240223T205440Z
LAST-MODIFIED:20250901T192420Z
UID:10001991-1812713400-1812718800@visaliaelks.org
SUMMARY:Friday Lunch
DESCRIPTION:Menu will be posted in the Member’s FB group.
URL:https://visaliaelks.org/events/friday-lunch/2027-06-11/
LOCATION:Visalia Elks Lodge\, 3100 W Main St\, Visalia\, CA\, 93291\, United States
CATEGORIES:Lunch Event
GEO:36.3292721;-119.3254884
X-APPLE-STRUCTURED-LOCATION;VALUE=URI;X-ADDRESS=Visalia Elks Lodge 3100 W Main St Visalia CA 93291 United States;X-APPLE-RADIUS=500;X-TITLE=3100 W Main St:geo:-119.3254884,36.3292721
END:VEVENT
BEGIN:VEVENT
DTSTART;TZID=UTC:20270618T113000
DTEND;TZID=UTC:20270618T130000
DTSTAMP:20260425T120758
CREATED:20240223T205440Z
LAST-MODIFIED:20250901T192420Z
UID:10002475-1813318200-1813323600@visaliaelks.org
SUMMARY:Friday Lunch
DESCRIPTION:Menu will be posted in the Member’s FB group.
URL:https://visaliaelks.org/events/friday-lunch/2027-06-18/
LOCATION:Visalia Elks Lodge\, 3100 W Main St\, Visalia\, CA\, 93291\, United States
CATEGORIES:Lunch Event
GEO:36.3292721;-119.3254884
X-APPLE-STRUCTURED-LOCATION;VALUE=URI;X-ADDRESS=Visalia Elks Lodge 3100 W Main St Visalia CA 93291 United States;X-APPLE-RADIUS=500;X-TITLE=3100 W Main St:geo:-119.3254884,36.3292721
END:VEVENT
BEGIN:VEVENT
DTSTART;TZID=UTC:20270625T113000
DTEND;TZID=UTC:20270625T130000
DTSTAMP:20260425T120758
CREATED:20240223T205440Z
LAST-MODIFIED:20250901T192420Z
UID:10002476-1813923000-1813928400@visaliaelks.org
SUMMARY:Friday Lunch
DESCRIPTION:Menu will be posted in the Member’s FB group.
URL:https://visaliaelks.org/events/friday-lunch/2027-06-25/
LOCATION:Visalia Elks Lodge\, 3100 W Main St\, Visalia\, CA\, 93291\, United States
CATEGORIES:Lunch Event
GEO:36.3292721;-119.3254884
X-APPLE-STRUCTURED-LOCATION;VALUE=URI;X-ADDRESS=Visalia Elks Lodge 3100 W Main St Visalia CA 93291 United States;X-APPLE-RADIUS=500;X-TITLE=3100 W Main St:geo:-119.3254884,36.3292721
END:VEVENT
BEGIN:VEVENT
DTSTART;TZID=UTC:20270702T113000
DTEND;TZID=UTC:20270702T130000
DTSTAMP:20260425T120758
CREATED:20240223T205440Z
LAST-MODIFIED:20250901T192420Z
UID:10002477-1814527800-1814533200@visaliaelks.org
SUMMARY:Friday Lunch
DESCRIPTION:Menu will be posted in the Member’s FB group.
URL:https://visaliaelks.org/events/friday-lunch/2027-07-02/
LOCATION:Visalia Elks Lodge\, 3100 W Main St\, Visalia\, CA\, 93291\, United States
CATEGORIES:Lunch Event
GEO:36.3292721;-119.3254884
X-APPLE-STRUCTURED-LOCATION;VALUE=URI;X-ADDRESS=Visalia Elks Lodge 3100 W Main St Visalia CA 93291 United States;X-APPLE-RADIUS=500;X-TITLE=3100 W Main St:geo:-119.3254884,36.3292721
END:VEVENT
BEGIN:VEVENT
DTSTART;TZID=UTC:20270709T113000
DTEND;TZID=UTC:20270709T130000
DTSTAMP:20260425T120759
CREATED:20240223T205440Z
LAST-MODIFIED:20250901T192420Z
UID:10001992-1815132600-1815138000@visaliaelks.org
SUMMARY:Friday Lunch
DESCRIPTION:Menu will be posted in the Member’s FB group.
URL:https://visaliaelks.org/events/friday-lunch/2027-07-09/
LOCATION:Visalia Elks Lodge\, 3100 W Main St\, Visalia\, CA\, 93291\, United States
CATEGORIES:Lunch Event
GEO:36.3292721;-119.3254884
X-APPLE-STRUCTURED-LOCATION;VALUE=URI;X-ADDRESS=Visalia Elks Lodge 3100 W Main St Visalia CA 93291 United States;X-APPLE-RADIUS=500;X-TITLE=3100 W Main St:geo:-119.3254884,36.3292721
END:VEVENT
BEGIN:VEVENT
DTSTART;TZID=UTC:20270716T113000
DTEND;TZID=UTC:20270716T130000
DTSTAMP:20260425T120759
CREATED:20240223T205440Z
LAST-MODIFIED:20250901T192420Z
UID:10002478-1815737400-1815742800@visaliaelks.org
SUMMARY:Friday Lunch
DESCRIPTION:Menu will be posted in the Member’s FB group.
URL:https://visaliaelks.org/events/friday-lunch/2027-07-16/
LOCATION:Visalia Elks Lodge\, 3100 W Main St\, Visalia\, CA\, 93291\, United States
CATEGORIES:Lunch Event
GEO:36.3292721;-119.3254884
X-APPLE-STRUCTURED-LOCATION;VALUE=URI;X-ADDRESS=Visalia Elks Lodge 3100 W Main St Visalia CA 93291 United States;X-APPLE-RADIUS=500;X-TITLE=3100 W Main St:geo:-119.3254884,36.3292721
END:VEVENT
BEGIN:VEVENT
DTSTART;TZID=UTC:20270723T113000
DTEND;TZID=UTC:20270723T130000
DTSTAMP:20260425T120759
CREATED:20240223T205440Z
LAST-MODIFIED:20250901T192420Z
UID:10002479-1816342200-1816347600@visaliaelks.org
SUMMARY:Friday Lunch
DESCRIPTION:Menu will be posted in the Member’s FB group.
URL:https://visaliaelks.org/events/friday-lunch/2027-07-23/
LOCATION:Visalia Elks Lodge\, 3100 W Main St\, Visalia\, CA\, 93291\, United States
CATEGORIES:Lunch Event
GEO:36.3292721;-119.3254884
X-APPLE-STRUCTURED-LOCATION;VALUE=URI;X-ADDRESS=Visalia Elks Lodge 3100 W Main St Visalia CA 93291 United States;X-APPLE-RADIUS=500;X-TITLE=3100 W Main St:geo:-119.3254884,36.3292721
END:VEVENT
BEGIN:VEVENT
DTSTART;TZID=UTC:20270730T113000
DTEND;TZID=UTC:20270730T130000
DTSTAMP:20260425T120759
CREATED:20240223T205440Z
LAST-MODIFIED:20250901T192420Z
UID:10002480-1816947000-1816952400@visaliaelks.org
SUMMARY:Friday Lunch
DESCRIPTION:Menu will be posted in the Member’s FB group.
URL:https://visaliaelks.org/events/friday-lunch/2027-07-30/
LOCATION:Visalia Elks Lodge\, 3100 W Main St\, Visalia\, CA\, 93291\, United States
CATEGORIES:Lunch Event
GEO:36.3292721;-119.3254884
X-APPLE-STRUCTURED-LOCATION;VALUE=URI;X-ADDRESS=Visalia Elks Lodge 3100 W Main St Visalia CA 93291 United States;X-APPLE-RADIUS=500;X-TITLE=3100 W Main St:geo:-119.3254884,36.3292721
END:VEVENT
BEGIN:VEVENT
DTSTART;TZID=UTC:20270806T113000
DTEND;TZID=UTC:20270806T130000
DTSTAMP:20260425T120759
CREATED:20240223T205440Z
LAST-MODIFIED:20250901T192420Z
UID:10002481-1817551800-1817557200@visaliaelks.org
SUMMARY:Friday Lunch
DESCRIPTION:Menu will be posted in the Member’s FB group.
URL:https://visaliaelks.org/events/friday-lunch/2027-08-06/
LOCATION:Visalia Elks Lodge\, 3100 W Main St\, Visalia\, CA\, 93291\, United States
CATEGORIES:Lunch Event
GEO:36.3292721;-119.3254884
X-APPLE-STRUCTURED-LOCATION;VALUE=URI;X-ADDRESS=Visalia Elks Lodge 3100 W Main St Visalia CA 93291 United States;X-APPLE-RADIUS=500;X-TITLE=3100 W Main St:geo:-119.3254884,36.3292721
END:VEVENT
BEGIN:VEVENT
DTSTART;TZID=UTC:20270813T113000
DTEND;TZID=UTC:20270813T130000
DTSTAMP:20260425T120759
CREATED:20240223T205440Z
LAST-MODIFIED:20250901T192420Z
UID:10001993-1818156600-1818162000@visaliaelks.org
SUMMARY:Friday Lunch
DESCRIPTION:Menu will be posted in the Member’s FB group.
URL:https://visaliaelks.org/events/friday-lunch/2027-08-13/
LOCATION:Visalia Elks Lodge\, 3100 W Main St\, Visalia\, CA\, 93291\, United States
CATEGORIES:Lunch Event
GEO:36.3292721;-119.3254884
X-APPLE-STRUCTURED-LOCATION;VALUE=URI;X-ADDRESS=Visalia Elks Lodge 3100 W Main St Visalia CA 93291 United States;X-APPLE-RADIUS=500;X-TITLE=3100 W Main St:geo:-119.3254884,36.3292721
END:VEVENT
BEGIN:VEVENT
DTSTART;TZID=UTC:20270820T113000
DTEND;TZID=UTC:20270820T130000
DTSTAMP:20260425T120759
CREATED:20240223T205440Z
LAST-MODIFIED:20250901T192420Z
UID:10002482-1818761400-1818766800@visaliaelks.org
SUMMARY:Friday Lunch
DESCRIPTION:Menu will be posted in the Member’s FB group.
URL:https://visaliaelks.org/events/friday-lunch/2027-08-20/
LOCATION:Visalia Elks Lodge\, 3100 W Main St\, Visalia\, CA\, 93291\, United States
CATEGORIES:Lunch Event
GEO:36.3292721;-119.3254884
X-APPLE-STRUCTURED-LOCATION;VALUE=URI;X-ADDRESS=Visalia Elks Lodge 3100 W Main St Visalia CA 93291 United States;X-APPLE-RADIUS=500;X-TITLE=3100 W Main St:geo:-119.3254884,36.3292721
END:VEVENT
BEGIN:VEVENT
DTSTART;TZID=UTC:20270827T113000
DTEND;TZID=UTC:20270827T130000
DTSTAMP:20260425T120759
CREATED:20240223T205440Z
LAST-MODIFIED:20250901T192420Z
UID:10002483-1819366200-1819371600@visaliaelks.org
SUMMARY:Friday Lunch
DESCRIPTION:Menu will be posted in the Member’s FB group.
URL:https://visaliaelks.org/events/friday-lunch/2027-08-27/
LOCATION:Visalia Elks Lodge\, 3100 W Main St\, Visalia\, CA\, 93291\, United States
CATEGORIES:Lunch Event
GEO:36.3292721;-119.3254884
X-APPLE-STRUCTURED-LOCATION;VALUE=URI;X-ADDRESS=Visalia Elks Lodge 3100 W Main St Visalia CA 93291 United States;X-APPLE-RADIUS=500;X-TITLE=3100 W Main St:geo:-119.3254884,36.3292721
END:VEVENT
BEGIN:VEVENT
DTSTART;TZID=UTC:20270903T113000
DTEND;TZID=UTC:20270903T130000
DTSTAMP:20260425T120759
CREATED:20240223T205440Z
LAST-MODIFIED:20250901T192420Z
UID:10002484-1819971000-1819976400@visaliaelks.org
SUMMARY:Friday Lunch
DESCRIPTION:Menu will be posted in the Member’s FB group.
URL:https://visaliaelks.org/events/friday-lunch/2027-09-03/
LOCATION:Visalia Elks Lodge\, 3100 W Main St\, Visalia\, CA\, 93291\, United States
CATEGORIES:Lunch Event
GEO:36.3292721;-119.3254884
X-APPLE-STRUCTURED-LOCATION;VALUE=URI;X-ADDRESS=Visalia Elks Lodge 3100 W Main St Visalia CA 93291 United States;X-APPLE-RADIUS=500;X-TITLE=3100 W Main St:geo:-119.3254884,36.3292721
END:VEVENT
BEGIN:VEVENT
DTSTART;TZID=UTC:20270910T113000
DTEND;TZID=UTC:20270910T130000
DTSTAMP:20260425T120759
CREATED:20240223T205440Z
LAST-MODIFIED:20250901T192420Z
UID:10001994-1820575800-1820581200@visaliaelks.org
SUMMARY:Friday Lunch
DESCRIPTION:Menu will be posted in the Member’s FB group.
URL:https://visaliaelks.org/events/friday-lunch/2027-09-10/
LOCATION:Visalia Elks Lodge\, 3100 W Main St\, Visalia\, CA\, 93291\, United States
CATEGORIES:Lunch Event
GEO:36.3292721;-119.3254884
X-APPLE-STRUCTURED-LOCATION;VALUE=URI;X-ADDRESS=Visalia Elks Lodge 3100 W Main St Visalia CA 93291 United States;X-APPLE-RADIUS=500;X-TITLE=3100 W Main St:geo:-119.3254884,36.3292721
END:VEVENT
BEGIN:VEVENT
DTSTART;TZID=UTC:20270917T113000
DTEND;TZID=UTC:20270917T130000
DTSTAMP:20260425T120759
CREATED:20240223T205440Z
LAST-MODIFIED:20250901T192420Z
UID:10002485-1821180600-1821186000@visaliaelks.org
SUMMARY:Friday Lunch
DESCRIPTION:Menu will be posted in the Member’s FB group.
URL:https://visaliaelks.org/events/friday-lunch/2027-09-17/
LOCATION:Visalia Elks Lodge\, 3100 W Main St\, Visalia\, CA\, 93291\, United States
CATEGORIES:Lunch Event
GEO:36.3292721;-119.3254884
X-APPLE-STRUCTURED-LOCATION;VALUE=URI;X-ADDRESS=Visalia Elks Lodge 3100 W Main St Visalia CA 93291 United States;X-APPLE-RADIUS=500;X-TITLE=3100 W Main St:geo:-119.3254884,36.3292721
END:VEVENT
BEGIN:VEVENT
DTSTART;TZID=UTC:20270924T113000
DTEND;TZID=UTC:20270924T130000
DTSTAMP:20260425T120759
CREATED:20240223T205440Z
LAST-MODIFIED:20250901T192420Z
UID:10002486-1821785400-1821790800@visaliaelks.org
SUMMARY:Friday Lunch
DESCRIPTION:Menu will be posted in the Member’s FB group.
URL:https://visaliaelks.org/events/friday-lunch/2027-09-24/
LOCATION:Visalia Elks Lodge\, 3100 W Main St\, Visalia\, CA\, 93291\, United States
CATEGORIES:Lunch Event
GEO:36.3292721;-119.3254884
X-APPLE-STRUCTURED-LOCATION;VALUE=URI;X-ADDRESS=Visalia Elks Lodge 3100 W Main St Visalia CA 93291 United States;X-APPLE-RADIUS=500;X-TITLE=3100 W Main St:geo:-119.3254884,36.3292721
END:VEVENT
BEGIN:VEVENT
DTSTART;TZID=UTC:20271001T113000
DTEND;TZID=UTC:20271001T130000
DTSTAMP:20260425T120759
CREATED:20240223T205440Z
LAST-MODIFIED:20250901T192420Z
UID:10002487-1822390200-1822395600@visaliaelks.org
SUMMARY:Friday Lunch
DESCRIPTION:Menu will be posted in the Member’s FB group.
URL:https://visaliaelks.org/events/friday-lunch/2027-10-01/
LOCATION:Visalia Elks Lodge\, 3100 W Main St\, Visalia\, CA\, 93291\, United States
CATEGORIES:Lunch Event
GEO:36.3292721;-119.3254884
X-APPLE-STRUCTURED-LOCATION;VALUE=URI;X-ADDRESS=Visalia Elks Lodge 3100 W Main St Visalia CA 93291 United States;X-APPLE-RADIUS=500;X-TITLE=3100 W Main St:geo:-119.3254884,36.3292721
END:VEVENT
BEGIN:VEVENT
DTSTART;TZID=UTC:20271008T113000
DTEND;TZID=UTC:20271008T130000
DTSTAMP:20260425T120759
CREATED:20240223T205440Z
LAST-MODIFIED:20250901T192420Z
UID:10001995-1822995000-1823000400@visaliaelks.org
SUMMARY:Friday Lunch
DESCRIPTION:Menu will be posted in the Member’s FB group.
URL:https://visaliaelks.org/events/friday-lunch/2027-10-08/
LOCATION:Visalia Elks Lodge\, 3100 W Main St\, Visalia\, CA\, 93291\, United States
CATEGORIES:Lunch Event
GEO:36.3292721;-119.3254884
X-APPLE-STRUCTURED-LOCATION;VALUE=URI;X-ADDRESS=Visalia Elks Lodge 3100 W Main St Visalia CA 93291 United States;X-APPLE-RADIUS=500;X-TITLE=3100 W Main St:geo:-119.3254884,36.3292721
END:VEVENT
BEGIN:VEVENT
DTSTART;TZID=UTC:20271015T113000
DTEND;TZID=UTC:20271015T130000
DTSTAMP:20260425T120759
CREATED:20240223T205440Z
LAST-MODIFIED:20250901T192420Z
UID:10002488-1823599800-1823605200@visaliaelks.org
SUMMARY:Friday Lunch
DESCRIPTION:Menu will be posted in the Member’s FB group.
URL:https://visaliaelks.org/events/friday-lunch/2027-10-15/
LOCATION:Visalia Elks Lodge\, 3100 W Main St\, Visalia\, CA\, 93291\, United States
CATEGORIES:Lunch Event
GEO:36.3292721;-119.3254884
X-APPLE-STRUCTURED-LOCATION;VALUE=URI;X-ADDRESS=Visalia Elks Lodge 3100 W Main St Visalia CA 93291 United States;X-APPLE-RADIUS=500;X-TITLE=3100 W Main St:geo:-119.3254884,36.3292721
END:VEVENT
BEGIN:VEVENT
DTSTART;TZID=UTC:20271022T113000
DTEND;TZID=UTC:20271022T130000
DTSTAMP:20260425T120759
CREATED:20240223T205440Z
LAST-MODIFIED:20250901T192420Z
UID:10002489-1824204600-1824210000@visaliaelks.org
SUMMARY:Friday Lunch
DESCRIPTION:Menu will be posted in the Member’s FB group.
URL:https://visaliaelks.org/events/friday-lunch/2027-10-22/
LOCATION:Visalia Elks Lodge\, 3100 W Main St\, Visalia\, CA\, 93291\, United States
CATEGORIES:Lunch Event
GEO:36.3292721;-119.3254884
X-APPLE-STRUCTURED-LOCATION;VALUE=URI;X-ADDRESS=Visalia Elks Lodge 3100 W Main St Visalia CA 93291 United States;X-APPLE-RADIUS=500;X-TITLE=3100 W Main St:geo:-119.3254884,36.3292721
END:VEVENT
BEGIN:VEVENT
DTSTART;TZID=UTC:20271029T113000
DTEND;TZID=UTC:20271029T130000
DTSTAMP:20260425T120759
CREATED:20240223T205440Z
LAST-MODIFIED:20250901T192420Z
UID:10002490-1824809400-1824814800@visaliaelks.org
SUMMARY:Friday Lunch
DESCRIPTION:Menu will be posted in the Member’s FB group.
URL:https://visaliaelks.org/events/friday-lunch/2027-10-29/
LOCATION:Visalia Elks Lodge\, 3100 W Main St\, Visalia\, CA\, 93291\, United States
CATEGORIES:Lunch Event
GEO:36.3292721;-119.3254884
X-APPLE-STRUCTURED-LOCATION;VALUE=URI;X-ADDRESS=Visalia Elks Lodge 3100 W Main St Visalia CA 93291 United States;X-APPLE-RADIUS=500;X-TITLE=3100 W Main St:geo:-119.3254884,36.3292721
END:VEVENT
BEGIN:VEVENT
DTSTART;TZID=UTC:20271105T113000
DTEND;TZID=UTC:20271105T130000
DTSTAMP:20260425T120759
CREATED:20240223T205440Z
LAST-MODIFIED:20250901T192420Z
UID:10002491-1825414200-1825419600@visaliaelks.org
SUMMARY:Friday Lunch
DESCRIPTION:Menu will be posted in the Member’s FB group.
URL:https://visaliaelks.org/events/friday-lunch/2027-11-05/
LOCATION:Visalia Elks Lodge\, 3100 W Main St\, Visalia\, CA\, 93291\, United States
CATEGORIES:Lunch Event
GEO:36.3292721;-119.3254884
X-APPLE-STRUCTURED-LOCATION;VALUE=URI;X-ADDRESS=Visalia Elks Lodge 3100 W Main St Visalia CA 93291 United States;X-APPLE-RADIUS=500;X-TITLE=3100 W Main St:geo:-119.3254884,36.3292721
END:VEVENT
BEGIN:VEVENT
DTSTART;TZID=UTC:20271112T113000
DTEND;TZID=UTC:20271112T130000
DTSTAMP:20260425T120759
CREATED:20240223T205440Z
LAST-MODIFIED:20250901T192420Z
UID:10001996-1826019000-1826024400@visaliaelks.org
SUMMARY:Friday Lunch
DESCRIPTION:Menu will be posted in the Member’s FB group.
URL:https://visaliaelks.org/events/friday-lunch/2027-11-12/
LOCATION:Visalia Elks Lodge\, 3100 W Main St\, Visalia\, CA\, 93291\, United States
CATEGORIES:Lunch Event
GEO:36.3292721;-119.3254884
X-APPLE-STRUCTURED-LOCATION;VALUE=URI;X-ADDRESS=Visalia Elks Lodge 3100 W Main St Visalia CA 93291 United States;X-APPLE-RADIUS=500;X-TITLE=3100 W Main St:geo:-119.3254884,36.3292721
END:VEVENT
BEGIN:VEVENT
DTSTART;TZID=UTC:20271119T113000
DTEND;TZID=UTC:20271119T130000
DTSTAMP:20260425T120759
CREATED:20240223T205440Z
LAST-MODIFIED:20250901T192420Z
UID:10002492-1826623800-1826629200@visaliaelks.org
SUMMARY:Friday Lunch
DESCRIPTION:Menu will be posted in the Member’s FB group.
URL:https://visaliaelks.org/events/friday-lunch/2027-11-19/
LOCATION:Visalia Elks Lodge\, 3100 W Main St\, Visalia\, CA\, 93291\, United States
CATEGORIES:Lunch Event
GEO:36.3292721;-119.3254884
X-APPLE-STRUCTURED-LOCATION;VALUE=URI;X-ADDRESS=Visalia Elks Lodge 3100 W Main St Visalia CA 93291 United States;X-APPLE-RADIUS=500;X-TITLE=3100 W Main St:geo:-119.3254884,36.3292721
END:VEVENT
END:VCALENDAR