BEGIN:VCALENDAR
VERSION:2.0
PRODID:-//Visalia Elks Lodge 1298 - ECPv6.15.20//NONSGML v1.0//EN
CALSCALE:GREGORIAN
METHOD:PUBLISH
X-ORIGINAL-URL:https://visaliaelks.org
X-WR-CALDESC:Events for Visalia Elks Lodge 1298
REFRESH-INTERVAL;VALUE=DURATION:PT1H
X-Robots-Tag:noindex
X-PUBLISHED-TTL:PT1H
BEGIN:VTIMEZONE
TZID:UTC
BEGIN:STANDARD
TZOFFSETFROM:+0000
TZOFFSETTO:+0000
TZNAME:UTC
DTSTART:20270101T000000
END:STANDARD
END:VTIMEZONE
BEGIN:VEVENT
DTSTART;TZID=UTC:20280804T113000
DTEND;TZID=UTC:20280804T130000
DTSTAMP:20260426T034847
CREATED:20240223T205440Z
LAST-MODIFIED:20250901T192420Z
UID:10002521-1849001400-1849006800@visaliaelks.org
SUMMARY:Friday Lunch
DESCRIPTION:Menu will be posted in the Member’s FB group.
URL:https://visaliaelks.org/events/friday-lunch/2028-08-04/
LOCATION:Visalia Elks Lodge\, 3100 W Main St\, Visalia\, CA\, 93291\, United States
CATEGORIES:Lunch Event
GEO:36.3292721;-119.3254884
X-APPLE-STRUCTURED-LOCATION;VALUE=URI;X-ADDRESS=Visalia Elks Lodge 3100 W Main St Visalia CA 93291 United States;X-APPLE-RADIUS=500;X-TITLE=3100 W Main St:geo:-119.3254884,36.3292721
END:VEVENT
BEGIN:VEVENT
DTSTART;TZID=UTC:20280811T113000
DTEND;TZID=UTC:20280811T130000
DTSTAMP:20260426T034847
CREATED:20240223T205440Z
LAST-MODIFIED:20250901T192420Z
UID:10002005-1849606200-1849611600@visaliaelks.org
SUMMARY:Friday Lunch
DESCRIPTION:Menu will be posted in the Member’s FB group.
URL:https://visaliaelks.org/events/friday-lunch/2028-08-11/
LOCATION:Visalia Elks Lodge\, 3100 W Main St\, Visalia\, CA\, 93291\, United States
CATEGORIES:Lunch Event
GEO:36.3292721;-119.3254884
X-APPLE-STRUCTURED-LOCATION;VALUE=URI;X-ADDRESS=Visalia Elks Lodge 3100 W Main St Visalia CA 93291 United States;X-APPLE-RADIUS=500;X-TITLE=3100 W Main St:geo:-119.3254884,36.3292721
END:VEVENT
BEGIN:VEVENT
DTSTART;TZID=UTC:20280818T113000
DTEND;TZID=UTC:20280818T130000
DTSTAMP:20260426T034847
CREATED:20240223T205440Z
LAST-MODIFIED:20250901T192420Z
UID:10002522-1850211000-1850216400@visaliaelks.org
SUMMARY:Friday Lunch
DESCRIPTION:Menu will be posted in the Member’s FB group.
URL:https://visaliaelks.org/events/friday-lunch/2028-08-18/
LOCATION:Visalia Elks Lodge\, 3100 W Main St\, Visalia\, CA\, 93291\, United States
CATEGORIES:Lunch Event
GEO:36.3292721;-119.3254884
X-APPLE-STRUCTURED-LOCATION;VALUE=URI;X-ADDRESS=Visalia Elks Lodge 3100 W Main St Visalia CA 93291 United States;X-APPLE-RADIUS=500;X-TITLE=3100 W Main St:geo:-119.3254884,36.3292721
END:VEVENT
BEGIN:VEVENT
DTSTART;TZID=UTC:20280825T113000
DTEND;TZID=UTC:20280825T130000
DTSTAMP:20260426T034847
CREATED:20240223T205440Z
LAST-MODIFIED:20250901T192420Z
UID:10002523-1850815800-1850821200@visaliaelks.org
SUMMARY:Friday Lunch
DESCRIPTION:Menu will be posted in the Member’s FB group.
URL:https://visaliaelks.org/events/friday-lunch/2028-08-25/
LOCATION:Visalia Elks Lodge\, 3100 W Main St\, Visalia\, CA\, 93291\, United States
CATEGORIES:Lunch Event
GEO:36.3292721;-119.3254884
X-APPLE-STRUCTURED-LOCATION;VALUE=URI;X-ADDRESS=Visalia Elks Lodge 3100 W Main St Visalia CA 93291 United States;X-APPLE-RADIUS=500;X-TITLE=3100 W Main St:geo:-119.3254884,36.3292721
END:VEVENT
BEGIN:VEVENT
DTSTART;TZID=UTC:20280901T113000
DTEND;TZID=UTC:20280901T130000
DTSTAMP:20260426T034847
CREATED:20240223T205440Z
LAST-MODIFIED:20250901T192420Z
UID:10002524-1851420600-1851426000@visaliaelks.org
SUMMARY:Friday Lunch
DESCRIPTION:Menu will be posted in the Member’s FB group.
URL:https://visaliaelks.org/events/friday-lunch/2028-09-01/
LOCATION:Visalia Elks Lodge\, 3100 W Main St\, Visalia\, CA\, 93291\, United States
CATEGORIES:Lunch Event
GEO:36.3292721;-119.3254884
X-APPLE-STRUCTURED-LOCATION;VALUE=URI;X-ADDRESS=Visalia Elks Lodge 3100 W Main St Visalia CA 93291 United States;X-APPLE-RADIUS=500;X-TITLE=3100 W Main St:geo:-119.3254884,36.3292721
END:VEVENT
BEGIN:VEVENT
DTSTART;TZID=UTC:20280908T113000
DTEND;TZID=UTC:20280908T130000
DTSTAMP:20260426T034847
CREATED:20240223T205440Z
LAST-MODIFIED:20250901T192420Z
UID:10002006-1852025400-1852030800@visaliaelks.org
SUMMARY:Friday Lunch
DESCRIPTION:Menu will be posted in the Member’s FB group.
URL:https://visaliaelks.org/events/friday-lunch/2028-09-08/
LOCATION:Visalia Elks Lodge\, 3100 W Main St\, Visalia\, CA\, 93291\, United States
CATEGORIES:Lunch Event
GEO:36.3292721;-119.3254884
X-APPLE-STRUCTURED-LOCATION;VALUE=URI;X-ADDRESS=Visalia Elks Lodge 3100 W Main St Visalia CA 93291 United States;X-APPLE-RADIUS=500;X-TITLE=3100 W Main St:geo:-119.3254884,36.3292721
END:VEVENT
BEGIN:VEVENT
DTSTART;TZID=UTC:20280915T113000
DTEND;TZID=UTC:20280915T130000
DTSTAMP:20260426T034847
CREATED:20240223T205440Z
LAST-MODIFIED:20250901T192420Z
UID:10002525-1852630200-1852635600@visaliaelks.org
SUMMARY:Friday Lunch
DESCRIPTION:Menu will be posted in the Member’s FB group.
URL:https://visaliaelks.org/events/friday-lunch/2028-09-15/
LOCATION:Visalia Elks Lodge\, 3100 W Main St\, Visalia\, CA\, 93291\, United States
CATEGORIES:Lunch Event
GEO:36.3292721;-119.3254884
X-APPLE-STRUCTURED-LOCATION;VALUE=URI;X-ADDRESS=Visalia Elks Lodge 3100 W Main St Visalia CA 93291 United States;X-APPLE-RADIUS=500;X-TITLE=3100 W Main St:geo:-119.3254884,36.3292721
END:VEVENT
BEGIN:VEVENT
DTSTART;TZID=UTC:20280922T113000
DTEND;TZID=UTC:20280922T130000
DTSTAMP:20260426T034847
CREATED:20240223T205440Z
LAST-MODIFIED:20250901T192420Z
UID:10002526-1853235000-1853240400@visaliaelks.org
SUMMARY:Friday Lunch
DESCRIPTION:Menu will be posted in the Member’s FB group.
URL:https://visaliaelks.org/events/friday-lunch/2028-09-22/
LOCATION:Visalia Elks Lodge\, 3100 W Main St\, Visalia\, CA\, 93291\, United States
CATEGORIES:Lunch Event
GEO:36.3292721;-119.3254884
X-APPLE-STRUCTURED-LOCATION;VALUE=URI;X-ADDRESS=Visalia Elks Lodge 3100 W Main St Visalia CA 93291 United States;X-APPLE-RADIUS=500;X-TITLE=3100 W Main St:geo:-119.3254884,36.3292721
END:VEVENT
BEGIN:VEVENT
DTSTART;TZID=UTC:20280929T113000
DTEND;TZID=UTC:20280929T130000
DTSTAMP:20260426T034847
CREATED:20240223T205440Z
LAST-MODIFIED:20250901T192420Z
UID:10002527-1853839800-1853845200@visaliaelks.org
SUMMARY:Friday Lunch
DESCRIPTION:Menu will be posted in the Member’s FB group.
URL:https://visaliaelks.org/events/friday-lunch/2028-09-29/
LOCATION:Visalia Elks Lodge\, 3100 W Main St\, Visalia\, CA\, 93291\, United States
CATEGORIES:Lunch Event
GEO:36.3292721;-119.3254884
X-APPLE-STRUCTURED-LOCATION;VALUE=URI;X-ADDRESS=Visalia Elks Lodge 3100 W Main St Visalia CA 93291 United States;X-APPLE-RADIUS=500;X-TITLE=3100 W Main St:geo:-119.3254884,36.3292721
END:VEVENT
BEGIN:VEVENT
DTSTART;TZID=UTC:20281006T113000
DTEND;TZID=UTC:20281006T130000
DTSTAMP:20260426T034847
CREATED:20240223T205440Z
LAST-MODIFIED:20250901T192420Z
UID:10002528-1854444600-1854450000@visaliaelks.org
SUMMARY:Friday Lunch
DESCRIPTION:Menu will be posted in the Member’s FB group.
URL:https://visaliaelks.org/events/friday-lunch/2028-10-06/
LOCATION:Visalia Elks Lodge\, 3100 W Main St\, Visalia\, CA\, 93291\, United States
CATEGORIES:Lunch Event
GEO:36.3292721;-119.3254884
X-APPLE-STRUCTURED-LOCATION;VALUE=URI;X-ADDRESS=Visalia Elks Lodge 3100 W Main St Visalia CA 93291 United States;X-APPLE-RADIUS=500;X-TITLE=3100 W Main St:geo:-119.3254884,36.3292721
END:VEVENT
BEGIN:VEVENT
DTSTART;TZID=UTC:20281013T113000
DTEND;TZID=UTC:20281013T130000
DTSTAMP:20260426T034847
CREATED:20240223T205440Z
LAST-MODIFIED:20250901T192420Z
UID:10002007-1855049400-1855054800@visaliaelks.org
SUMMARY:Friday Lunch
DESCRIPTION:Menu will be posted in the Member’s FB group.
URL:https://visaliaelks.org/events/friday-lunch/2028-10-13/
LOCATION:Visalia Elks Lodge\, 3100 W Main St\, Visalia\, CA\, 93291\, United States
CATEGORIES:Lunch Event
GEO:36.3292721;-119.3254884
X-APPLE-STRUCTURED-LOCATION;VALUE=URI;X-ADDRESS=Visalia Elks Lodge 3100 W Main St Visalia CA 93291 United States;X-APPLE-RADIUS=500;X-TITLE=3100 W Main St:geo:-119.3254884,36.3292721
END:VEVENT
BEGIN:VEVENT
DTSTART;TZID=UTC:20281020T113000
DTEND;TZID=UTC:20281020T130000
DTSTAMP:20260426T034847
CREATED:20240223T205440Z
LAST-MODIFIED:20250901T192420Z
UID:10002529-1855654200-1855659600@visaliaelks.org
SUMMARY:Friday Lunch
DESCRIPTION:Menu will be posted in the Member’s FB group.
URL:https://visaliaelks.org/events/friday-lunch/2028-10-20/
LOCATION:Visalia Elks Lodge\, 3100 W Main St\, Visalia\, CA\, 93291\, United States
CATEGORIES:Lunch Event
GEO:36.3292721;-119.3254884
X-APPLE-STRUCTURED-LOCATION;VALUE=URI;X-ADDRESS=Visalia Elks Lodge 3100 W Main St Visalia CA 93291 United States;X-APPLE-RADIUS=500;X-TITLE=3100 W Main St:geo:-119.3254884,36.3292721
END:VEVENT
BEGIN:VEVENT
DTSTART;TZID=UTC:20281027T113000
DTEND;TZID=UTC:20281027T130000
DTSTAMP:20260426T034847
CREATED:20240223T205440Z
LAST-MODIFIED:20250901T192420Z
UID:10002530-1856259000-1856264400@visaliaelks.org
SUMMARY:Friday Lunch
DESCRIPTION:Menu will be posted in the Member’s FB group.
URL:https://visaliaelks.org/events/friday-lunch/2028-10-27/
LOCATION:Visalia Elks Lodge\, 3100 W Main St\, Visalia\, CA\, 93291\, United States
CATEGORIES:Lunch Event
GEO:36.3292721;-119.3254884
X-APPLE-STRUCTURED-LOCATION;VALUE=URI;X-ADDRESS=Visalia Elks Lodge 3100 W Main St Visalia CA 93291 United States;X-APPLE-RADIUS=500;X-TITLE=3100 W Main St:geo:-119.3254884,36.3292721
END:VEVENT
BEGIN:VEVENT
DTSTART;TZID=UTC:20281103T113000
DTEND;TZID=UTC:20281103T130000
DTSTAMP:20260426T034847
CREATED:20240223T205440Z
LAST-MODIFIED:20250901T192420Z
UID:10002531-1856863800-1856869200@visaliaelks.org
SUMMARY:Friday Lunch
DESCRIPTION:Menu will be posted in the Member’s FB group.
URL:https://visaliaelks.org/events/friday-lunch/2028-11-03/
LOCATION:Visalia Elks Lodge\, 3100 W Main St\, Visalia\, CA\, 93291\, United States
CATEGORIES:Lunch Event
GEO:36.3292721;-119.3254884
X-APPLE-STRUCTURED-LOCATION;VALUE=URI;X-ADDRESS=Visalia Elks Lodge 3100 W Main St Visalia CA 93291 United States;X-APPLE-RADIUS=500;X-TITLE=3100 W Main St:geo:-119.3254884,36.3292721
END:VEVENT
BEGIN:VEVENT
DTSTART;TZID=UTC:20281110T113000
DTEND;TZID=UTC:20281110T130000
DTSTAMP:20260426T034847
CREATED:20240223T205440Z
LAST-MODIFIED:20250901T192420Z
UID:10002008-1857468600-1857474000@visaliaelks.org
SUMMARY:Friday Lunch
DESCRIPTION:Menu will be posted in the Member’s FB group.
URL:https://visaliaelks.org/events/friday-lunch/2028-11-10/
LOCATION:Visalia Elks Lodge\, 3100 W Main St\, Visalia\, CA\, 93291\, United States
CATEGORIES:Lunch Event
GEO:36.3292721;-119.3254884
X-APPLE-STRUCTURED-LOCATION;VALUE=URI;X-ADDRESS=Visalia Elks Lodge 3100 W Main St Visalia CA 93291 United States;X-APPLE-RADIUS=500;X-TITLE=3100 W Main St:geo:-119.3254884,36.3292721
END:VEVENT
BEGIN:VEVENT
DTSTART;TZID=UTC:20281117T113000
DTEND;TZID=UTC:20281117T130000
DTSTAMP:20260426T034847
CREATED:20240223T205440Z
LAST-MODIFIED:20250901T192420Z
UID:10002532-1858073400-1858078800@visaliaelks.org
SUMMARY:Friday Lunch
DESCRIPTION:Menu will be posted in the Member’s FB group.
URL:https://visaliaelks.org/events/friday-lunch/2028-11-17/
LOCATION:Visalia Elks Lodge\, 3100 W Main St\, Visalia\, CA\, 93291\, United States
CATEGORIES:Lunch Event
GEO:36.3292721;-119.3254884
X-APPLE-STRUCTURED-LOCATION;VALUE=URI;X-ADDRESS=Visalia Elks Lodge 3100 W Main St Visalia CA 93291 United States;X-APPLE-RADIUS=500;X-TITLE=3100 W Main St:geo:-119.3254884,36.3292721
END:VEVENT
BEGIN:VEVENT
DTSTART;TZID=UTC:20281124T113000
DTEND;TZID=UTC:20281124T130000
DTSTAMP:20260426T034847
CREATED:20240223T205440Z
LAST-MODIFIED:20250901T192420Z
UID:10002533-1858678200-1858683600@visaliaelks.org
SUMMARY:Friday Lunch
DESCRIPTION:Menu will be posted in the Member’s FB group.
URL:https://visaliaelks.org/events/friday-lunch/2028-11-24/
LOCATION:Visalia Elks Lodge\, 3100 W Main St\, Visalia\, CA\, 93291\, United States
CATEGORIES:Lunch Event
GEO:36.3292721;-119.3254884
X-APPLE-STRUCTURED-LOCATION;VALUE=URI;X-ADDRESS=Visalia Elks Lodge 3100 W Main St Visalia CA 93291 United States;X-APPLE-RADIUS=500;X-TITLE=3100 W Main St:geo:-119.3254884,36.3292721
END:VEVENT
BEGIN:VEVENT
DTSTART;TZID=UTC:20281201T113000
DTEND;TZID=UTC:20281201T130000
DTSTAMP:20260426T034847
CREATED:20240223T205440Z
LAST-MODIFIED:20250901T192420Z
UID:10002534-1859283000-1859288400@visaliaelks.org
SUMMARY:Friday Lunch
DESCRIPTION:Menu will be posted in the Member’s FB group.
URL:https://visaliaelks.org/events/friday-lunch/2028-12-01/
LOCATION:Visalia Elks Lodge\, 3100 W Main St\, Visalia\, CA\, 93291\, United States
CATEGORIES:Lunch Event
GEO:36.3292721;-119.3254884
X-APPLE-STRUCTURED-LOCATION;VALUE=URI;X-ADDRESS=Visalia Elks Lodge 3100 W Main St Visalia CA 93291 United States;X-APPLE-RADIUS=500;X-TITLE=3100 W Main St:geo:-119.3254884,36.3292721
END:VEVENT
BEGIN:VEVENT
DTSTART;TZID=UTC:20281208T113000
DTEND;TZID=UTC:20281208T130000
DTSTAMP:20260426T034847
CREATED:20240223T205440Z
LAST-MODIFIED:20250901T192420Z
UID:10002009-1859887800-1859893200@visaliaelks.org
SUMMARY:Friday Lunch
DESCRIPTION:Menu will be posted in the Member’s FB group.
URL:https://visaliaelks.org/events/friday-lunch/2028-12-08/
LOCATION:Visalia Elks Lodge\, 3100 W Main St\, Visalia\, CA\, 93291\, United States
CATEGORIES:Lunch Event
GEO:36.3292721;-119.3254884
X-APPLE-STRUCTURED-LOCATION;VALUE=URI;X-ADDRESS=Visalia Elks Lodge 3100 W Main St Visalia CA 93291 United States;X-APPLE-RADIUS=500;X-TITLE=3100 W Main St:geo:-119.3254884,36.3292721
END:VEVENT
BEGIN:VEVENT
DTSTART;TZID=UTC:20281215T113000
DTEND;TZID=UTC:20281215T130000
DTSTAMP:20260426T034847
CREATED:20240223T205440Z
LAST-MODIFIED:20250901T192420Z
UID:10002535-1860492600-1860498000@visaliaelks.org
SUMMARY:Friday Lunch
DESCRIPTION:Menu will be posted in the Member’s FB group.
URL:https://visaliaelks.org/events/friday-lunch/2028-12-15/
LOCATION:Visalia Elks Lodge\, 3100 W Main St\, Visalia\, CA\, 93291\, United States
CATEGORIES:Lunch Event
GEO:36.3292721;-119.3254884
X-APPLE-STRUCTURED-LOCATION;VALUE=URI;X-ADDRESS=Visalia Elks Lodge 3100 W Main St Visalia CA 93291 United States;X-APPLE-RADIUS=500;X-TITLE=3100 W Main St:geo:-119.3254884,36.3292721
END:VEVENT
BEGIN:VEVENT
DTSTART;TZID=UTC:20281222T113000
DTEND;TZID=UTC:20281222T130000
DTSTAMP:20260426T034847
CREATED:20240223T205440Z
LAST-MODIFIED:20250901T192420Z
UID:10002536-1861097400-1861102800@visaliaelks.org
SUMMARY:Friday Lunch
DESCRIPTION:Menu will be posted in the Member’s FB group.
URL:https://visaliaelks.org/events/friday-lunch/2028-12-22/
LOCATION:Visalia Elks Lodge\, 3100 W Main St\, Visalia\, CA\, 93291\, United States
CATEGORIES:Lunch Event
GEO:36.3292721;-119.3254884
X-APPLE-STRUCTURED-LOCATION;VALUE=URI;X-ADDRESS=Visalia Elks Lodge 3100 W Main St Visalia CA 93291 United States;X-APPLE-RADIUS=500;X-TITLE=3100 W Main St:geo:-119.3254884,36.3292721
END:VEVENT
BEGIN:VEVENT
DTSTART;TZID=UTC:20281229T113000
DTEND;TZID=UTC:20281229T130000
DTSTAMP:20260426T034847
CREATED:20240223T205440Z
LAST-MODIFIED:20250901T192420Z
UID:10002537-1861702200-1861707600@visaliaelks.org
SUMMARY:Friday Lunch
DESCRIPTION:Menu will be posted in the Member’s FB group.
URL:https://visaliaelks.org/events/friday-lunch/2028-12-29/
LOCATION:Visalia Elks Lodge\, 3100 W Main St\, Visalia\, CA\, 93291\, United States
CATEGORIES:Lunch Event
GEO:36.3292721;-119.3254884
X-APPLE-STRUCTURED-LOCATION;VALUE=URI;X-ADDRESS=Visalia Elks Lodge 3100 W Main St Visalia CA 93291 United States;X-APPLE-RADIUS=500;X-TITLE=3100 W Main St:geo:-119.3254884,36.3292721
END:VEVENT
BEGIN:VEVENT
DTSTART;TZID=UTC:20290105T113000
DTEND;TZID=UTC:20290105T130000
DTSTAMP:20260426T034847
CREATED:20240223T205440Z
LAST-MODIFIED:20250901T192420Z
UID:10002538-1862307000-1862312400@visaliaelks.org
SUMMARY:Friday Lunch
DESCRIPTION:Menu will be posted in the Member’s FB group.
URL:https://visaliaelks.org/events/friday-lunch/2029-01-05/
LOCATION:Visalia Elks Lodge\, 3100 W Main St\, Visalia\, CA\, 93291\, United States
CATEGORIES:Lunch Event
GEO:36.3292721;-119.3254884
X-APPLE-STRUCTURED-LOCATION;VALUE=URI;X-ADDRESS=Visalia Elks Lodge 3100 W Main St Visalia CA 93291 United States;X-APPLE-RADIUS=500;X-TITLE=3100 W Main St:geo:-119.3254884,36.3292721
END:VEVENT
BEGIN:VEVENT
DTSTART;TZID=UTC:20290112T113000
DTEND;TZID=UTC:20290112T130000
DTSTAMP:20260426T034847
CREATED:20240223T205440Z
LAST-MODIFIED:20250901T192420Z
UID:10002010-1862911800-1862917200@visaliaelks.org
SUMMARY:Friday Lunch
DESCRIPTION:Menu will be posted in the Member’s FB group.
URL:https://visaliaelks.org/events/friday-lunch/2029-01-12/
LOCATION:Visalia Elks Lodge\, 3100 W Main St\, Visalia\, CA\, 93291\, United States
CATEGORIES:Lunch Event
GEO:36.3292721;-119.3254884
X-APPLE-STRUCTURED-LOCATION;VALUE=URI;X-ADDRESS=Visalia Elks Lodge 3100 W Main St Visalia CA 93291 United States;X-APPLE-RADIUS=500;X-TITLE=3100 W Main St:geo:-119.3254884,36.3292721
END:VEVENT
BEGIN:VEVENT
DTSTART;TZID=UTC:20290119T113000
DTEND;TZID=UTC:20290119T130000
DTSTAMP:20260426T034847
CREATED:20240223T205440Z
LAST-MODIFIED:20250901T192420Z
UID:10002539-1863516600-1863522000@visaliaelks.org
SUMMARY:Friday Lunch
DESCRIPTION:Menu will be posted in the Member’s FB group.
URL:https://visaliaelks.org/events/friday-lunch/2029-01-19/
LOCATION:Visalia Elks Lodge\, 3100 W Main St\, Visalia\, CA\, 93291\, United States
CATEGORIES:Lunch Event
GEO:36.3292721;-119.3254884
X-APPLE-STRUCTURED-LOCATION;VALUE=URI;X-ADDRESS=Visalia Elks Lodge 3100 W Main St Visalia CA 93291 United States;X-APPLE-RADIUS=500;X-TITLE=3100 W Main St:geo:-119.3254884,36.3292721
END:VEVENT
BEGIN:VEVENT
DTSTART;TZID=UTC:20290126T113000
DTEND;TZID=UTC:20290126T130000
DTSTAMP:20260426T034847
CREATED:20240223T205440Z
LAST-MODIFIED:20250901T192420Z
UID:10002540-1864121400-1864126800@visaliaelks.org
SUMMARY:Friday Lunch
DESCRIPTION:Menu will be posted in the Member’s FB group.
URL:https://visaliaelks.org/events/friday-lunch/2029-01-26/
LOCATION:Visalia Elks Lodge\, 3100 W Main St\, Visalia\, CA\, 93291\, United States
CATEGORIES:Lunch Event
GEO:36.3292721;-119.3254884
X-APPLE-STRUCTURED-LOCATION;VALUE=URI;X-ADDRESS=Visalia Elks Lodge 3100 W Main St Visalia CA 93291 United States;X-APPLE-RADIUS=500;X-TITLE=3100 W Main St:geo:-119.3254884,36.3292721
END:VEVENT
BEGIN:VEVENT
DTSTART;TZID=UTC:20290202T113000
DTEND;TZID=UTC:20290202T130000
DTSTAMP:20260426T034847
CREATED:20240223T205440Z
LAST-MODIFIED:20250901T192420Z
UID:10002541-1864726200-1864731600@visaliaelks.org
SUMMARY:Friday Lunch
DESCRIPTION:Menu will be posted in the Member’s FB group.
URL:https://visaliaelks.org/events/friday-lunch/2029-02-02/
LOCATION:Visalia Elks Lodge\, 3100 W Main St\, Visalia\, CA\, 93291\, United States
CATEGORIES:Lunch Event
GEO:36.3292721;-119.3254884
X-APPLE-STRUCTURED-LOCATION;VALUE=URI;X-ADDRESS=Visalia Elks Lodge 3100 W Main St Visalia CA 93291 United States;X-APPLE-RADIUS=500;X-TITLE=3100 W Main St:geo:-119.3254884,36.3292721
END:VEVENT
BEGIN:VEVENT
DTSTART;TZID=UTC:20290209T113000
DTEND;TZID=UTC:20290209T130000
DTSTAMP:20260426T034847
CREATED:20240223T205440Z
LAST-MODIFIED:20250901T192420Z
UID:10002011-1865331000-1865336400@visaliaelks.org
SUMMARY:Friday Lunch
DESCRIPTION:Menu will be posted in the Member’s FB group.
URL:https://visaliaelks.org/events/friday-lunch/2029-02-09/
LOCATION:Visalia Elks Lodge\, 3100 W Main St\, Visalia\, CA\, 93291\, United States
CATEGORIES:Lunch Event
GEO:36.3292721;-119.3254884
X-APPLE-STRUCTURED-LOCATION;VALUE=URI;X-ADDRESS=Visalia Elks Lodge 3100 W Main St Visalia CA 93291 United States;X-APPLE-RADIUS=500;X-TITLE=3100 W Main St:geo:-119.3254884,36.3292721
END:VEVENT
BEGIN:VEVENT
DTSTART;TZID=UTC:20290216T113000
DTEND;TZID=UTC:20290216T130000
DTSTAMP:20260426T034847
CREATED:20240223T205440Z
LAST-MODIFIED:20250901T192420Z
UID:10002542-1865935800-1865941200@visaliaelks.org
SUMMARY:Friday Lunch
DESCRIPTION:Menu will be posted in the Member’s FB group.
URL:https://visaliaelks.org/events/friday-lunch/2029-02-16/
LOCATION:Visalia Elks Lodge\, 3100 W Main St\, Visalia\, CA\, 93291\, United States
CATEGORIES:Lunch Event
GEO:36.3292721;-119.3254884
X-APPLE-STRUCTURED-LOCATION;VALUE=URI;X-ADDRESS=Visalia Elks Lodge 3100 W Main St Visalia CA 93291 United States;X-APPLE-RADIUS=500;X-TITLE=3100 W Main St:geo:-119.3254884,36.3292721
END:VEVENT
BEGIN:VEVENT
DTSTART;TZID=UTC:20290223T113000
DTEND;TZID=UTC:20290223T130000
DTSTAMP:20260426T034847
CREATED:20240223T205440Z
LAST-MODIFIED:20250901T192420Z
UID:10002543-1866540600-1866546000@visaliaelks.org
SUMMARY:Friday Lunch
DESCRIPTION:Menu will be posted in the Member’s FB group.
URL:https://visaliaelks.org/events/friday-lunch/2029-02-23/
LOCATION:Visalia Elks Lodge\, 3100 W Main St\, Visalia\, CA\, 93291\, United States
CATEGORIES:Lunch Event
GEO:36.3292721;-119.3254884
X-APPLE-STRUCTURED-LOCATION;VALUE=URI;X-ADDRESS=Visalia Elks Lodge 3100 W Main St Visalia CA 93291 United States;X-APPLE-RADIUS=500;X-TITLE=3100 W Main St:geo:-119.3254884,36.3292721
END:VEVENT
END:VCALENDAR