BEGIN:VCALENDAR
VERSION:2.0
PRODID:-//Visalia Elks Lodge 1298 - ECPv6.15.20//NONSGML v1.0//EN
CALSCALE:GREGORIAN
METHOD:PUBLISH
X-ORIGINAL-URL:https://visaliaelks.org
X-WR-CALDESC:Events for Visalia Elks Lodge 1298
REFRESH-INTERVAL;VALUE=DURATION:PT1H
X-Robots-Tag:noindex
X-PUBLISHED-TTL:PT1H
BEGIN:VTIMEZONE
TZID:UTC
BEGIN:STANDARD
TZOFFSETFROM:+0000
TZOFFSETTO:+0000
TZNAME:UTC
DTSTART:20290101T000000
END:STANDARD
END:VTIMEZONE
BEGIN:VEVENT
DTSTART;TZID=UTC:20300715T180000
DTEND;TZID=UTC:20300715T180000
DTSTAMP:20260425T131426
CREATED:20260330T173402Z
LAST-MODIFIED:20260330T173402Z
UID:10002984-1910368800-1910368800@visaliaelks.org
SUMMARY:Monday Night Dinner
DESCRIPTION:1st and 3rd Monday of Every Month – $10\nWatch the Member’s FB group for details each week.
URL:https://visaliaelks.org/events/monday-night-dinner-2/2030-07-15/
LOCATION:Visalia Elks Lodge\, 3100 W Main St\, Visalia\, CA\, 93291\, United States
CATEGORIES:Monday Night Dinner
GEO:36.3292721;-119.3254884
X-APPLE-STRUCTURED-LOCATION;VALUE=URI;X-ADDRESS=Visalia Elks Lodge 3100 W Main St Visalia CA 93291 United States;X-APPLE-RADIUS=500;X-TITLE=3100 W Main St:geo:-119.3254884,36.3292721
END:VEVENT
BEGIN:VEVENT
DTSTART;TZID=UTC:20300805T180000
DTEND;TZID=UTC:20300805T180000
DTSTAMP:20260425T131426
CREATED:20260330T173252Z
LAST-MODIFIED:20260330T173252Z
UID:10002865-1912183200-1912183200@visaliaelks.org
SUMMARY:Monday Night Dinner
DESCRIPTION:1st and 3rd Monday of Every Month – $10\nWatch the Member’s FB group for details each week.
URL:https://visaliaelks.org/events/monday-night-dinner/2030-08-05/
LOCATION:Visalia Elks Lodge\, 3100 W Main St\, Visalia\, CA\, 93291\, United States
CATEGORIES:Monday Night Dinner
GEO:36.3292721;-119.3254884
X-APPLE-STRUCTURED-LOCATION;VALUE=URI;X-ADDRESS=Visalia Elks Lodge 3100 W Main St Visalia CA 93291 United States;X-APPLE-RADIUS=500;X-TITLE=3100 W Main St:geo:-119.3254884,36.3292721
END:VEVENT
BEGIN:VEVENT
DTSTART;TZID=UTC:20300819T180000
DTEND;TZID=UTC:20300819T180000
DTSTAMP:20260425T131426
CREATED:20260330T173402Z
LAST-MODIFIED:20260330T173402Z
UID:10002985-1913392800-1913392800@visaliaelks.org
SUMMARY:Monday Night Dinner
DESCRIPTION:1st and 3rd Monday of Every Month – $10\nWatch the Member’s FB group for details each week.
URL:https://visaliaelks.org/events/monday-night-dinner-2/2030-08-19/
LOCATION:Visalia Elks Lodge\, 3100 W Main St\, Visalia\, CA\, 93291\, United States
CATEGORIES:Monday Night Dinner
GEO:36.3292721;-119.3254884
X-APPLE-STRUCTURED-LOCATION;VALUE=URI;X-ADDRESS=Visalia Elks Lodge 3100 W Main St Visalia CA 93291 United States;X-APPLE-RADIUS=500;X-TITLE=3100 W Main St:geo:-119.3254884,36.3292721
END:VEVENT
BEGIN:VEVENT
DTSTART;TZID=UTC:20300902T180000
DTEND;TZID=UTC:20300902T180000
DTSTAMP:20260425T131426
CREATED:20260330T173252Z
LAST-MODIFIED:20260330T173252Z
UID:10002866-1914602400-1914602400@visaliaelks.org
SUMMARY:Monday Night Dinner
DESCRIPTION:1st and 3rd Monday of Every Month – $10\nWatch the Member’s FB group for details each week.
URL:https://visaliaelks.org/events/monday-night-dinner/2030-09-02/
LOCATION:Visalia Elks Lodge\, 3100 W Main St\, Visalia\, CA\, 93291\, United States
CATEGORIES:Monday Night Dinner
GEO:36.3292721;-119.3254884
X-APPLE-STRUCTURED-LOCATION;VALUE=URI;X-ADDRESS=Visalia Elks Lodge 3100 W Main St Visalia CA 93291 United States;X-APPLE-RADIUS=500;X-TITLE=3100 W Main St:geo:-119.3254884,36.3292721
END:VEVENT
BEGIN:VEVENT
DTSTART;TZID=UTC:20300916T180000
DTEND;TZID=UTC:20300916T180000
DTSTAMP:20260425T131426
CREATED:20260330T173402Z
LAST-MODIFIED:20260330T173402Z
UID:10002986-1915812000-1915812000@visaliaelks.org
SUMMARY:Monday Night Dinner
DESCRIPTION:1st and 3rd Monday of Every Month – $10\nWatch the Member’s FB group for details each week.
URL:https://visaliaelks.org/events/monday-night-dinner-2/2030-09-16/
LOCATION:Visalia Elks Lodge\, 3100 W Main St\, Visalia\, CA\, 93291\, United States
CATEGORIES:Monday Night Dinner
GEO:36.3292721;-119.3254884
X-APPLE-STRUCTURED-LOCATION;VALUE=URI;X-ADDRESS=Visalia Elks Lodge 3100 W Main St Visalia CA 93291 United States;X-APPLE-RADIUS=500;X-TITLE=3100 W Main St:geo:-119.3254884,36.3292721
END:VEVENT
BEGIN:VEVENT
DTSTART;TZID=UTC:20301007T180000
DTEND;TZID=UTC:20301007T180000
DTSTAMP:20260425T131426
CREATED:20260330T173252Z
LAST-MODIFIED:20260330T173252Z
UID:10002867-1917626400-1917626400@visaliaelks.org
SUMMARY:Monday Night Dinner
DESCRIPTION:1st and 3rd Monday of Every Month – $10\nWatch the Member’s FB group for details each week.
URL:https://visaliaelks.org/events/monday-night-dinner/2030-10-07/
LOCATION:Visalia Elks Lodge\, 3100 W Main St\, Visalia\, CA\, 93291\, United States
CATEGORIES:Monday Night Dinner
GEO:36.3292721;-119.3254884
X-APPLE-STRUCTURED-LOCATION;VALUE=URI;X-ADDRESS=Visalia Elks Lodge 3100 W Main St Visalia CA 93291 United States;X-APPLE-RADIUS=500;X-TITLE=3100 W Main St:geo:-119.3254884,36.3292721
END:VEVENT
BEGIN:VEVENT
DTSTART;TZID=UTC:20301021T180000
DTEND;TZID=UTC:20301021T180000
DTSTAMP:20260425T131426
CREATED:20260330T173402Z
LAST-MODIFIED:20260330T173402Z
UID:10002987-1918836000-1918836000@visaliaelks.org
SUMMARY:Monday Night Dinner
DESCRIPTION:1st and 3rd Monday of Every Month – $10\nWatch the Member’s FB group for details each week.
URL:https://visaliaelks.org/events/monday-night-dinner-2/2030-10-21/
LOCATION:Visalia Elks Lodge\, 3100 W Main St\, Visalia\, CA\, 93291\, United States
CATEGORIES:Monday Night Dinner
GEO:36.3292721;-119.3254884
X-APPLE-STRUCTURED-LOCATION;VALUE=URI;X-ADDRESS=Visalia Elks Lodge 3100 W Main St Visalia CA 93291 United States;X-APPLE-RADIUS=500;X-TITLE=3100 W Main St:geo:-119.3254884,36.3292721
END:VEVENT
BEGIN:VEVENT
DTSTART;TZID=UTC:20301104T180000
DTEND;TZID=UTC:20301104T180000
DTSTAMP:20260425T131426
CREATED:20260330T173252Z
LAST-MODIFIED:20260330T173252Z
UID:10002868-1920045600-1920045600@visaliaelks.org
SUMMARY:Monday Night Dinner
DESCRIPTION:1st and 3rd Monday of Every Month – $10\nWatch the Member’s FB group for details each week.
URL:https://visaliaelks.org/events/monday-night-dinner/2030-11-04/
LOCATION:Visalia Elks Lodge\, 3100 W Main St\, Visalia\, CA\, 93291\, United States
CATEGORIES:Monday Night Dinner
GEO:36.3292721;-119.3254884
X-APPLE-STRUCTURED-LOCATION;VALUE=URI;X-ADDRESS=Visalia Elks Lodge 3100 W Main St Visalia CA 93291 United States;X-APPLE-RADIUS=500;X-TITLE=3100 W Main St:geo:-119.3254884,36.3292721
END:VEVENT
BEGIN:VEVENT
DTSTART;TZID=UTC:20301118T180000
DTEND;TZID=UTC:20301118T180000
DTSTAMP:20260425T131426
CREATED:20260330T173402Z
LAST-MODIFIED:20260330T173402Z
UID:10002988-1921255200-1921255200@visaliaelks.org
SUMMARY:Monday Night Dinner
DESCRIPTION:1st and 3rd Monday of Every Month – $10\nWatch the Member’s FB group for details each week.
URL:https://visaliaelks.org/events/monday-night-dinner-2/2030-11-18/
LOCATION:Visalia Elks Lodge\, 3100 W Main St\, Visalia\, CA\, 93291\, United States
CATEGORIES:Monday Night Dinner
GEO:36.3292721;-119.3254884
X-APPLE-STRUCTURED-LOCATION;VALUE=URI;X-ADDRESS=Visalia Elks Lodge 3100 W Main St Visalia CA 93291 United States;X-APPLE-RADIUS=500;X-TITLE=3100 W Main St:geo:-119.3254884,36.3292721
END:VEVENT
BEGIN:VEVENT
DTSTART;TZID=UTC:20301202T180000
DTEND;TZID=UTC:20301202T180000
DTSTAMP:20260425T131426
CREATED:20260330T173252Z
LAST-MODIFIED:20260330T173252Z
UID:10002869-1922464800-1922464800@visaliaelks.org
SUMMARY:Monday Night Dinner
DESCRIPTION:1st and 3rd Monday of Every Month – $10\nWatch the Member’s FB group for details each week.
URL:https://visaliaelks.org/events/monday-night-dinner/2030-12-02/
LOCATION:Visalia Elks Lodge\, 3100 W Main St\, Visalia\, CA\, 93291\, United States
CATEGORIES:Monday Night Dinner
GEO:36.3292721;-119.3254884
X-APPLE-STRUCTURED-LOCATION;VALUE=URI;X-ADDRESS=Visalia Elks Lodge 3100 W Main St Visalia CA 93291 United States;X-APPLE-RADIUS=500;X-TITLE=3100 W Main St:geo:-119.3254884,36.3292721
END:VEVENT
BEGIN:VEVENT
DTSTART;TZID=UTC:20301216T180000
DTEND;TZID=UTC:20301216T180000
DTSTAMP:20260425T131426
CREATED:20260330T173402Z
LAST-MODIFIED:20260330T173402Z
UID:10002989-1923674400-1923674400@visaliaelks.org
SUMMARY:Monday Night Dinner
DESCRIPTION:1st and 3rd Monday of Every Month – $10\nWatch the Member’s FB group for details each week.
URL:https://visaliaelks.org/events/monday-night-dinner-2/2030-12-16/
LOCATION:Visalia Elks Lodge\, 3100 W Main St\, Visalia\, CA\, 93291\, United States
CATEGORIES:Monday Night Dinner
GEO:36.3292721;-119.3254884
X-APPLE-STRUCTURED-LOCATION;VALUE=URI;X-ADDRESS=Visalia Elks Lodge 3100 W Main St Visalia CA 93291 United States;X-APPLE-RADIUS=500;X-TITLE=3100 W Main St:geo:-119.3254884,36.3292721
END:VEVENT
BEGIN:VEVENT
DTSTART;TZID=UTC:20310106T180000
DTEND;TZID=UTC:20310106T180000
DTSTAMP:20260425T131426
CREATED:20260330T173252Z
LAST-MODIFIED:20260330T173252Z
UID:10002870-1925488800-1925488800@visaliaelks.org
SUMMARY:Monday Night Dinner
DESCRIPTION:1st and 3rd Monday of Every Month – $10\nWatch the Member’s FB group for details each week.
URL:https://visaliaelks.org/events/monday-night-dinner/2031-01-06/
LOCATION:Visalia Elks Lodge\, 3100 W Main St\, Visalia\, CA\, 93291\, United States
CATEGORIES:Monday Night Dinner
GEO:36.3292721;-119.3254884
X-APPLE-STRUCTURED-LOCATION;VALUE=URI;X-ADDRESS=Visalia Elks Lodge 3100 W Main St Visalia CA 93291 United States;X-APPLE-RADIUS=500;X-TITLE=3100 W Main St:geo:-119.3254884,36.3292721
END:VEVENT
BEGIN:VEVENT
DTSTART;TZID=UTC:20310120T180000
DTEND;TZID=UTC:20310120T180000
DTSTAMP:20260425T131426
CREATED:20260330T173402Z
LAST-MODIFIED:20260330T173402Z
UID:10002990-1926698400-1926698400@visaliaelks.org
SUMMARY:Monday Night Dinner
DESCRIPTION:1st and 3rd Monday of Every Month – $10\nWatch the Member’s FB group for details each week.
URL:https://visaliaelks.org/events/monday-night-dinner-2/2031-01-20/
LOCATION:Visalia Elks Lodge\, 3100 W Main St\, Visalia\, CA\, 93291\, United States
CATEGORIES:Monday Night Dinner
GEO:36.3292721;-119.3254884
X-APPLE-STRUCTURED-LOCATION;VALUE=URI;X-ADDRESS=Visalia Elks Lodge 3100 W Main St Visalia CA 93291 United States;X-APPLE-RADIUS=500;X-TITLE=3100 W Main St:geo:-119.3254884,36.3292721
END:VEVENT
BEGIN:VEVENT
DTSTART;TZID=UTC:20310203T180000
DTEND;TZID=UTC:20310203T180000
DTSTAMP:20260425T131426
CREATED:20260330T173252Z
LAST-MODIFIED:20260330T173252Z
UID:10002871-1927908000-1927908000@visaliaelks.org
SUMMARY:Monday Night Dinner
DESCRIPTION:1st and 3rd Monday of Every Month – $10\nWatch the Member’s FB group for details each week.
URL:https://visaliaelks.org/events/monday-night-dinner/2031-02-03/
LOCATION:Visalia Elks Lodge\, 3100 W Main St\, Visalia\, CA\, 93291\, United States
CATEGORIES:Monday Night Dinner
GEO:36.3292721;-119.3254884
X-APPLE-STRUCTURED-LOCATION;VALUE=URI;X-ADDRESS=Visalia Elks Lodge 3100 W Main St Visalia CA 93291 United States;X-APPLE-RADIUS=500;X-TITLE=3100 W Main St:geo:-119.3254884,36.3292721
END:VEVENT
BEGIN:VEVENT
DTSTART;TZID=UTC:20310217T180000
DTEND;TZID=UTC:20310217T180000
DTSTAMP:20260425T131426
CREATED:20260330T173402Z
LAST-MODIFIED:20260330T173402Z
UID:10002991-1929117600-1929117600@visaliaelks.org
SUMMARY:Monday Night Dinner
DESCRIPTION:1st and 3rd Monday of Every Month – $10\nWatch the Member’s FB group for details each week.
URL:https://visaliaelks.org/events/monday-night-dinner-2/2031-02-17/
LOCATION:Visalia Elks Lodge\, 3100 W Main St\, Visalia\, CA\, 93291\, United States
CATEGORIES:Monday Night Dinner
GEO:36.3292721;-119.3254884
X-APPLE-STRUCTURED-LOCATION;VALUE=URI;X-ADDRESS=Visalia Elks Lodge 3100 W Main St Visalia CA 93291 United States;X-APPLE-RADIUS=500;X-TITLE=3100 W Main St:geo:-119.3254884,36.3292721
END:VEVENT
BEGIN:VEVENT
DTSTART;TZID=UTC:20310303T180000
DTEND;TZID=UTC:20310303T180000
DTSTAMP:20260425T131426
CREATED:20260330T173252Z
LAST-MODIFIED:20260330T173252Z
UID:10002872-1930327200-1930327200@visaliaelks.org
SUMMARY:Monday Night Dinner
DESCRIPTION:1st and 3rd Monday of Every Month – $10\nWatch the Member’s FB group for details each week.
URL:https://visaliaelks.org/events/monday-night-dinner/2031-03-03/
LOCATION:Visalia Elks Lodge\, 3100 W Main St\, Visalia\, CA\, 93291\, United States
CATEGORIES:Monday Night Dinner
GEO:36.3292721;-119.3254884
X-APPLE-STRUCTURED-LOCATION;VALUE=URI;X-ADDRESS=Visalia Elks Lodge 3100 W Main St Visalia CA 93291 United States;X-APPLE-RADIUS=500;X-TITLE=3100 W Main St:geo:-119.3254884,36.3292721
END:VEVENT
BEGIN:VEVENT
DTSTART;TZID=UTC:20310317T180000
DTEND;TZID=UTC:20310317T180000
DTSTAMP:20260425T131426
CREATED:20260330T173402Z
LAST-MODIFIED:20260330T173402Z
UID:10002992-1931536800-1931536800@visaliaelks.org
SUMMARY:Monday Night Dinner
DESCRIPTION:1st and 3rd Monday of Every Month – $10\nWatch the Member’s FB group for details each week.
URL:https://visaliaelks.org/events/monday-night-dinner-2/2031-03-17/
LOCATION:Visalia Elks Lodge\, 3100 W Main St\, Visalia\, CA\, 93291\, United States
CATEGORIES:Monday Night Dinner
GEO:36.3292721;-119.3254884
X-APPLE-STRUCTURED-LOCATION;VALUE=URI;X-ADDRESS=Visalia Elks Lodge 3100 W Main St Visalia CA 93291 United States;X-APPLE-RADIUS=500;X-TITLE=3100 W Main St:geo:-119.3254884,36.3292721
END:VEVENT
END:VCALENDAR