BEGIN:VCALENDAR
VERSION:2.0
PRODID:-//Visalia Elks Lodge 1298 - ECPv6.15.20//NONSGML v1.0//EN
CALSCALE:GREGORIAN
METHOD:PUBLISH
X-WR-CALNAME:Visalia Elks Lodge 1298
X-ORIGINAL-URL:https://visaliaelks.org
X-WR-CALDESC:Events for Visalia Elks Lodge 1298
REFRESH-INTERVAL;VALUE=DURATION:PT1H
X-Robots-Tag:noindex
X-PUBLISHED-TTL:PT1H
BEGIN:VTIMEZONE
TZID:UTC
BEGIN:STANDARD
TZOFFSETFROM:+0000
TZOFFSETTO:+0000
TZNAME:UTC
DTSTART:20250101T000000
END:STANDARD
END:VTIMEZONE
BEGIN:VEVENT
DTSTART;TZID=UTC:20261005T180000
DTEND;TZID=UTC:20261005T180000
DTSTAMP:20260423T235333
CREATED:20260330T173252Z
LAST-MODIFIED:20260330T173252Z
UID:10002819-1791223200-1791223200@visaliaelks.org
SUMMARY:Monday Night Dinner
DESCRIPTION:1st and 3rd Monday of Every Month – $10\nWatch the Member’s FB group for details each week.
URL:https://visaliaelks.org/events/monday-night-dinner/2026-10-05/
LOCATION:Visalia Elks Lodge\, 3100 W Main St\, Visalia\, CA\, 93291\, United States
CATEGORIES:Monday Night Dinner
GEO:36.3292721;-119.3254884
X-APPLE-STRUCTURED-LOCATION;VALUE=URI;X-ADDRESS=Visalia Elks Lodge 3100 W Main St Visalia CA 93291 United States;X-APPLE-RADIUS=500;X-TITLE=3100 W Main St:geo:-119.3254884,36.3292721
END:VEVENT
BEGIN:VEVENT
DTSTART;TZID=UTC:20261019T180000
DTEND;TZID=UTC:20261019T180000
DTSTAMP:20260423T235333
CREATED:20260330T173402Z
LAST-MODIFIED:20260330T173402Z
UID:10002939-1792432800-1792432800@visaliaelks.org
SUMMARY:Monday Night Dinner
DESCRIPTION:1st and 3rd Monday of Every Month – $10\nWatch the Member’s FB group for details each week.
URL:https://visaliaelks.org/events/monday-night-dinner-2/2026-10-19/
LOCATION:Visalia Elks Lodge\, 3100 W Main St\, Visalia\, CA\, 93291\, United States
CATEGORIES:Monday Night Dinner
GEO:36.3292721;-119.3254884
X-APPLE-STRUCTURED-LOCATION;VALUE=URI;X-ADDRESS=Visalia Elks Lodge 3100 W Main St Visalia CA 93291 United States;X-APPLE-RADIUS=500;X-TITLE=3100 W Main St:geo:-119.3254884,36.3292721
END:VEVENT
BEGIN:VEVENT
DTSTART;TZID=UTC:20261102T180000
DTEND;TZID=UTC:20261102T180000
DTSTAMP:20260423T235333
CREATED:20260330T173252Z
LAST-MODIFIED:20260330T173252Z
UID:10002820-1793642400-1793642400@visaliaelks.org
SUMMARY:Monday Night Dinner
DESCRIPTION:1st and 3rd Monday of Every Month – $10\nWatch the Member’s FB group for details each week.
URL:https://visaliaelks.org/events/monday-night-dinner/2026-11-02/
LOCATION:Visalia Elks Lodge\, 3100 W Main St\, Visalia\, CA\, 93291\, United States
CATEGORIES:Monday Night Dinner
GEO:36.3292721;-119.3254884
X-APPLE-STRUCTURED-LOCATION;VALUE=URI;X-ADDRESS=Visalia Elks Lodge 3100 W Main St Visalia CA 93291 United States;X-APPLE-RADIUS=500;X-TITLE=3100 W Main St:geo:-119.3254884,36.3292721
END:VEVENT
BEGIN:VEVENT
DTSTART;TZID=UTC:20261116T180000
DTEND;TZID=UTC:20261116T180000
DTSTAMP:20260423T235333
CREATED:20260330T173402Z
LAST-MODIFIED:20260330T173402Z
UID:10002940-1794852000-1794852000@visaliaelks.org
SUMMARY:Monday Night Dinner
DESCRIPTION:1st and 3rd Monday of Every Month – $10\nWatch the Member’s FB group for details each week.
URL:https://visaliaelks.org/events/monday-night-dinner-2/2026-11-16/
LOCATION:Visalia Elks Lodge\, 3100 W Main St\, Visalia\, CA\, 93291\, United States
CATEGORIES:Monday Night Dinner
GEO:36.3292721;-119.3254884
X-APPLE-STRUCTURED-LOCATION;VALUE=URI;X-ADDRESS=Visalia Elks Lodge 3100 W Main St Visalia CA 93291 United States;X-APPLE-RADIUS=500;X-TITLE=3100 W Main St:geo:-119.3254884,36.3292721
END:VEVENT
BEGIN:VEVENT
DTSTART;TZID=UTC:20261207T180000
DTEND;TZID=UTC:20261207T180000
DTSTAMP:20260423T235333
CREATED:20260330T173252Z
LAST-MODIFIED:20260330T173252Z
UID:10002821-1796666400-1796666400@visaliaelks.org
SUMMARY:Monday Night Dinner
DESCRIPTION:1st and 3rd Monday of Every Month – $10\nWatch the Member’s FB group for details each week.
URL:https://visaliaelks.org/events/monday-night-dinner/2026-12-07/
LOCATION:Visalia Elks Lodge\, 3100 W Main St\, Visalia\, CA\, 93291\, United States
CATEGORIES:Monday Night Dinner
GEO:36.3292721;-119.3254884
X-APPLE-STRUCTURED-LOCATION;VALUE=URI;X-ADDRESS=Visalia Elks Lodge 3100 W Main St Visalia CA 93291 United States;X-APPLE-RADIUS=500;X-TITLE=3100 W Main St:geo:-119.3254884,36.3292721
END:VEVENT
BEGIN:VEVENT
DTSTART;TZID=UTC:20261221T180000
DTEND;TZID=UTC:20261221T180000
DTSTAMP:20260423T235333
CREATED:20260330T173402Z
LAST-MODIFIED:20260330T173402Z
UID:10002941-1797876000-1797876000@visaliaelks.org
SUMMARY:Monday Night Dinner
DESCRIPTION:1st and 3rd Monday of Every Month – $10\nWatch the Member’s FB group for details each week.
URL:https://visaliaelks.org/events/monday-night-dinner-2/2026-12-21/
LOCATION:Visalia Elks Lodge\, 3100 W Main St\, Visalia\, CA\, 93291\, United States
CATEGORIES:Monday Night Dinner
GEO:36.3292721;-119.3254884
X-APPLE-STRUCTURED-LOCATION;VALUE=URI;X-ADDRESS=Visalia Elks Lodge 3100 W Main St Visalia CA 93291 United States;X-APPLE-RADIUS=500;X-TITLE=3100 W Main St:geo:-119.3254884,36.3292721
END:VEVENT
BEGIN:VEVENT
DTSTART;TZID=UTC:20270104T180000
DTEND;TZID=UTC:20270104T180000
DTSTAMP:20260423T235333
CREATED:20260330T173252Z
LAST-MODIFIED:20260330T173252Z
UID:10002822-1799085600-1799085600@visaliaelks.org
SUMMARY:Monday Night Dinner
DESCRIPTION:1st and 3rd Monday of Every Month – $10\nWatch the Member’s FB group for details each week.
URL:https://visaliaelks.org/events/monday-night-dinner/2027-01-04/
LOCATION:Visalia Elks Lodge\, 3100 W Main St\, Visalia\, CA\, 93291\, United States
CATEGORIES:Monday Night Dinner
GEO:36.3292721;-119.3254884
X-APPLE-STRUCTURED-LOCATION;VALUE=URI;X-ADDRESS=Visalia Elks Lodge 3100 W Main St Visalia CA 93291 United States;X-APPLE-RADIUS=500;X-TITLE=3100 W Main St:geo:-119.3254884,36.3292721
END:VEVENT
BEGIN:VEVENT
DTSTART;TZID=UTC:20270118T180000
DTEND;TZID=UTC:20270118T180000
DTSTAMP:20260423T235333
CREATED:20260330T173402Z
LAST-MODIFIED:20260330T173402Z
UID:10002942-1800295200-1800295200@visaliaelks.org
SUMMARY:Monday Night Dinner
DESCRIPTION:1st and 3rd Monday of Every Month – $10\nWatch the Member’s FB group for details each week.
URL:https://visaliaelks.org/events/monday-night-dinner-2/2027-01-18/
LOCATION:Visalia Elks Lodge\, 3100 W Main St\, Visalia\, CA\, 93291\, United States
CATEGORIES:Monday Night Dinner
GEO:36.3292721;-119.3254884
X-APPLE-STRUCTURED-LOCATION;VALUE=URI;X-ADDRESS=Visalia Elks Lodge 3100 W Main St Visalia CA 93291 United States;X-APPLE-RADIUS=500;X-TITLE=3100 W Main St:geo:-119.3254884,36.3292721
END:VEVENT
BEGIN:VEVENT
DTSTART;TZID=UTC:20270201T180000
DTEND;TZID=UTC:20270201T180000
DTSTAMP:20260423T235333
CREATED:20260330T173252Z
LAST-MODIFIED:20260330T173252Z
UID:10002823-1801504800-1801504800@visaliaelks.org
SUMMARY:Monday Night Dinner
DESCRIPTION:1st and 3rd Monday of Every Month – $10\nWatch the Member’s FB group for details each week.
URL:https://visaliaelks.org/events/monday-night-dinner/2027-02-01/
LOCATION:Visalia Elks Lodge\, 3100 W Main St\, Visalia\, CA\, 93291\, United States
CATEGORIES:Monday Night Dinner
GEO:36.3292721;-119.3254884
X-APPLE-STRUCTURED-LOCATION;VALUE=URI;X-ADDRESS=Visalia Elks Lodge 3100 W Main St Visalia CA 93291 United States;X-APPLE-RADIUS=500;X-TITLE=3100 W Main St:geo:-119.3254884,36.3292721
END:VEVENT
BEGIN:VEVENT
DTSTART;TZID=UTC:20270215T180000
DTEND;TZID=UTC:20270215T180000
DTSTAMP:20260423T235333
CREATED:20260330T173402Z
LAST-MODIFIED:20260330T173402Z
UID:10002943-1802714400-1802714400@visaliaelks.org
SUMMARY:Monday Night Dinner
DESCRIPTION:1st and 3rd Monday of Every Month – $10\nWatch the Member’s FB group for details each week.
URL:https://visaliaelks.org/events/monday-night-dinner-2/2027-02-15/
LOCATION:Visalia Elks Lodge\, 3100 W Main St\, Visalia\, CA\, 93291\, United States
CATEGORIES:Monday Night Dinner
GEO:36.3292721;-119.3254884
X-APPLE-STRUCTURED-LOCATION;VALUE=URI;X-ADDRESS=Visalia Elks Lodge 3100 W Main St Visalia CA 93291 United States;X-APPLE-RADIUS=500;X-TITLE=3100 W Main St:geo:-119.3254884,36.3292721
END:VEVENT
BEGIN:VEVENT
DTSTART;TZID=UTC:20270301T180000
DTEND;TZID=UTC:20270301T180000
DTSTAMP:20260423T235333
CREATED:20260330T173252Z
LAST-MODIFIED:20260330T173252Z
UID:10002824-1803924000-1803924000@visaliaelks.org
SUMMARY:Monday Night Dinner
DESCRIPTION:1st and 3rd Monday of Every Month – $10\nWatch the Member’s FB group for details each week.
URL:https://visaliaelks.org/events/monday-night-dinner/2027-03-01/
LOCATION:Visalia Elks Lodge\, 3100 W Main St\, Visalia\, CA\, 93291\, United States
CATEGORIES:Monday Night Dinner
GEO:36.3292721;-119.3254884
X-APPLE-STRUCTURED-LOCATION;VALUE=URI;X-ADDRESS=Visalia Elks Lodge 3100 W Main St Visalia CA 93291 United States;X-APPLE-RADIUS=500;X-TITLE=3100 W Main St:geo:-119.3254884,36.3292721
END:VEVENT
BEGIN:VEVENT
DTSTART;TZID=UTC:20270315T180000
DTEND;TZID=UTC:20270315T180000
DTSTAMP:20260423T235333
CREATED:20260330T173402Z
LAST-MODIFIED:20260330T173402Z
UID:10002944-1805133600-1805133600@visaliaelks.org
SUMMARY:Monday Night Dinner
DESCRIPTION:1st and 3rd Monday of Every Month – $10\nWatch the Member’s FB group for details each week.
URL:https://visaliaelks.org/events/monday-night-dinner-2/2027-03-15/
LOCATION:Visalia Elks Lodge\, 3100 W Main St\, Visalia\, CA\, 93291\, United States
CATEGORIES:Monday Night Dinner
GEO:36.3292721;-119.3254884
X-APPLE-STRUCTURED-LOCATION;VALUE=URI;X-ADDRESS=Visalia Elks Lodge 3100 W Main St Visalia CA 93291 United States;X-APPLE-RADIUS=500;X-TITLE=3100 W Main St:geo:-119.3254884,36.3292721
END:VEVENT
BEGIN:VEVENT
DTSTART;TZID=UTC:20270405T180000
DTEND;TZID=UTC:20270405T180000
DTSTAMP:20260423T235333
CREATED:20260330T173252Z
LAST-MODIFIED:20260330T173252Z
UID:10002825-1806948000-1806948000@visaliaelks.org
SUMMARY:Monday Night Dinner
DESCRIPTION:1st and 3rd Monday of Every Month – $10\nWatch the Member’s FB group for details each week.
URL:https://visaliaelks.org/events/monday-night-dinner/2027-04-05/
LOCATION:Visalia Elks Lodge\, 3100 W Main St\, Visalia\, CA\, 93291\, United States
CATEGORIES:Monday Night Dinner
GEO:36.3292721;-119.3254884
X-APPLE-STRUCTURED-LOCATION;VALUE=URI;X-ADDRESS=Visalia Elks Lodge 3100 W Main St Visalia CA 93291 United States;X-APPLE-RADIUS=500;X-TITLE=3100 W Main St:geo:-119.3254884,36.3292721
END:VEVENT
BEGIN:VEVENT
DTSTART;TZID=UTC:20270419T180000
DTEND;TZID=UTC:20270419T180000
DTSTAMP:20260423T235333
CREATED:20260330T173402Z
LAST-MODIFIED:20260330T173402Z
UID:10002945-1808157600-1808157600@visaliaelks.org
SUMMARY:Monday Night Dinner
DESCRIPTION:1st and 3rd Monday of Every Month – $10\nWatch the Member’s FB group for details each week.
URL:https://visaliaelks.org/events/monday-night-dinner-2/2027-04-19/
LOCATION:Visalia Elks Lodge\, 3100 W Main St\, Visalia\, CA\, 93291\, United States
CATEGORIES:Monday Night Dinner
GEO:36.3292721;-119.3254884
X-APPLE-STRUCTURED-LOCATION;VALUE=URI;X-ADDRESS=Visalia Elks Lodge 3100 W Main St Visalia CA 93291 United States;X-APPLE-RADIUS=500;X-TITLE=3100 W Main St:geo:-119.3254884,36.3292721
END:VEVENT
BEGIN:VEVENT
DTSTART;TZID=UTC:20270503T180000
DTEND;TZID=UTC:20270503T180000
DTSTAMP:20260423T235333
CREATED:20260330T173252Z
LAST-MODIFIED:20260330T173252Z
UID:10002826-1809367200-1809367200@visaliaelks.org
SUMMARY:Monday Night Dinner
DESCRIPTION:1st and 3rd Monday of Every Month – $10\nWatch the Member’s FB group for details each week.
URL:https://visaliaelks.org/events/monday-night-dinner/2027-05-03/
LOCATION:Visalia Elks Lodge\, 3100 W Main St\, Visalia\, CA\, 93291\, United States
CATEGORIES:Monday Night Dinner
GEO:36.3292721;-119.3254884
X-APPLE-STRUCTURED-LOCATION;VALUE=URI;X-ADDRESS=Visalia Elks Lodge 3100 W Main St Visalia CA 93291 United States;X-APPLE-RADIUS=500;X-TITLE=3100 W Main St:geo:-119.3254884,36.3292721
END:VEVENT
BEGIN:VEVENT
DTSTART;TZID=UTC:20270517T180000
DTEND;TZID=UTC:20270517T180000
DTSTAMP:20260423T235333
CREATED:20260330T173402Z
LAST-MODIFIED:20260330T173402Z
UID:10002946-1810576800-1810576800@visaliaelks.org
SUMMARY:Monday Night Dinner
DESCRIPTION:1st and 3rd Monday of Every Month – $10\nWatch the Member’s FB group for details each week.
URL:https://visaliaelks.org/events/monday-night-dinner-2/2027-05-17/
LOCATION:Visalia Elks Lodge\, 3100 W Main St\, Visalia\, CA\, 93291\, United States
CATEGORIES:Monday Night Dinner
GEO:36.3292721;-119.3254884
X-APPLE-STRUCTURED-LOCATION;VALUE=URI;X-ADDRESS=Visalia Elks Lodge 3100 W Main St Visalia CA 93291 United States;X-APPLE-RADIUS=500;X-TITLE=3100 W Main St:geo:-119.3254884,36.3292721
END:VEVENT
BEGIN:VEVENT
DTSTART;TZID=UTC:20270607T180000
DTEND;TZID=UTC:20270607T180000
DTSTAMP:20260423T235333
CREATED:20260330T173252Z
LAST-MODIFIED:20260330T173252Z
UID:10002827-1812391200-1812391200@visaliaelks.org
SUMMARY:Monday Night Dinner
DESCRIPTION:1st and 3rd Monday of Every Month – $10\nWatch the Member’s FB group for details each week.
URL:https://visaliaelks.org/events/monday-night-dinner/2027-06-07/
LOCATION:Visalia Elks Lodge\, 3100 W Main St\, Visalia\, CA\, 93291\, United States
CATEGORIES:Monday Night Dinner
GEO:36.3292721;-119.3254884
X-APPLE-STRUCTURED-LOCATION;VALUE=URI;X-ADDRESS=Visalia Elks Lodge 3100 W Main St Visalia CA 93291 United States;X-APPLE-RADIUS=500;X-TITLE=3100 W Main St:geo:-119.3254884,36.3292721
END:VEVENT
BEGIN:VEVENT
DTSTART;TZID=UTC:20270621T180000
DTEND;TZID=UTC:20270621T180000
DTSTAMP:20260423T235333
CREATED:20260330T173402Z
LAST-MODIFIED:20260330T173402Z
UID:10002947-1813600800-1813600800@visaliaelks.org
SUMMARY:Monday Night Dinner
DESCRIPTION:1st and 3rd Monday of Every Month – $10\nWatch the Member’s FB group for details each week.
URL:https://visaliaelks.org/events/monday-night-dinner-2/2027-06-21/
LOCATION:Visalia Elks Lodge\, 3100 W Main St\, Visalia\, CA\, 93291\, United States
CATEGORIES:Monday Night Dinner
GEO:36.3292721;-119.3254884
X-APPLE-STRUCTURED-LOCATION;VALUE=URI;X-ADDRESS=Visalia Elks Lodge 3100 W Main St Visalia CA 93291 United States;X-APPLE-RADIUS=500;X-TITLE=3100 W Main St:geo:-119.3254884,36.3292721
END:VEVENT
BEGIN:VEVENT
DTSTART;TZID=UTC:20270705T180000
DTEND;TZID=UTC:20270705T180000
DTSTAMP:20260423T235333
CREATED:20260330T173252Z
LAST-MODIFIED:20260330T173252Z
UID:10002828-1814810400-1814810400@visaliaelks.org
SUMMARY:Monday Night Dinner
DESCRIPTION:1st and 3rd Monday of Every Month – $10\nWatch the Member’s FB group for details each week.
URL:https://visaliaelks.org/events/monday-night-dinner/2027-07-05/
LOCATION:Visalia Elks Lodge\, 3100 W Main St\, Visalia\, CA\, 93291\, United States
CATEGORIES:Monday Night Dinner
GEO:36.3292721;-119.3254884
X-APPLE-STRUCTURED-LOCATION;VALUE=URI;X-ADDRESS=Visalia Elks Lodge 3100 W Main St Visalia CA 93291 United States;X-APPLE-RADIUS=500;X-TITLE=3100 W Main St:geo:-119.3254884,36.3292721
END:VEVENT
BEGIN:VEVENT
DTSTART;TZID=UTC:20270719T180000
DTEND;TZID=UTC:20270719T180000
DTSTAMP:20260423T235333
CREATED:20260330T173402Z
LAST-MODIFIED:20260330T173402Z
UID:10002948-1816020000-1816020000@visaliaelks.org
SUMMARY:Monday Night Dinner
DESCRIPTION:1st and 3rd Monday of Every Month – $10\nWatch the Member’s FB group for details each week.
URL:https://visaliaelks.org/events/monday-night-dinner-2/2027-07-19/
LOCATION:Visalia Elks Lodge\, 3100 W Main St\, Visalia\, CA\, 93291\, United States
CATEGORIES:Monday Night Dinner
GEO:36.3292721;-119.3254884
X-APPLE-STRUCTURED-LOCATION;VALUE=URI;X-ADDRESS=Visalia Elks Lodge 3100 W Main St Visalia CA 93291 United States;X-APPLE-RADIUS=500;X-TITLE=3100 W Main St:geo:-119.3254884,36.3292721
END:VEVENT
BEGIN:VEVENT
DTSTART;TZID=UTC:20270802T180000
DTEND;TZID=UTC:20270802T180000
DTSTAMP:20260423T235333
CREATED:20260330T173252Z
LAST-MODIFIED:20260330T173252Z
UID:10002829-1817229600-1817229600@visaliaelks.org
SUMMARY:Monday Night Dinner
DESCRIPTION:1st and 3rd Monday of Every Month – $10\nWatch the Member’s FB group for details each week.
URL:https://visaliaelks.org/events/monday-night-dinner/2027-08-02/
LOCATION:Visalia Elks Lodge\, 3100 W Main St\, Visalia\, CA\, 93291\, United States
CATEGORIES:Monday Night Dinner
GEO:36.3292721;-119.3254884
X-APPLE-STRUCTURED-LOCATION;VALUE=URI;X-ADDRESS=Visalia Elks Lodge 3100 W Main St Visalia CA 93291 United States;X-APPLE-RADIUS=500;X-TITLE=3100 W Main St:geo:-119.3254884,36.3292721
END:VEVENT
BEGIN:VEVENT
DTSTART;TZID=UTC:20270816T180000
DTEND;TZID=UTC:20270816T180000
DTSTAMP:20260423T235333
CREATED:20260330T173402Z
LAST-MODIFIED:20260330T173402Z
UID:10002949-1818439200-1818439200@visaliaelks.org
SUMMARY:Monday Night Dinner
DESCRIPTION:1st and 3rd Monday of Every Month – $10\nWatch the Member’s FB group for details each week.
URL:https://visaliaelks.org/events/monday-night-dinner-2/2027-08-16/
LOCATION:Visalia Elks Lodge\, 3100 W Main St\, Visalia\, CA\, 93291\, United States
CATEGORIES:Monday Night Dinner
GEO:36.3292721;-119.3254884
X-APPLE-STRUCTURED-LOCATION;VALUE=URI;X-ADDRESS=Visalia Elks Lodge 3100 W Main St Visalia CA 93291 United States;X-APPLE-RADIUS=500;X-TITLE=3100 W Main St:geo:-119.3254884,36.3292721
END:VEVENT
BEGIN:VEVENT
DTSTART;TZID=UTC:20270906T180000
DTEND;TZID=UTC:20270906T180000
DTSTAMP:20260423T235333
CREATED:20260330T173252Z
LAST-MODIFIED:20260330T173252Z
UID:10002830-1820253600-1820253600@visaliaelks.org
SUMMARY:Monday Night Dinner
DESCRIPTION:1st and 3rd Monday of Every Month – $10\nWatch the Member’s FB group for details each week.
URL:https://visaliaelks.org/events/monday-night-dinner/2027-09-06/
LOCATION:Visalia Elks Lodge\, 3100 W Main St\, Visalia\, CA\, 93291\, United States
CATEGORIES:Monday Night Dinner
GEO:36.3292721;-119.3254884
X-APPLE-STRUCTURED-LOCATION;VALUE=URI;X-ADDRESS=Visalia Elks Lodge 3100 W Main St Visalia CA 93291 United States;X-APPLE-RADIUS=500;X-TITLE=3100 W Main St:geo:-119.3254884,36.3292721
END:VEVENT
BEGIN:VEVENT
DTSTART;TZID=UTC:20270920T180000
DTEND;TZID=UTC:20270920T180000
DTSTAMP:20260423T235333
CREATED:20260330T173402Z
LAST-MODIFIED:20260330T173402Z
UID:10002950-1821463200-1821463200@visaliaelks.org
SUMMARY:Monday Night Dinner
DESCRIPTION:1st and 3rd Monday of Every Month – $10\nWatch the Member’s FB group for details each week.
URL:https://visaliaelks.org/events/monday-night-dinner-2/2027-09-20/
LOCATION:Visalia Elks Lodge\, 3100 W Main St\, Visalia\, CA\, 93291\, United States
CATEGORIES:Monday Night Dinner
GEO:36.3292721;-119.3254884
X-APPLE-STRUCTURED-LOCATION;VALUE=URI;X-ADDRESS=Visalia Elks Lodge 3100 W Main St Visalia CA 93291 United States;X-APPLE-RADIUS=500;X-TITLE=3100 W Main St:geo:-119.3254884,36.3292721
END:VEVENT
BEGIN:VEVENT
DTSTART;TZID=UTC:20271004T180000
DTEND;TZID=UTC:20271004T180000
DTSTAMP:20260423T235333
CREATED:20260330T173252Z
LAST-MODIFIED:20260330T173252Z
UID:10002831-1822672800-1822672800@visaliaelks.org
SUMMARY:Monday Night Dinner
DESCRIPTION:1st and 3rd Monday of Every Month – $10\nWatch the Member’s FB group for details each week.
URL:https://visaliaelks.org/events/monday-night-dinner/2027-10-04/
LOCATION:Visalia Elks Lodge\, 3100 W Main St\, Visalia\, CA\, 93291\, United States
CATEGORIES:Monday Night Dinner
GEO:36.3292721;-119.3254884
X-APPLE-STRUCTURED-LOCATION;VALUE=URI;X-ADDRESS=Visalia Elks Lodge 3100 W Main St Visalia CA 93291 United States;X-APPLE-RADIUS=500;X-TITLE=3100 W Main St:geo:-119.3254884,36.3292721
END:VEVENT
BEGIN:VEVENT
DTSTART;TZID=UTC:20271018T180000
DTEND;TZID=UTC:20271018T180000
DTSTAMP:20260423T235333
CREATED:20260330T173402Z
LAST-MODIFIED:20260330T173402Z
UID:10002951-1823882400-1823882400@visaliaelks.org
SUMMARY:Monday Night Dinner
DESCRIPTION:1st and 3rd Monday of Every Month – $10\nWatch the Member’s FB group for details each week.
URL:https://visaliaelks.org/events/monday-night-dinner-2/2027-10-18/
LOCATION:Visalia Elks Lodge\, 3100 W Main St\, Visalia\, CA\, 93291\, United States
CATEGORIES:Monday Night Dinner
GEO:36.3292721;-119.3254884
X-APPLE-STRUCTURED-LOCATION;VALUE=URI;X-ADDRESS=Visalia Elks Lodge 3100 W Main St Visalia CA 93291 United States;X-APPLE-RADIUS=500;X-TITLE=3100 W Main St:geo:-119.3254884,36.3292721
END:VEVENT
BEGIN:VEVENT
DTSTART;TZID=UTC:20271101T180000
DTEND;TZID=UTC:20271101T180000
DTSTAMP:20260423T235333
CREATED:20260330T173252Z
LAST-MODIFIED:20260330T173252Z
UID:10002832-1825092000-1825092000@visaliaelks.org
SUMMARY:Monday Night Dinner
DESCRIPTION:1st and 3rd Monday of Every Month – $10\nWatch the Member’s FB group for details each week.
URL:https://visaliaelks.org/events/monday-night-dinner/2027-11-01/
LOCATION:Visalia Elks Lodge\, 3100 W Main St\, Visalia\, CA\, 93291\, United States
CATEGORIES:Monday Night Dinner
GEO:36.3292721;-119.3254884
X-APPLE-STRUCTURED-LOCATION;VALUE=URI;X-ADDRESS=Visalia Elks Lodge 3100 W Main St Visalia CA 93291 United States;X-APPLE-RADIUS=500;X-TITLE=3100 W Main St:geo:-119.3254884,36.3292721
END:VEVENT
BEGIN:VEVENT
DTSTART;TZID=UTC:20271115T180000
DTEND;TZID=UTC:20271115T180000
DTSTAMP:20260423T235333
CREATED:20260330T173402Z
LAST-MODIFIED:20260330T173402Z
UID:10002952-1826301600-1826301600@visaliaelks.org
SUMMARY:Monday Night Dinner
DESCRIPTION:1st and 3rd Monday of Every Month – $10\nWatch the Member’s FB group for details each week.
URL:https://visaliaelks.org/events/monday-night-dinner-2/2027-11-15/
LOCATION:Visalia Elks Lodge\, 3100 W Main St\, Visalia\, CA\, 93291\, United States
CATEGORIES:Monday Night Dinner
GEO:36.3292721;-119.3254884
X-APPLE-STRUCTURED-LOCATION;VALUE=URI;X-ADDRESS=Visalia Elks Lodge 3100 W Main St Visalia CA 93291 United States;X-APPLE-RADIUS=500;X-TITLE=3100 W Main St:geo:-119.3254884,36.3292721
END:VEVENT
BEGIN:VEVENT
DTSTART;TZID=UTC:20271206T180000
DTEND;TZID=UTC:20271206T180000
DTSTAMP:20260423T235333
CREATED:20260330T173252Z
LAST-MODIFIED:20260330T173252Z
UID:10002833-1828116000-1828116000@visaliaelks.org
SUMMARY:Monday Night Dinner
DESCRIPTION:1st and 3rd Monday of Every Month – $10\nWatch the Member’s FB group for details each week.
URL:https://visaliaelks.org/events/monday-night-dinner/2027-12-06/
LOCATION:Visalia Elks Lodge\, 3100 W Main St\, Visalia\, CA\, 93291\, United States
CATEGORIES:Monday Night Dinner
GEO:36.3292721;-119.3254884
X-APPLE-STRUCTURED-LOCATION;VALUE=URI;X-ADDRESS=Visalia Elks Lodge 3100 W Main St Visalia CA 93291 United States;X-APPLE-RADIUS=500;X-TITLE=3100 W Main St:geo:-119.3254884,36.3292721
END:VEVENT
BEGIN:VEVENT
DTSTART;TZID=UTC:20271220T180000
DTEND;TZID=UTC:20271220T180000
DTSTAMP:20260423T235333
CREATED:20260330T173402Z
LAST-MODIFIED:20260330T173402Z
UID:10002953-1829325600-1829325600@visaliaelks.org
SUMMARY:Monday Night Dinner
DESCRIPTION:1st and 3rd Monday of Every Month – $10\nWatch the Member’s FB group for details each week.
URL:https://visaliaelks.org/events/monday-night-dinner-2/2027-12-20/
LOCATION:Visalia Elks Lodge\, 3100 W Main St\, Visalia\, CA\, 93291\, United States
CATEGORIES:Monday Night Dinner
GEO:36.3292721;-119.3254884
X-APPLE-STRUCTURED-LOCATION;VALUE=URI;X-ADDRESS=Visalia Elks Lodge 3100 W Main St Visalia CA 93291 United States;X-APPLE-RADIUS=500;X-TITLE=3100 W Main St:geo:-119.3254884,36.3292721
END:VEVENT
END:VCALENDAR