BEGIN:VCALENDAR
VERSION:2.0
PRODID:-//Visalia Elks Lodge 1298 - ECPv6.15.20//NONSGML v1.0//EN
CALSCALE:GREGORIAN
METHOD:PUBLISH
X-WR-CALNAME:Visalia Elks Lodge 1298
X-ORIGINAL-URL:https://visaliaelks.org
X-WR-CALDESC:Events for Visalia Elks Lodge 1298
REFRESH-INTERVAL;VALUE=DURATION:PT1H
X-Robots-Tag:noindex
X-PUBLISHED-TTL:PT1H
BEGIN:VTIMEZONE
TZID:UTC
BEGIN:STANDARD
TZOFFSETFROM:+0000
TZOFFSETTO:+0000
TZNAME:UTC
DTSTART:20270101T000000
END:STANDARD
END:VTIMEZONE
BEGIN:VEVENT
DTSTART;TZID=UTC:20281218T180000
DTEND;TZID=UTC:20281218T180000
DTSTAMP:20260425T161439
CREATED:20260330T173402Z
LAST-MODIFIED:20260330T173402Z
UID:10002965-1860775200-1860775200@visaliaelks.org
SUMMARY:Monday Night Dinner
DESCRIPTION:1st and 3rd Monday of Every Month – $10\nWatch the Member’s FB group for details each week.
URL:https://visaliaelks.org/events/monday-night-dinner-2/2028-12-18/
LOCATION:Visalia Elks Lodge\, 3100 W Main St\, Visalia\, CA\, 93291\, United States
CATEGORIES:Monday Night Dinner
GEO:36.3292721;-119.3254884
X-APPLE-STRUCTURED-LOCATION;VALUE=URI;X-ADDRESS=Visalia Elks Lodge 3100 W Main St Visalia CA 93291 United States;X-APPLE-RADIUS=500;X-TITLE=3100 W Main St:geo:-119.3254884,36.3292721
END:VEVENT
BEGIN:VEVENT
DTSTART;TZID=UTC:20290101T180000
DTEND;TZID=UTC:20290101T180000
DTSTAMP:20260425T161439
CREATED:20260330T173252Z
LAST-MODIFIED:20260330T173252Z
UID:10002846-1861984800-1861984800@visaliaelks.org
SUMMARY:Monday Night Dinner
DESCRIPTION:1st and 3rd Monday of Every Month – $10\nWatch the Member’s FB group for details each week.
URL:https://visaliaelks.org/events/monday-night-dinner/2029-01-01/
LOCATION:Visalia Elks Lodge\, 3100 W Main St\, Visalia\, CA\, 93291\, United States
CATEGORIES:Monday Night Dinner
GEO:36.3292721;-119.3254884
X-APPLE-STRUCTURED-LOCATION;VALUE=URI;X-ADDRESS=Visalia Elks Lodge 3100 W Main St Visalia CA 93291 United States;X-APPLE-RADIUS=500;X-TITLE=3100 W Main St:geo:-119.3254884,36.3292721
END:VEVENT
BEGIN:VEVENT
DTSTART;TZID=UTC:20290115T180000
DTEND;TZID=UTC:20290115T180000
DTSTAMP:20260425T161439
CREATED:20260330T173402Z
LAST-MODIFIED:20260330T173402Z
UID:10002966-1863194400-1863194400@visaliaelks.org
SUMMARY:Monday Night Dinner
DESCRIPTION:1st and 3rd Monday of Every Month – $10\nWatch the Member’s FB group for details each week.
URL:https://visaliaelks.org/events/monday-night-dinner-2/2029-01-15/
LOCATION:Visalia Elks Lodge\, 3100 W Main St\, Visalia\, CA\, 93291\, United States
CATEGORIES:Monday Night Dinner
GEO:36.3292721;-119.3254884
X-APPLE-STRUCTURED-LOCATION;VALUE=URI;X-ADDRESS=Visalia Elks Lodge 3100 W Main St Visalia CA 93291 United States;X-APPLE-RADIUS=500;X-TITLE=3100 W Main St:geo:-119.3254884,36.3292721
END:VEVENT
BEGIN:VEVENT
DTSTART;TZID=UTC:20290205T180000
DTEND;TZID=UTC:20290205T180000
DTSTAMP:20260425T161439
CREATED:20260330T173252Z
LAST-MODIFIED:20260330T173252Z
UID:10002847-1865008800-1865008800@visaliaelks.org
SUMMARY:Monday Night Dinner
DESCRIPTION:1st and 3rd Monday of Every Month – $10\nWatch the Member’s FB group for details each week.
URL:https://visaliaelks.org/events/monday-night-dinner/2029-02-05/
LOCATION:Visalia Elks Lodge\, 3100 W Main St\, Visalia\, CA\, 93291\, United States
CATEGORIES:Monday Night Dinner
GEO:36.3292721;-119.3254884
X-APPLE-STRUCTURED-LOCATION;VALUE=URI;X-ADDRESS=Visalia Elks Lodge 3100 W Main St Visalia CA 93291 United States;X-APPLE-RADIUS=500;X-TITLE=3100 W Main St:geo:-119.3254884,36.3292721
END:VEVENT
BEGIN:VEVENT
DTSTART;TZID=UTC:20290219T180000
DTEND;TZID=UTC:20290219T180000
DTSTAMP:20260425T161439
CREATED:20260330T173402Z
LAST-MODIFIED:20260330T173402Z
UID:10002967-1866218400-1866218400@visaliaelks.org
SUMMARY:Monday Night Dinner
DESCRIPTION:1st and 3rd Monday of Every Month – $10\nWatch the Member’s FB group for details each week.
URL:https://visaliaelks.org/events/monday-night-dinner-2/2029-02-19/
LOCATION:Visalia Elks Lodge\, 3100 W Main St\, Visalia\, CA\, 93291\, United States
CATEGORIES:Monday Night Dinner
GEO:36.3292721;-119.3254884
X-APPLE-STRUCTURED-LOCATION;VALUE=URI;X-ADDRESS=Visalia Elks Lodge 3100 W Main St Visalia CA 93291 United States;X-APPLE-RADIUS=500;X-TITLE=3100 W Main St:geo:-119.3254884,36.3292721
END:VEVENT
BEGIN:VEVENT
DTSTART;TZID=UTC:20290305T180000
DTEND;TZID=UTC:20290305T180000
DTSTAMP:20260425T161439
CREATED:20260330T173252Z
LAST-MODIFIED:20260330T173252Z
UID:10002848-1867428000-1867428000@visaliaelks.org
SUMMARY:Monday Night Dinner
DESCRIPTION:1st and 3rd Monday of Every Month – $10\nWatch the Member’s FB group for details each week.
URL:https://visaliaelks.org/events/monday-night-dinner/2029-03-05/
LOCATION:Visalia Elks Lodge\, 3100 W Main St\, Visalia\, CA\, 93291\, United States
CATEGORIES:Monday Night Dinner
GEO:36.3292721;-119.3254884
X-APPLE-STRUCTURED-LOCATION;VALUE=URI;X-ADDRESS=Visalia Elks Lodge 3100 W Main St Visalia CA 93291 United States;X-APPLE-RADIUS=500;X-TITLE=3100 W Main St:geo:-119.3254884,36.3292721
END:VEVENT
BEGIN:VEVENT
DTSTART;TZID=UTC:20290319T180000
DTEND;TZID=UTC:20290319T180000
DTSTAMP:20260425T161439
CREATED:20260330T173402Z
LAST-MODIFIED:20260330T173402Z
UID:10002968-1868637600-1868637600@visaliaelks.org
SUMMARY:Monday Night Dinner
DESCRIPTION:1st and 3rd Monday of Every Month – $10\nWatch the Member’s FB group for details each week.
URL:https://visaliaelks.org/events/monday-night-dinner-2/2029-03-19/
LOCATION:Visalia Elks Lodge\, 3100 W Main St\, Visalia\, CA\, 93291\, United States
CATEGORIES:Monday Night Dinner
GEO:36.3292721;-119.3254884
X-APPLE-STRUCTURED-LOCATION;VALUE=URI;X-ADDRESS=Visalia Elks Lodge 3100 W Main St Visalia CA 93291 United States;X-APPLE-RADIUS=500;X-TITLE=3100 W Main St:geo:-119.3254884,36.3292721
END:VEVENT
BEGIN:VEVENT
DTSTART;TZID=UTC:20290402T180000
DTEND;TZID=UTC:20290402T180000
DTSTAMP:20260425T161439
CREATED:20260330T173252Z
LAST-MODIFIED:20260330T173252Z
UID:10002849-1869847200-1869847200@visaliaelks.org
SUMMARY:Monday Night Dinner
DESCRIPTION:1st and 3rd Monday of Every Month – $10\nWatch the Member’s FB group for details each week.
URL:https://visaliaelks.org/events/monday-night-dinner/2029-04-02/
LOCATION:Visalia Elks Lodge\, 3100 W Main St\, Visalia\, CA\, 93291\, United States
CATEGORIES:Monday Night Dinner
GEO:36.3292721;-119.3254884
X-APPLE-STRUCTURED-LOCATION;VALUE=URI;X-ADDRESS=Visalia Elks Lodge 3100 W Main St Visalia CA 93291 United States;X-APPLE-RADIUS=500;X-TITLE=3100 W Main St:geo:-119.3254884,36.3292721
END:VEVENT
BEGIN:VEVENT
DTSTART;TZID=UTC:20290416T180000
DTEND;TZID=UTC:20290416T180000
DTSTAMP:20260425T161439
CREATED:20260330T173402Z
LAST-MODIFIED:20260330T173402Z
UID:10002969-1871056800-1871056800@visaliaelks.org
SUMMARY:Monday Night Dinner
DESCRIPTION:1st and 3rd Monday of Every Month – $10\nWatch the Member’s FB group for details each week.
URL:https://visaliaelks.org/events/monday-night-dinner-2/2029-04-16/
LOCATION:Visalia Elks Lodge\, 3100 W Main St\, Visalia\, CA\, 93291\, United States
CATEGORIES:Monday Night Dinner
GEO:36.3292721;-119.3254884
X-APPLE-STRUCTURED-LOCATION;VALUE=URI;X-ADDRESS=Visalia Elks Lodge 3100 W Main St Visalia CA 93291 United States;X-APPLE-RADIUS=500;X-TITLE=3100 W Main St:geo:-119.3254884,36.3292721
END:VEVENT
BEGIN:VEVENT
DTSTART;TZID=UTC:20290507T180000
DTEND;TZID=UTC:20290507T180000
DTSTAMP:20260425T161439
CREATED:20260330T173252Z
LAST-MODIFIED:20260330T173252Z
UID:10002850-1872871200-1872871200@visaliaelks.org
SUMMARY:Monday Night Dinner
DESCRIPTION:1st and 3rd Monday of Every Month – $10\nWatch the Member’s FB group for details each week.
URL:https://visaliaelks.org/events/monday-night-dinner/2029-05-07/
LOCATION:Visalia Elks Lodge\, 3100 W Main St\, Visalia\, CA\, 93291\, United States
CATEGORIES:Monday Night Dinner
GEO:36.3292721;-119.3254884
X-APPLE-STRUCTURED-LOCATION;VALUE=URI;X-ADDRESS=Visalia Elks Lodge 3100 W Main St Visalia CA 93291 United States;X-APPLE-RADIUS=500;X-TITLE=3100 W Main St:geo:-119.3254884,36.3292721
END:VEVENT
BEGIN:VEVENT
DTSTART;TZID=UTC:20290521T180000
DTEND;TZID=UTC:20290521T180000
DTSTAMP:20260425T161439
CREATED:20260330T173402Z
LAST-MODIFIED:20260330T173402Z
UID:10002970-1874080800-1874080800@visaliaelks.org
SUMMARY:Monday Night Dinner
DESCRIPTION:1st and 3rd Monday of Every Month – $10\nWatch the Member’s FB group for details each week.
URL:https://visaliaelks.org/events/monday-night-dinner-2/2029-05-21/
LOCATION:Visalia Elks Lodge\, 3100 W Main St\, Visalia\, CA\, 93291\, United States
CATEGORIES:Monday Night Dinner
GEO:36.3292721;-119.3254884
X-APPLE-STRUCTURED-LOCATION;VALUE=URI;X-ADDRESS=Visalia Elks Lodge 3100 W Main St Visalia CA 93291 United States;X-APPLE-RADIUS=500;X-TITLE=3100 W Main St:geo:-119.3254884,36.3292721
END:VEVENT
BEGIN:VEVENT
DTSTART;TZID=UTC:20290604T180000
DTEND;TZID=UTC:20290604T180000
DTSTAMP:20260425T161439
CREATED:20260330T173252Z
LAST-MODIFIED:20260330T173252Z
UID:10002851-1875290400-1875290400@visaliaelks.org
SUMMARY:Monday Night Dinner
DESCRIPTION:1st and 3rd Monday of Every Month – $10\nWatch the Member’s FB group for details each week.
URL:https://visaliaelks.org/events/monday-night-dinner/2029-06-04/
LOCATION:Visalia Elks Lodge\, 3100 W Main St\, Visalia\, CA\, 93291\, United States
CATEGORIES:Monday Night Dinner
GEO:36.3292721;-119.3254884
X-APPLE-STRUCTURED-LOCATION;VALUE=URI;X-ADDRESS=Visalia Elks Lodge 3100 W Main St Visalia CA 93291 United States;X-APPLE-RADIUS=500;X-TITLE=3100 W Main St:geo:-119.3254884,36.3292721
END:VEVENT
BEGIN:VEVENT
DTSTART;TZID=UTC:20290618T180000
DTEND;TZID=UTC:20290618T180000
DTSTAMP:20260425T161439
CREATED:20260330T173402Z
LAST-MODIFIED:20260330T173402Z
UID:10002971-1876500000-1876500000@visaliaelks.org
SUMMARY:Monday Night Dinner
DESCRIPTION:1st and 3rd Monday of Every Month – $10\nWatch the Member’s FB group for details each week.
URL:https://visaliaelks.org/events/monday-night-dinner-2/2029-06-18/
LOCATION:Visalia Elks Lodge\, 3100 W Main St\, Visalia\, CA\, 93291\, United States
CATEGORIES:Monday Night Dinner
GEO:36.3292721;-119.3254884
X-APPLE-STRUCTURED-LOCATION;VALUE=URI;X-ADDRESS=Visalia Elks Lodge 3100 W Main St Visalia CA 93291 United States;X-APPLE-RADIUS=500;X-TITLE=3100 W Main St:geo:-119.3254884,36.3292721
END:VEVENT
BEGIN:VEVENT
DTSTART;TZID=UTC:20290702T180000
DTEND;TZID=UTC:20290702T180000
DTSTAMP:20260425T161439
CREATED:20260330T173252Z
LAST-MODIFIED:20260330T173252Z
UID:10002852-1877709600-1877709600@visaliaelks.org
SUMMARY:Monday Night Dinner
DESCRIPTION:1st and 3rd Monday of Every Month – $10\nWatch the Member’s FB group for details each week.
URL:https://visaliaelks.org/events/monday-night-dinner/2029-07-02/
LOCATION:Visalia Elks Lodge\, 3100 W Main St\, Visalia\, CA\, 93291\, United States
CATEGORIES:Monday Night Dinner
GEO:36.3292721;-119.3254884
X-APPLE-STRUCTURED-LOCATION;VALUE=URI;X-ADDRESS=Visalia Elks Lodge 3100 W Main St Visalia CA 93291 United States;X-APPLE-RADIUS=500;X-TITLE=3100 W Main St:geo:-119.3254884,36.3292721
END:VEVENT
BEGIN:VEVENT
DTSTART;TZID=UTC:20290716T180000
DTEND;TZID=UTC:20290716T180000
DTSTAMP:20260425T161439
CREATED:20260330T173402Z
LAST-MODIFIED:20260330T173402Z
UID:10002972-1878919200-1878919200@visaliaelks.org
SUMMARY:Monday Night Dinner
DESCRIPTION:1st and 3rd Monday of Every Month – $10\nWatch the Member’s FB group for details each week.
URL:https://visaliaelks.org/events/monday-night-dinner-2/2029-07-16/
LOCATION:Visalia Elks Lodge\, 3100 W Main St\, Visalia\, CA\, 93291\, United States
CATEGORIES:Monday Night Dinner
GEO:36.3292721;-119.3254884
X-APPLE-STRUCTURED-LOCATION;VALUE=URI;X-ADDRESS=Visalia Elks Lodge 3100 W Main St Visalia CA 93291 United States;X-APPLE-RADIUS=500;X-TITLE=3100 W Main St:geo:-119.3254884,36.3292721
END:VEVENT
BEGIN:VEVENT
DTSTART;TZID=UTC:20290806T180000
DTEND;TZID=UTC:20290806T180000
DTSTAMP:20260425T161439
CREATED:20260330T173252Z
LAST-MODIFIED:20260330T173252Z
UID:10002853-1880733600-1880733600@visaliaelks.org
SUMMARY:Monday Night Dinner
DESCRIPTION:1st and 3rd Monday of Every Month – $10\nWatch the Member’s FB group for details each week.
URL:https://visaliaelks.org/events/monday-night-dinner/2029-08-06/
LOCATION:Visalia Elks Lodge\, 3100 W Main St\, Visalia\, CA\, 93291\, United States
CATEGORIES:Monday Night Dinner
GEO:36.3292721;-119.3254884
X-APPLE-STRUCTURED-LOCATION;VALUE=URI;X-ADDRESS=Visalia Elks Lodge 3100 W Main St Visalia CA 93291 United States;X-APPLE-RADIUS=500;X-TITLE=3100 W Main St:geo:-119.3254884,36.3292721
END:VEVENT
BEGIN:VEVENT
DTSTART;TZID=UTC:20290820T180000
DTEND;TZID=UTC:20290820T180000
DTSTAMP:20260425T161439
CREATED:20260330T173402Z
LAST-MODIFIED:20260330T173402Z
UID:10002973-1881943200-1881943200@visaliaelks.org
SUMMARY:Monday Night Dinner
DESCRIPTION:1st and 3rd Monday of Every Month – $10\nWatch the Member’s FB group for details each week.
URL:https://visaliaelks.org/events/monday-night-dinner-2/2029-08-20/
LOCATION:Visalia Elks Lodge\, 3100 W Main St\, Visalia\, CA\, 93291\, United States
CATEGORIES:Monday Night Dinner
GEO:36.3292721;-119.3254884
X-APPLE-STRUCTURED-LOCATION;VALUE=URI;X-ADDRESS=Visalia Elks Lodge 3100 W Main St Visalia CA 93291 United States;X-APPLE-RADIUS=500;X-TITLE=3100 W Main St:geo:-119.3254884,36.3292721
END:VEVENT
BEGIN:VEVENT
DTSTART;TZID=UTC:20290903T180000
DTEND;TZID=UTC:20290903T180000
DTSTAMP:20260425T161439
CREATED:20260330T173252Z
LAST-MODIFIED:20260330T173252Z
UID:10002854-1883152800-1883152800@visaliaelks.org
SUMMARY:Monday Night Dinner
DESCRIPTION:1st and 3rd Monday of Every Month – $10\nWatch the Member’s FB group for details each week.
URL:https://visaliaelks.org/events/monday-night-dinner/2029-09-03/
LOCATION:Visalia Elks Lodge\, 3100 W Main St\, Visalia\, CA\, 93291\, United States
CATEGORIES:Monday Night Dinner
GEO:36.3292721;-119.3254884
X-APPLE-STRUCTURED-LOCATION;VALUE=URI;X-ADDRESS=Visalia Elks Lodge 3100 W Main St Visalia CA 93291 United States;X-APPLE-RADIUS=500;X-TITLE=3100 W Main St:geo:-119.3254884,36.3292721
END:VEVENT
BEGIN:VEVENT
DTSTART;TZID=UTC:20290917T180000
DTEND;TZID=UTC:20290917T180000
DTSTAMP:20260425T161439
CREATED:20260330T173402Z
LAST-MODIFIED:20260330T173402Z
UID:10002974-1884362400-1884362400@visaliaelks.org
SUMMARY:Monday Night Dinner
DESCRIPTION:1st and 3rd Monday of Every Month – $10\nWatch the Member’s FB group for details each week.
URL:https://visaliaelks.org/events/monday-night-dinner-2/2029-09-17/
LOCATION:Visalia Elks Lodge\, 3100 W Main St\, Visalia\, CA\, 93291\, United States
CATEGORIES:Monday Night Dinner
GEO:36.3292721;-119.3254884
X-APPLE-STRUCTURED-LOCATION;VALUE=URI;X-ADDRESS=Visalia Elks Lodge 3100 W Main St Visalia CA 93291 United States;X-APPLE-RADIUS=500;X-TITLE=3100 W Main St:geo:-119.3254884,36.3292721
END:VEVENT
BEGIN:VEVENT
DTSTART;TZID=UTC:20291001T180000
DTEND;TZID=UTC:20291001T180000
DTSTAMP:20260425T161439
CREATED:20260330T173252Z
LAST-MODIFIED:20260330T173252Z
UID:10002855-1885572000-1885572000@visaliaelks.org
SUMMARY:Monday Night Dinner
DESCRIPTION:1st and 3rd Monday of Every Month – $10\nWatch the Member’s FB group for details each week.
URL:https://visaliaelks.org/events/monday-night-dinner/2029-10-01/
LOCATION:Visalia Elks Lodge\, 3100 W Main St\, Visalia\, CA\, 93291\, United States
CATEGORIES:Monday Night Dinner
GEO:36.3292721;-119.3254884
X-APPLE-STRUCTURED-LOCATION;VALUE=URI;X-ADDRESS=Visalia Elks Lodge 3100 W Main St Visalia CA 93291 United States;X-APPLE-RADIUS=500;X-TITLE=3100 W Main St:geo:-119.3254884,36.3292721
END:VEVENT
BEGIN:VEVENT
DTSTART;TZID=UTC:20291015T180000
DTEND;TZID=UTC:20291015T180000
DTSTAMP:20260425T161439
CREATED:20260330T173402Z
LAST-MODIFIED:20260330T173402Z
UID:10002975-1886781600-1886781600@visaliaelks.org
SUMMARY:Monday Night Dinner
DESCRIPTION:1st and 3rd Monday of Every Month – $10\nWatch the Member’s FB group for details each week.
URL:https://visaliaelks.org/events/monday-night-dinner-2/2029-10-15/
LOCATION:Visalia Elks Lodge\, 3100 W Main St\, Visalia\, CA\, 93291\, United States
CATEGORIES:Monday Night Dinner
GEO:36.3292721;-119.3254884
X-APPLE-STRUCTURED-LOCATION;VALUE=URI;X-ADDRESS=Visalia Elks Lodge 3100 W Main St Visalia CA 93291 United States;X-APPLE-RADIUS=500;X-TITLE=3100 W Main St:geo:-119.3254884,36.3292721
END:VEVENT
BEGIN:VEVENT
DTSTART;TZID=UTC:20291105T180000
DTEND;TZID=UTC:20291105T180000
DTSTAMP:20260425T161439
CREATED:20260330T173252Z
LAST-MODIFIED:20260330T173252Z
UID:10002856-1888596000-1888596000@visaliaelks.org
SUMMARY:Monday Night Dinner
DESCRIPTION:1st and 3rd Monday of Every Month – $10\nWatch the Member’s FB group for details each week.
URL:https://visaliaelks.org/events/monday-night-dinner/2029-11-05/
LOCATION:Visalia Elks Lodge\, 3100 W Main St\, Visalia\, CA\, 93291\, United States
CATEGORIES:Monday Night Dinner
GEO:36.3292721;-119.3254884
X-APPLE-STRUCTURED-LOCATION;VALUE=URI;X-ADDRESS=Visalia Elks Lodge 3100 W Main St Visalia CA 93291 United States;X-APPLE-RADIUS=500;X-TITLE=3100 W Main St:geo:-119.3254884,36.3292721
END:VEVENT
BEGIN:VEVENT
DTSTART;TZID=UTC:20291119T180000
DTEND;TZID=UTC:20291119T180000
DTSTAMP:20260425T161439
CREATED:20260330T173402Z
LAST-MODIFIED:20260330T173402Z
UID:10002976-1889805600-1889805600@visaliaelks.org
SUMMARY:Monday Night Dinner
DESCRIPTION:1st and 3rd Monday of Every Month – $10\nWatch the Member’s FB group for details each week.
URL:https://visaliaelks.org/events/monday-night-dinner-2/2029-11-19/
LOCATION:Visalia Elks Lodge\, 3100 W Main St\, Visalia\, CA\, 93291\, United States
CATEGORIES:Monday Night Dinner
GEO:36.3292721;-119.3254884
X-APPLE-STRUCTURED-LOCATION;VALUE=URI;X-ADDRESS=Visalia Elks Lodge 3100 W Main St Visalia CA 93291 United States;X-APPLE-RADIUS=500;X-TITLE=3100 W Main St:geo:-119.3254884,36.3292721
END:VEVENT
BEGIN:VEVENT
DTSTART;TZID=UTC:20291203T180000
DTEND;TZID=UTC:20291203T180000
DTSTAMP:20260425T161439
CREATED:20260330T173252Z
LAST-MODIFIED:20260330T173252Z
UID:10002857-1891015200-1891015200@visaliaelks.org
SUMMARY:Monday Night Dinner
DESCRIPTION:1st and 3rd Monday of Every Month – $10\nWatch the Member’s FB group for details each week.
URL:https://visaliaelks.org/events/monday-night-dinner/2029-12-03/
LOCATION:Visalia Elks Lodge\, 3100 W Main St\, Visalia\, CA\, 93291\, United States
CATEGORIES:Monday Night Dinner
GEO:36.3292721;-119.3254884
X-APPLE-STRUCTURED-LOCATION;VALUE=URI;X-ADDRESS=Visalia Elks Lodge 3100 W Main St Visalia CA 93291 United States;X-APPLE-RADIUS=500;X-TITLE=3100 W Main St:geo:-119.3254884,36.3292721
END:VEVENT
BEGIN:VEVENT
DTSTART;TZID=UTC:20291217T180000
DTEND;TZID=UTC:20291217T180000
DTSTAMP:20260425T161439
CREATED:20260330T173402Z
LAST-MODIFIED:20260330T173402Z
UID:10002977-1892224800-1892224800@visaliaelks.org
SUMMARY:Monday Night Dinner
DESCRIPTION:1st and 3rd Monday of Every Month – $10\nWatch the Member’s FB group for details each week.
URL:https://visaliaelks.org/events/monday-night-dinner-2/2029-12-17/
LOCATION:Visalia Elks Lodge\, 3100 W Main St\, Visalia\, CA\, 93291\, United States
CATEGORIES:Monday Night Dinner
GEO:36.3292721;-119.3254884
X-APPLE-STRUCTURED-LOCATION;VALUE=URI;X-ADDRESS=Visalia Elks Lodge 3100 W Main St Visalia CA 93291 United States;X-APPLE-RADIUS=500;X-TITLE=3100 W Main St:geo:-119.3254884,36.3292721
END:VEVENT
BEGIN:VEVENT
DTSTART;TZID=UTC:20300107T180000
DTEND;TZID=UTC:20300107T180000
DTSTAMP:20260425T161439
CREATED:20260330T173252Z
LAST-MODIFIED:20260330T173252Z
UID:10002858-1894039200-1894039200@visaliaelks.org
SUMMARY:Monday Night Dinner
DESCRIPTION:1st and 3rd Monday of Every Month – $10\nWatch the Member’s FB group for details each week.
URL:https://visaliaelks.org/events/monday-night-dinner/2030-01-07/
LOCATION:Visalia Elks Lodge\, 3100 W Main St\, Visalia\, CA\, 93291\, United States
CATEGORIES:Monday Night Dinner
GEO:36.3292721;-119.3254884
X-APPLE-STRUCTURED-LOCATION;VALUE=URI;X-ADDRESS=Visalia Elks Lodge 3100 W Main St Visalia CA 93291 United States;X-APPLE-RADIUS=500;X-TITLE=3100 W Main St:geo:-119.3254884,36.3292721
END:VEVENT
BEGIN:VEVENT
DTSTART;TZID=UTC:20300121T180000
DTEND;TZID=UTC:20300121T180000
DTSTAMP:20260425T161439
CREATED:20260330T173402Z
LAST-MODIFIED:20260330T173402Z
UID:10002978-1895248800-1895248800@visaliaelks.org
SUMMARY:Monday Night Dinner
DESCRIPTION:1st and 3rd Monday of Every Month – $10\nWatch the Member’s FB group for details each week.
URL:https://visaliaelks.org/events/monday-night-dinner-2/2030-01-21/
LOCATION:Visalia Elks Lodge\, 3100 W Main St\, Visalia\, CA\, 93291\, United States
CATEGORIES:Monday Night Dinner
GEO:36.3292721;-119.3254884
X-APPLE-STRUCTURED-LOCATION;VALUE=URI;X-ADDRESS=Visalia Elks Lodge 3100 W Main St Visalia CA 93291 United States;X-APPLE-RADIUS=500;X-TITLE=3100 W Main St:geo:-119.3254884,36.3292721
END:VEVENT
BEGIN:VEVENT
DTSTART;TZID=UTC:20300204T180000
DTEND;TZID=UTC:20300204T180000
DTSTAMP:20260425T161439
CREATED:20260330T173252Z
LAST-MODIFIED:20260330T173252Z
UID:10002859-1896458400-1896458400@visaliaelks.org
SUMMARY:Monday Night Dinner
DESCRIPTION:1st and 3rd Monday of Every Month – $10\nWatch the Member’s FB group for details each week.
URL:https://visaliaelks.org/events/monday-night-dinner/2030-02-04/
LOCATION:Visalia Elks Lodge\, 3100 W Main St\, Visalia\, CA\, 93291\, United States
CATEGORIES:Monday Night Dinner
GEO:36.3292721;-119.3254884
X-APPLE-STRUCTURED-LOCATION;VALUE=URI;X-ADDRESS=Visalia Elks Lodge 3100 W Main St Visalia CA 93291 United States;X-APPLE-RADIUS=500;X-TITLE=3100 W Main St:geo:-119.3254884,36.3292721
END:VEVENT
BEGIN:VEVENT
DTSTART;TZID=UTC:20300218T180000
DTEND;TZID=UTC:20300218T180000
DTSTAMP:20260425T161439
CREATED:20260330T173402Z
LAST-MODIFIED:20260330T173402Z
UID:10002979-1897668000-1897668000@visaliaelks.org
SUMMARY:Monday Night Dinner
DESCRIPTION:1st and 3rd Monday of Every Month – $10\nWatch the Member’s FB group for details each week.
URL:https://visaliaelks.org/events/monday-night-dinner-2/2030-02-18/
LOCATION:Visalia Elks Lodge\, 3100 W Main St\, Visalia\, CA\, 93291\, United States
CATEGORIES:Monday Night Dinner
GEO:36.3292721;-119.3254884
X-APPLE-STRUCTURED-LOCATION;VALUE=URI;X-ADDRESS=Visalia Elks Lodge 3100 W Main St Visalia CA 93291 United States;X-APPLE-RADIUS=500;X-TITLE=3100 W Main St:geo:-119.3254884,36.3292721
END:VEVENT
BEGIN:VEVENT
DTSTART;TZID=UTC:20300304T180000
DTEND;TZID=UTC:20300304T180000
DTSTAMP:20260425T161439
CREATED:20260330T173252Z
LAST-MODIFIED:20260330T173252Z
UID:10002860-1898877600-1898877600@visaliaelks.org
SUMMARY:Monday Night Dinner
DESCRIPTION:1st and 3rd Monday of Every Month – $10\nWatch the Member’s FB group for details each week.
URL:https://visaliaelks.org/events/monday-night-dinner/2030-03-04/
LOCATION:Visalia Elks Lodge\, 3100 W Main St\, Visalia\, CA\, 93291\, United States
CATEGORIES:Monday Night Dinner
GEO:36.3292721;-119.3254884
X-APPLE-STRUCTURED-LOCATION;VALUE=URI;X-ADDRESS=Visalia Elks Lodge 3100 W Main St Visalia CA 93291 United States;X-APPLE-RADIUS=500;X-TITLE=3100 W Main St:geo:-119.3254884,36.3292721
END:VEVENT
END:VCALENDAR