BEGIN:VCALENDAR
VERSION:2.0
PRODID:-//Visalia Elks Lodge 1298 - ECPv6.15.20//NONSGML v1.0//EN
CALSCALE:GREGORIAN
METHOD:PUBLISH
X-ORIGINAL-URL:https://visaliaelks.org
X-WR-CALDESC:Events for Visalia Elks Lodge 1298
REFRESH-INTERVAL;VALUE=DURATION:PT1H
X-Robots-Tag:noindex
X-PUBLISHED-TTL:PT1H
BEGIN:VTIMEZONE
TZID:UTC
BEGIN:STANDARD
TZOFFSETFROM:+0000
TZOFFSETTO:+0000
TZNAME:UTC
DTSTART:20250101T000000
END:STANDARD
END:VTIMEZONE
BEGIN:VEVENT
DTSTART;TZID=UTC:20260428T150000
DTEND;TZID=UTC:20260428T220000
DTSTAMP:20260423T200407
CREATED:20260101T091510Z
LAST-MODIFIED:20260420T165703Z
UID:10003025-1777388400-1777413600@visaliaelks.org
SUMMARY:Dine to Donate - Texas Roadhouse
DESCRIPTION:Grab the current flyer from the What’s Happening Weekly email to show your server.  If you are a member and not on that email list\, you can go to the home page and subscribe easily for approval.
URL:https://visaliaelks.org/events/dine-to-donate-texas-roadhouse-2/2026-04-28/
LOCATION:CA
CATEGORIES:Other Lodge Events
END:VEVENT
END:VCALENDAR