BEGIN:VCALENDAR
VERSION:2.0
PRODID:-//Visalia Elks Lodge 1298 - ECPv6.15.20//NONSGML v1.0//EN
CALSCALE:GREGORIAN
METHOD:PUBLISH
X-WR-CALNAME:Visalia Elks Lodge 1298
X-ORIGINAL-URL:https://visaliaelks.org
X-WR-CALDESC:Events for Visalia Elks Lodge 1298
REFRESH-INTERVAL;VALUE=DURATION:PT1H
X-Robots-Tag:noindex
X-PUBLISHED-TTL:PT1H
BEGIN:VTIMEZONE
TZID:UTC
BEGIN:STANDARD
TZOFFSETFROM:+0000
TZOFFSETTO:+0000
TZNAME:UTC
DTSTART:20270101T000000
END:STANDARD
END:VTIMEZONE
BEGIN:VEVENT
DTSTART;TZID=UTC:20281226T150000
DTEND;TZID=UTC:20281226T220000
DTSTAMP:20260424T000906
CREATED:20260101T091510Z
LAST-MODIFIED:20260420T165703Z
UID:10003033-1861455600-1861480800@visaliaelks.org
SUMMARY:Dine to Donate - Texas Roadhouse
DESCRIPTION:Grab the current flyer from the What’s Happening Weekly email to show your server.  If you are a member and not on that email list\, you can go to the home page and subscribe easily for approval.
URL:https://visaliaelks.org/events/dine-to-donate-texas-roadhouse-2/2028-12-26/
LOCATION:CA
CATEGORIES:Other Lodge Events
END:VEVENT
BEGIN:VEVENT
DTSTART;TZID=UTC:20290131T203000
DTEND;TZID=UTC:20290131T203000
DTSTAMP:20260424T000906
CREATED:20250502T010350Z
LAST-MODIFIED:20251201T180351Z
UID:10002307-1864585800-1864585800@visaliaelks.org
SUMMARY:Purple Pig Racing
DESCRIPTION:Following the Lodge Meeting – 5th Wednesday of the month.  Watch for details in the Member’s FB group.
URL:https://visaliaelks.org/events/purple-pig-racing/2029-01-31/
LOCATION:Visalia Elks Lodge\, 3100 W Main St\, Visalia\, CA\, 93291\, United States
CATEGORIES:Lodge Meeting,Other Lodge Events
GEO:36.3292721;-119.3254884
X-APPLE-STRUCTURED-LOCATION;VALUE=URI;X-ADDRESS=Visalia Elks Lodge 3100 W Main St Visalia CA 93291 United States;X-APPLE-RADIUS=500;X-TITLE=3100 W Main St:geo:-119.3254884,36.3292721
END:VEVENT
BEGIN:VEVENT
DTSTART;TZID=UTC:20290424T150000
DTEND;TZID=UTC:20290424T220000
DTSTAMP:20260424T000906
CREATED:20260101T091510Z
LAST-MODIFIED:20260420T165703Z
UID:10003034-1871737200-1871762400@visaliaelks.org
SUMMARY:Dine to Donate - Texas Roadhouse
DESCRIPTION:Grab the current flyer from the What’s Happening Weekly email to show your server.  If you are a member and not on that email list\, you can go to the home page and subscribe easily for approval.
URL:https://visaliaelks.org/events/dine-to-donate-texas-roadhouse-2/2029-04-24/
LOCATION:CA
CATEGORIES:Other Lodge Events
END:VEVENT
BEGIN:VEVENT
DTSTART;TZID=UTC:20290530T203000
DTEND;TZID=UTC:20290530T203000
DTSTAMP:20260424T000906
CREATED:20250502T010350Z
LAST-MODIFIED:20251201T180351Z
UID:10002308-1874867400-1874867400@visaliaelks.org
SUMMARY:Purple Pig Racing
DESCRIPTION:Following the Lodge Meeting – 5th Wednesday of the month.  Watch for details in the Member’s FB group.
URL:https://visaliaelks.org/events/purple-pig-racing/2029-05-30/
LOCATION:Visalia Elks Lodge\, 3100 W Main St\, Visalia\, CA\, 93291\, United States
CATEGORIES:Lodge Meeting,Other Lodge Events
GEO:36.3292721;-119.3254884
X-APPLE-STRUCTURED-LOCATION;VALUE=URI;X-ADDRESS=Visalia Elks Lodge 3100 W Main St Visalia CA 93291 United States;X-APPLE-RADIUS=500;X-TITLE=3100 W Main St:geo:-119.3254884,36.3292721
END:VEVENT
BEGIN:VEVENT
DTSTART;TZID=UTC:20290828T150000
DTEND;TZID=UTC:20290828T220000
DTSTAMP:20260424T000906
CREATED:20260101T091510Z
LAST-MODIFIED:20260420T165703Z
UID:10003035-1882623600-1882648800@visaliaelks.org
SUMMARY:Dine to Donate - Texas Roadhouse
DESCRIPTION:Grab the current flyer from the What’s Happening Weekly email to show your server.  If you are a member and not on that email list\, you can go to the home page and subscribe easily for approval.
URL:https://visaliaelks.org/events/dine-to-donate-texas-roadhouse-2/2029-08-28/
LOCATION:CA
CATEGORIES:Other Lodge Events
END:VEVENT
BEGIN:VEVENT
DTSTART;TZID=UTC:20290829T203000
DTEND;TZID=UTC:20290829T203000
DTSTAMP:20260424T000906
CREATED:20250502T010350Z
LAST-MODIFIED:20251201T180351Z
UID:10002309-1882729800-1882729800@visaliaelks.org
SUMMARY:Purple Pig Racing
DESCRIPTION:Following the Lodge Meeting – 5th Wednesday of the month.  Watch for details in the Member’s FB group.
URL:https://visaliaelks.org/events/purple-pig-racing/2029-08-29/
LOCATION:Visalia Elks Lodge\, 3100 W Main St\, Visalia\, CA\, 93291\, United States
CATEGORIES:Lodge Meeting,Other Lodge Events
GEO:36.3292721;-119.3254884
X-APPLE-STRUCTURED-LOCATION;VALUE=URI;X-ADDRESS=Visalia Elks Lodge 3100 W Main St Visalia CA 93291 United States;X-APPLE-RADIUS=500;X-TITLE=3100 W Main St:geo:-119.3254884,36.3292721
END:VEVENT
BEGIN:VEVENT
DTSTART;TZID=UTC:20291031T203000
DTEND;TZID=UTC:20291031T203000
DTSTAMP:20260424T000906
CREATED:20250502T010350Z
LAST-MODIFIED:20251201T180351Z
UID:10002310-1888173000-1888173000@visaliaelks.org
SUMMARY:Purple Pig Racing
DESCRIPTION:Following the Lodge Meeting – 5th Wednesday of the month.  Watch for details in the Member’s FB group.
URL:https://visaliaelks.org/events/purple-pig-racing/2029-10-31/
LOCATION:Visalia Elks Lodge\, 3100 W Main St\, Visalia\, CA\, 93291\, United States
CATEGORIES:Lodge Meeting,Other Lodge Events
GEO:36.3292721;-119.3254884
X-APPLE-STRUCTURED-LOCATION;VALUE=URI;X-ADDRESS=Visalia Elks Lodge 3100 W Main St Visalia CA 93291 United States;X-APPLE-RADIUS=500;X-TITLE=3100 W Main St:geo:-119.3254884,36.3292721
END:VEVENT
BEGIN:VEVENT
DTSTART;TZID=UTC:20291225T150000
DTEND;TZID=UTC:20291225T220000
DTSTAMP:20260424T000906
CREATED:20260101T091510Z
LAST-MODIFIED:20260420T165703Z
UID:10003036-1892905200-1892930400@visaliaelks.org
SUMMARY:Dine to Donate - Texas Roadhouse
DESCRIPTION:Grab the current flyer from the What’s Happening Weekly email to show your server.  If you are a member and not on that email list\, you can go to the home page and subscribe easily for approval.
URL:https://visaliaelks.org/events/dine-to-donate-texas-roadhouse-2/2029-12-25/
LOCATION:CA
CATEGORIES:Other Lodge Events
END:VEVENT
BEGIN:VEVENT
DTSTART;TZID=UTC:20300130T203000
DTEND;TZID=UTC:20300130T203000
DTSTAMP:20260424T000906
CREATED:20250502T010350Z
LAST-MODIFIED:20251201T180351Z
UID:10002311-1896035400-1896035400@visaliaelks.org
SUMMARY:Purple Pig Racing
DESCRIPTION:Following the Lodge Meeting – 5th Wednesday of the month.  Watch for details in the Member’s FB group.
URL:https://visaliaelks.org/events/purple-pig-racing/2030-01-30/
LOCATION:Visalia Elks Lodge\, 3100 W Main St\, Visalia\, CA\, 93291\, United States
CATEGORIES:Lodge Meeting,Other Lodge Events
GEO:36.3292721;-119.3254884
X-APPLE-STRUCTURED-LOCATION;VALUE=URI;X-ADDRESS=Visalia Elks Lodge 3100 W Main St Visalia CA 93291 United States;X-APPLE-RADIUS=500;X-TITLE=3100 W Main St:geo:-119.3254884,36.3292721
END:VEVENT
BEGIN:VEVENT
DTSTART;TZID=UTC:20300423T150000
DTEND;TZID=UTC:20300423T220000
DTSTAMP:20260424T000906
CREATED:20260101T091510Z
LAST-MODIFIED:20260420T165703Z
UID:10003037-1903186800-1903212000@visaliaelks.org
SUMMARY:Dine to Donate - Texas Roadhouse
DESCRIPTION:Grab the current flyer from the What’s Happening Weekly email to show your server.  If you are a member and not on that email list\, you can go to the home page and subscribe easily for approval.
URL:https://visaliaelks.org/events/dine-to-donate-texas-roadhouse-2/2030-04-23/
LOCATION:CA
CATEGORIES:Other Lodge Events
END:VEVENT
BEGIN:VEVENT
DTSTART;TZID=UTC:20300529T203000
DTEND;TZID=UTC:20300529T203000
DTSTAMP:20260424T000906
CREATED:20250502T010350Z
LAST-MODIFIED:20251201T180351Z
UID:10002724-1906317000-1906317000@visaliaelks.org
SUMMARY:Purple Pig Racing
DESCRIPTION:Following the Lodge Meeting – 5th Wednesday of the month.  Watch for details in the Member’s FB group.
URL:https://visaliaelks.org/events/purple-pig-racing/2030-05-29/
LOCATION:Visalia Elks Lodge\, 3100 W Main St\, Visalia\, CA\, 93291\, United States
CATEGORIES:Lodge Meeting,Other Lodge Events
GEO:36.3292721;-119.3254884
X-APPLE-STRUCTURED-LOCATION;VALUE=URI;X-ADDRESS=Visalia Elks Lodge 3100 W Main St Visalia CA 93291 United States;X-APPLE-RADIUS=500;X-TITLE=3100 W Main St:geo:-119.3254884,36.3292721
END:VEVENT
BEGIN:VEVENT
DTSTART;TZID=UTC:20300731T203000
DTEND;TZID=UTC:20300731T203000
DTSTAMP:20260424T000906
CREATED:20250502T010350Z
LAST-MODIFIED:20251201T180351Z
UID:10002725-1911760200-1911760200@visaliaelks.org
SUMMARY:Purple Pig Racing
DESCRIPTION:Following the Lodge Meeting – 5th Wednesday of the month.  Watch for details in the Member’s FB group.
URL:https://visaliaelks.org/events/purple-pig-racing/2030-07-31/
LOCATION:Visalia Elks Lodge\, 3100 W Main St\, Visalia\, CA\, 93291\, United States
CATEGORIES:Lodge Meeting,Other Lodge Events
GEO:36.3292721;-119.3254884
X-APPLE-STRUCTURED-LOCATION;VALUE=URI;X-ADDRESS=Visalia Elks Lodge 3100 W Main St Visalia CA 93291 United States;X-APPLE-RADIUS=500;X-TITLE=3100 W Main St:geo:-119.3254884,36.3292721
END:VEVENT
BEGIN:VEVENT
DTSTART;TZID=UTC:20300827T150000
DTEND;TZID=UTC:20300827T220000
DTSTAMP:20260424T000906
CREATED:20260101T091510Z
LAST-MODIFIED:20260420T165703Z
UID:10003038-1914073200-1914098400@visaliaelks.org
SUMMARY:Dine to Donate - Texas Roadhouse
DESCRIPTION:Grab the current flyer from the What’s Happening Weekly email to show your server.  If you are a member and not on that email list\, you can go to the home page and subscribe easily for approval.
URL:https://visaliaelks.org/events/dine-to-donate-texas-roadhouse-2/2030-08-27/
LOCATION:CA
CATEGORIES:Other Lodge Events
END:VEVENT
BEGIN:VEVENT
DTSTART;TZID=UTC:20301030T203000
DTEND;TZID=UTC:20301030T203000
DTSTAMP:20260424T000906
CREATED:20250502T010350Z
LAST-MODIFIED:20251201T180351Z
UID:10002726-1919622600-1919622600@visaliaelks.org
SUMMARY:Purple Pig Racing
DESCRIPTION:Following the Lodge Meeting – 5th Wednesday of the month.  Watch for details in the Member’s FB group.
URL:https://visaliaelks.org/events/purple-pig-racing/2030-10-30/
LOCATION:Visalia Elks Lodge\, 3100 W Main St\, Visalia\, CA\, 93291\, United States
CATEGORIES:Lodge Meeting,Other Lodge Events
GEO:36.3292721;-119.3254884
X-APPLE-STRUCTURED-LOCATION;VALUE=URI;X-ADDRESS=Visalia Elks Lodge 3100 W Main St Visalia CA 93291 United States;X-APPLE-RADIUS=500;X-TITLE=3100 W Main St:geo:-119.3254884,36.3292721
END:VEVENT
BEGIN:VEVENT
DTSTART;TZID=UTC:20301224T150000
DTEND;TZID=UTC:20301224T220000
DTSTAMP:20260424T000906
CREATED:20260101T091510Z
LAST-MODIFIED:20260420T165703Z
UID:10003039-1924354800-1924380000@visaliaelks.org
SUMMARY:Dine to Donate - Texas Roadhouse
DESCRIPTION:Grab the current flyer from the What’s Happening Weekly email to show your server.  If you are a member and not on that email list\, you can go to the home page and subscribe easily for approval.
URL:https://visaliaelks.org/events/dine-to-donate-texas-roadhouse-2/2030-12-24/
LOCATION:CA
CATEGORIES:Other Lodge Events
END:VEVENT
BEGIN:VEVENT
DTSTART;TZID=UTC:20310129T203000
DTEND;TZID=UTC:20310129T203000
DTSTAMP:20260424T000906
CREATED:20250502T010350Z
LAST-MODIFIED:20251201T180351Z
UID:10002785-1927485000-1927485000@visaliaelks.org
SUMMARY:Purple Pig Racing
DESCRIPTION:Following the Lodge Meeting – 5th Wednesday of the month.  Watch for details in the Member’s FB group.
URL:https://visaliaelks.org/events/purple-pig-racing/2031-01-29/
LOCATION:Visalia Elks Lodge\, 3100 W Main St\, Visalia\, CA\, 93291\, United States
CATEGORIES:Lodge Meeting,Other Lodge Events
GEO:36.3292721;-119.3254884
X-APPLE-STRUCTURED-LOCATION;VALUE=URI;X-ADDRESS=Visalia Elks Lodge 3100 W Main St Visalia CA 93291 United States;X-APPLE-RADIUS=500;X-TITLE=3100 W Main St:geo:-119.3254884,36.3292721
END:VEVENT
END:VCALENDAR