BEGIN:VCALENDAR
VERSION:2.0
PRODID:-//Visalia Elks Lodge 1298 - ECPv6.15.20//NONSGML v1.0//EN
CALSCALE:GREGORIAN
METHOD:PUBLISH
X-WR-CALNAME:Visalia Elks Lodge 1298
X-ORIGINAL-URL:https://visaliaelks.org
X-WR-CALDESC:Events for Visalia Elks Lodge 1298
REFRESH-INTERVAL;VALUE=DURATION:PT1H
X-Robots-Tag:noindex
X-PUBLISHED-TTL:PT1H
BEGIN:VTIMEZONE
TZID:UTC
BEGIN:STANDARD
TZOFFSETFROM:+0000
TZOFFSETTO:+0000
TZNAME:UTC
DTSTART:20290101T000000
END:STANDARD
END:VTIMEZONE
BEGIN:VEVENT
DTSTART;TZID=UTC:20300310T083000
DTEND;TZID=UTC:20300310T110000
DTSTAMP:20260425T132101
CREATED:20180327T183221Z
LAST-MODIFIED:20260406T163700Z
UID:10002265-1899361800-1899370800@visaliaelks.org
SUMMARY:Veterans Breakfast
DESCRIPTION:Eggs/Omelet bar\nPotatoes\nBacon\nSausage\nFrench toast\nPancakes\nBiscuits and Gravy\n\n8:30 to 11:00am \nAdults $18.00\nKids Under 12 – $15.00\nVeterans: Free
URL:https://visaliaelks.org/events/veterans-breakfast-2/2030-03-10/
LOCATION:Visalia Elks Lodge\, 3100 W Main St\, Visalia\, CA\, 93291\, United States
CATEGORIES:Veterans Breakfast
GEO:36.3292721;-119.3254884
X-APPLE-STRUCTURED-LOCATION;VALUE=URI;X-ADDRESS=Visalia Elks Lodge 3100 W Main St Visalia CA 93291 United States;X-APPLE-RADIUS=500;X-TITLE=3100 W Main St:geo:-119.3254884,36.3292721
END:VEVENT
BEGIN:VEVENT
DTSTART;TZID=UTC:20300414T083000
DTEND;TZID=UTC:20300414T110000
DTSTAMP:20260425T132101
CREATED:20180327T183221Z
LAST-MODIFIED:20260406T163700Z
UID:10002314-1902385800-1902394800@visaliaelks.org
SUMMARY:Veterans Breakfast
DESCRIPTION:Eggs/Omelet bar\nPotatoes\nBacon\nSausage\nFrench toast\nPancakes\nBiscuits and Gravy\n\n8:30 to 11:00am \nAdults $18.00\nKids Under 12 – $15.00\nVeterans: Free
URL:https://visaliaelks.org/events/veterans-breakfast-2/2030-04-14/
LOCATION:Visalia Elks Lodge\, 3100 W Main St\, Visalia\, CA\, 93291\, United States
CATEGORIES:Veterans Breakfast
GEO:36.3292721;-119.3254884
X-APPLE-STRUCTURED-LOCATION;VALUE=URI;X-ADDRESS=Visalia Elks Lodge 3100 W Main St Visalia CA 93291 United States;X-APPLE-RADIUS=500;X-TITLE=3100 W Main St:geo:-119.3254884,36.3292721
END:VEVENT
BEGIN:VEVENT
DTSTART;TZID=UTC:20300512T083000
DTEND;TZID=UTC:20300512T110000
DTSTAMP:20260425T132101
CREATED:20180327T183221Z
LAST-MODIFIED:20260406T163700Z
UID:10002342-1904805000-1904814000@visaliaelks.org
SUMMARY:Veterans Breakfast
DESCRIPTION:Eggs/Omelet bar\nPotatoes\nBacon\nSausage\nFrench toast\nPancakes\nBiscuits and Gravy\n\n8:30 to 11:00am \nAdults $18.00\nKids Under 12 – $15.00\nVeterans: Free
URL:https://visaliaelks.org/events/veterans-breakfast-2/2030-05-12/
LOCATION:Visalia Elks Lodge\, 3100 W Main St\, Visalia\, CA\, 93291\, United States
CATEGORIES:Veterans Breakfast
GEO:36.3292721;-119.3254884
X-APPLE-STRUCTURED-LOCATION;VALUE=URI;X-ADDRESS=Visalia Elks Lodge 3100 W Main St Visalia CA 93291 United States;X-APPLE-RADIUS=500;X-TITLE=3100 W Main St:geo:-119.3254884,36.3292721
END:VEVENT
BEGIN:VEVENT
DTSTART;TZID=UTC:20300609T083000
DTEND;TZID=UTC:20300609T110000
DTSTAMP:20260425T132101
CREATED:20180327T183221Z
LAST-MODIFIED:20260406T163700Z
UID:10002343-1907224200-1907233200@visaliaelks.org
SUMMARY:Veterans Breakfast
DESCRIPTION:Eggs/Omelet bar\nPotatoes\nBacon\nSausage\nFrench toast\nPancakes\nBiscuits and Gravy\n\n8:30 to 11:00am \nAdults $18.00\nKids Under 12 – $15.00\nVeterans: Free
URL:https://visaliaelks.org/events/veterans-breakfast-2/2030-06-09/
LOCATION:Visalia Elks Lodge\, 3100 W Main St\, Visalia\, CA\, 93291\, United States
CATEGORIES:Veterans Breakfast
GEO:36.3292721;-119.3254884
X-APPLE-STRUCTURED-LOCATION;VALUE=URI;X-ADDRESS=Visalia Elks Lodge 3100 W Main St Visalia CA 93291 United States;X-APPLE-RADIUS=500;X-TITLE=3100 W Main St:geo:-119.3254884,36.3292721
END:VEVENT
BEGIN:VEVENT
DTSTART;TZID=UTC:20300714T083000
DTEND;TZID=UTC:20300714T110000
DTSTAMP:20260425T132101
CREATED:20180327T183221Z
LAST-MODIFIED:20260406T163700Z
UID:10002379-1910248200-1910257200@visaliaelks.org
SUMMARY:Veterans Breakfast
DESCRIPTION:Eggs/Omelet bar\nPotatoes\nBacon\nSausage\nFrench toast\nPancakes\nBiscuits and Gravy\n\n8:30 to 11:00am \nAdults $18.00\nKids Under 12 – $15.00\nVeterans: Free
URL:https://visaliaelks.org/events/veterans-breakfast-2/2030-07-14/
LOCATION:Visalia Elks Lodge\, 3100 W Main St\, Visalia\, CA\, 93291\, United States
CATEGORIES:Veterans Breakfast
GEO:36.3292721;-119.3254884
X-APPLE-STRUCTURED-LOCATION;VALUE=URI;X-ADDRESS=Visalia Elks Lodge 3100 W Main St Visalia CA 93291 United States;X-APPLE-RADIUS=500;X-TITLE=3100 W Main St:geo:-119.3254884,36.3292721
END:VEVENT
BEGIN:VEVENT
DTSTART;TZID=UTC:20300811T083000
DTEND;TZID=UTC:20300811T110000
DTSTAMP:20260425T132101
CREATED:20180327T183221Z
LAST-MODIFIED:20260406T163700Z
UID:10002380-1912667400-1912676400@visaliaelks.org
SUMMARY:Veterans Breakfast
DESCRIPTION:Eggs/Omelet bar\nPotatoes\nBacon\nSausage\nFrench toast\nPancakes\nBiscuits and Gravy\n\n8:30 to 11:00am \nAdults $18.00\nKids Under 12 – $15.00\nVeterans: Free
URL:https://visaliaelks.org/events/veterans-breakfast-2/2030-08-11/
LOCATION:Visalia Elks Lodge\, 3100 W Main St\, Visalia\, CA\, 93291\, United States
CATEGORIES:Veterans Breakfast
GEO:36.3292721;-119.3254884
X-APPLE-STRUCTURED-LOCATION;VALUE=URI;X-ADDRESS=Visalia Elks Lodge 3100 W Main St Visalia CA 93291 United States;X-APPLE-RADIUS=500;X-TITLE=3100 W Main St:geo:-119.3254884,36.3292721
END:VEVENT
BEGIN:VEVENT
DTSTART;TZID=UTC:20300908T083000
DTEND;TZID=UTC:20300908T110000
DTSTAMP:20260425T132101
CREATED:20180327T183221Z
LAST-MODIFIED:20260406T163700Z
UID:10002687-1915086600-1915095600@visaliaelks.org
SUMMARY:Veterans Breakfast
DESCRIPTION:Eggs/Omelet bar\nPotatoes\nBacon\nSausage\nFrench toast\nPancakes\nBiscuits and Gravy\n\n8:30 to 11:00am \nAdults $18.00\nKids Under 12 – $15.00\nVeterans: Free
URL:https://visaliaelks.org/events/veterans-breakfast-2/2030-09-08/
LOCATION:Visalia Elks Lodge\, 3100 W Main St\, Visalia\, CA\, 93291\, United States
CATEGORIES:Veterans Breakfast
GEO:36.3292721;-119.3254884
X-APPLE-STRUCTURED-LOCATION;VALUE=URI;X-ADDRESS=Visalia Elks Lodge 3100 W Main St Visalia CA 93291 United States;X-APPLE-RADIUS=500;X-TITLE=3100 W Main St:geo:-119.3254884,36.3292721
END:VEVENT
BEGIN:VEVENT
DTSTART;TZID=UTC:20301013T083000
DTEND;TZID=UTC:20301013T110000
DTSTAMP:20260425T132101
CREATED:20180327T183221Z
LAST-MODIFIED:20260406T163700Z
UID:10002713-1918110600-1918119600@visaliaelks.org
SUMMARY:Veterans Breakfast
DESCRIPTION:Eggs/Omelet bar\nPotatoes\nBacon\nSausage\nFrench toast\nPancakes\nBiscuits and Gravy\n\n8:30 to 11:00am \nAdults $18.00\nKids Under 12 – $15.00\nVeterans: Free
URL:https://visaliaelks.org/events/veterans-breakfast-2/2030-10-13/
LOCATION:Visalia Elks Lodge\, 3100 W Main St\, Visalia\, CA\, 93291\, United States
CATEGORIES:Veterans Breakfast
GEO:36.3292721;-119.3254884
X-APPLE-STRUCTURED-LOCATION;VALUE=URI;X-ADDRESS=Visalia Elks Lodge 3100 W Main St Visalia CA 93291 United States;X-APPLE-RADIUS=500;X-TITLE=3100 W Main St:geo:-119.3254884,36.3292721
END:VEVENT
BEGIN:VEVENT
DTSTART;TZID=UTC:20301110T083000
DTEND;TZID=UTC:20301110T110000
DTSTAMP:20260425T132101
CREATED:20180327T183221Z
LAST-MODIFIED:20260406T163700Z
UID:10002730-1920529800-1920538800@visaliaelks.org
SUMMARY:Veterans Breakfast
DESCRIPTION:Eggs/Omelet bar\nPotatoes\nBacon\nSausage\nFrench toast\nPancakes\nBiscuits and Gravy\n\n8:30 to 11:00am \nAdults $18.00\nKids Under 12 – $15.00\nVeterans: Free
URL:https://visaliaelks.org/events/veterans-breakfast-2/2030-11-10/
LOCATION:Visalia Elks Lodge\, 3100 W Main St\, Visalia\, CA\, 93291\, United States
CATEGORIES:Veterans Breakfast
GEO:36.3292721;-119.3254884
X-APPLE-STRUCTURED-LOCATION;VALUE=URI;X-ADDRESS=Visalia Elks Lodge 3100 W Main St Visalia CA 93291 United States;X-APPLE-RADIUS=500;X-TITLE=3100 W Main St:geo:-119.3254884,36.3292721
END:VEVENT
BEGIN:VEVENT
DTSTART;TZID=UTC:20301208T083000
DTEND;TZID=UTC:20301208T110000
DTSTAMP:20260425T132101
CREATED:20180327T183221Z
LAST-MODIFIED:20260406T163700Z
UID:10002753-1922949000-1922958000@visaliaelks.org
SUMMARY:Veterans Breakfast
DESCRIPTION:Eggs/Omelet bar\nPotatoes\nBacon\nSausage\nFrench toast\nPancakes\nBiscuits and Gravy\n\n8:30 to 11:00am \nAdults $18.00\nKids Under 12 – $15.00\nVeterans: Free
URL:https://visaliaelks.org/events/veterans-breakfast-2/2030-12-08/
LOCATION:Visalia Elks Lodge\, 3100 W Main St\, Visalia\, CA\, 93291\, United States
CATEGORIES:Veterans Breakfast
GEO:36.3292721;-119.3254884
X-APPLE-STRUCTURED-LOCATION;VALUE=URI;X-ADDRESS=Visalia Elks Lodge 3100 W Main St Visalia CA 93291 United States;X-APPLE-RADIUS=500;X-TITLE=3100 W Main St:geo:-119.3254884,36.3292721
END:VEVENT
BEGIN:VEVENT
DTSTART;TZID=UTC:20310112T083000
DTEND;TZID=UTC:20310112T110000
DTSTAMP:20260425T132101
CREATED:20180327T183221Z
LAST-MODIFIED:20260406T163700Z
UID:10002770-1925973000-1925982000@visaliaelks.org
SUMMARY:Veterans Breakfast
DESCRIPTION:Eggs/Omelet bar\nPotatoes\nBacon\nSausage\nFrench toast\nPancakes\nBiscuits and Gravy\n\n8:30 to 11:00am \nAdults $18.00\nKids Under 12 – $15.00\nVeterans: Free
URL:https://visaliaelks.org/events/veterans-breakfast-2/2031-01-12/
LOCATION:Visalia Elks Lodge\, 3100 W Main St\, Visalia\, CA\, 93291\, United States
CATEGORIES:Veterans Breakfast
GEO:36.3292721;-119.3254884
X-APPLE-STRUCTURED-LOCATION;VALUE=URI;X-ADDRESS=Visalia Elks Lodge 3100 W Main St Visalia CA 93291 United States;X-APPLE-RADIUS=500;X-TITLE=3100 W Main St:geo:-119.3254884,36.3292721
END:VEVENT
BEGIN:VEVENT
DTSTART;TZID=UTC:20310209T083000
DTEND;TZID=UTC:20310209T110000
DTSTAMP:20260425T132101
CREATED:20180327T183221Z
LAST-MODIFIED:20260406T163700Z
UID:10002788-1928392200-1928401200@visaliaelks.org
SUMMARY:Veterans Breakfast
DESCRIPTION:Eggs/Omelet bar\nPotatoes\nBacon\nSausage\nFrench toast\nPancakes\nBiscuits and Gravy\n\n8:30 to 11:00am \nAdults $18.00\nKids Under 12 – $15.00\nVeterans: Free
URL:https://visaliaelks.org/events/veterans-breakfast-2/2031-02-09/
LOCATION:Visalia Elks Lodge\, 3100 W Main St\, Visalia\, CA\, 93291\, United States
CATEGORIES:Veterans Breakfast
GEO:36.3292721;-119.3254884
X-APPLE-STRUCTURED-LOCATION;VALUE=URI;X-ADDRESS=Visalia Elks Lodge 3100 W Main St Visalia CA 93291 United States;X-APPLE-RADIUS=500;X-TITLE=3100 W Main St:geo:-119.3254884,36.3292721
END:VEVENT
BEGIN:VEVENT
DTSTART;TZID=UTC:20310309T083000
DTEND;TZID=UTC:20310309T110000
DTSTAMP:20260425T132101
CREATED:20180327T183221Z
LAST-MODIFIED:20260406T163700Z
UID:10002809-1930811400-1930820400@visaliaelks.org
SUMMARY:Veterans Breakfast
DESCRIPTION:Eggs/Omelet bar\nPotatoes\nBacon\nSausage\nFrench toast\nPancakes\nBiscuits and Gravy\n\n8:30 to 11:00am \nAdults $18.00\nKids Under 12 – $15.00\nVeterans: Free
URL:https://visaliaelks.org/events/veterans-breakfast-2/2031-03-09/
LOCATION:Visalia Elks Lodge\, 3100 W Main St\, Visalia\, CA\, 93291\, United States
CATEGORIES:Veterans Breakfast
GEO:36.3292721;-119.3254884
X-APPLE-STRUCTURED-LOCATION;VALUE=URI;X-ADDRESS=Visalia Elks Lodge 3100 W Main St Visalia CA 93291 United States;X-APPLE-RADIUS=500;X-TITLE=3100 W Main St:geo:-119.3254884,36.3292721
END:VEVENT
END:VCALENDAR