BEGIN:VCALENDAR
VERSION:2.0
PRODID:-//Visalia Elks Lodge 1298 - ECPv6.15.20//NONSGML v1.0//EN
CALSCALE:GREGORIAN
METHOD:PUBLISH
X-ORIGINAL-URL:https://visaliaelks.org
X-WR-CALDESC:Events for Visalia Elks Lodge 1298
REFRESH-INTERVAL;VALUE=DURATION:PT1H
X-Robots-Tag:noindex
X-PUBLISHED-TTL:PT1H
BEGIN:VTIMEZONE
TZID:UTC
BEGIN:STANDARD
TZOFFSETFROM:+0000
TZOFFSETTO:+0000
TZNAME:UTC
DTSTART:20250101T000000
END:STANDARD
END:VTIMEZONE
BEGIN:VEVENT
DTSTART;TZID=UTC:20260308T083000
DTEND;TZID=UTC:20260308T110000
DTSTAMP:20260423T200101
CREATED:20180327T183221Z
LAST-MODIFIED:20260406T163700Z
UID:10000802-1772958600-1772967600@visaliaelks.org
SUMMARY:Veterans Breakfast
DESCRIPTION:Eggs/Omelet bar\nPotatoes\nBacon\nSausage\nFrench toast\nPancakes\nBiscuits and Gravy\n\n8:30 to 11:00am \nAdults $18.00\nKids Under 12 – $15.00\nVeterans: Free
URL:https://visaliaelks.org/events/veterans-breakfast-2/2026-03-08/
LOCATION:Visalia Elks Lodge\, 3100 W Main St\, Visalia\, CA\, 93291\, United States
CATEGORIES:Veterans Breakfast
GEO:36.3292721;-119.3254884
X-APPLE-STRUCTURED-LOCATION;VALUE=URI;X-ADDRESS=Visalia Elks Lodge 3100 W Main St Visalia CA 93291 United States;X-APPLE-RADIUS=500;X-TITLE=3100 W Main St:geo:-119.3254884,36.3292721
END:VEVENT
BEGIN:VEVENT
DTSTART;TZID=UTC:20260311T173000
DTEND;TZID=UTC:20260311T173000
DTSTAMP:20260423T200101
CREATED:20180626T174114Z
LAST-MODIFIED:20180626T174114Z
UID:10000092-1773250200-1773250200@visaliaelks.org
SUMMARY:House Committee Meeting
DESCRIPTION:
URL:https://visaliaelks.org/events/house-committee-meeting-3/2026-03-11/
LOCATION:Visalia Elks Lodge\, 3100 W Main St\, Visalia\, CA\, 93291\, United States
CATEGORIES:Lodge Meeting
GEO:36.3292721;-119.3254884
X-APPLE-STRUCTURED-LOCATION;VALUE=URI;X-ADDRESS=Visalia Elks Lodge 3100 W Main St Visalia CA 93291 United States;X-APPLE-RADIUS=500;X-TITLE=3100 W Main St:geo:-119.3254884,36.3292721
END:VEVENT
BEGIN:VEVENT
DTSTART;TZID=UTC:20260311T180000
DTEND;TZID=UTC:20260311T180000
DTSTAMP:20260423T200101
CREATED:20180626T174214Z
LAST-MODIFIED:20180626T174640Z
UID:10000904-1773252000-1773252000@visaliaelks.org
SUMMARY:Trustee Meeting
DESCRIPTION:Note: You must call or e-mail in advance to be on the agenda
URL:https://visaliaelks.org/events/trustee-meeting-3/2026-03-11/
LOCATION:Visalia Elks Lodge\, 3100 W Main St\, Visalia\, CA\, 93291\, United States
CATEGORIES:Lodge Meeting
GEO:36.3292721;-119.3254884
X-APPLE-STRUCTURED-LOCATION;VALUE=URI;X-ADDRESS=Visalia Elks Lodge 3100 W Main St Visalia CA 93291 United States;X-APPLE-RADIUS=500;X-TITLE=3100 W Main St:geo:-119.3254884,36.3292721
END:VEVENT
BEGIN:VEVENT
DTSTART;TZID=UTC:20260311T193000
DTEND;TZID=UTC:20260311T193000
DTSTAMP:20260423T200101
CREATED:20180626T173912Z
LAST-MODIFIED:20180626T173927Z
UID:10000404-1773257400-1773257400@visaliaelks.org
SUMMARY:Lodge Meeting (Business)
DESCRIPTION:
URL:https://visaliaelks.org/events/lodge-meeting-business-2/2026-03-11/
LOCATION:Visalia Elks Lodge\, 3100 W Main St\, Visalia\, CA\, 93291\, United States
CATEGORIES:Lodge Meeting
GEO:36.3292721;-119.3254884
X-APPLE-STRUCTURED-LOCATION;VALUE=URI;X-ADDRESS=Visalia Elks Lodge 3100 W Main St Visalia CA 93291 United States;X-APPLE-RADIUS=500;X-TITLE=3100 W Main St:geo:-119.3254884,36.3292721
END:VEVENT
BEGIN:VEVENT
DTSTART;TZID=UTC:20260312T183000
DTEND;TZID=UTC:20260312T183000
DTSTAMP:20260423T200101
CREATED:20250201T230619Z
LAST-MODIFIED:20250201T230715Z
UID:10001860-1773340200-1773340200@visaliaelks.org
SUMMARY:Cigar Club
DESCRIPTION:
URL:https://visaliaelks.org/events/cigar-club/2026-03-12/
LOCATION:Visalia Elks Lodge\, 3100 W Main St\, Visalia\, CA\, 93291\, United States
CATEGORIES:Club Meeting
GEO:36.3292721;-119.3254884
X-APPLE-STRUCTURED-LOCATION;VALUE=URI;X-ADDRESS=Visalia Elks Lodge 3100 W Main St Visalia CA 93291 United States;X-APPLE-RADIUS=500;X-TITLE=3100 W Main St:geo:-119.3254884,36.3292721
END:VEVENT
BEGIN:VEVENT
DTSTART;TZID=UTC:20260312T190000
DTEND;TZID=UTC:20260312T190000
DTSTAMP:20260423T200101
CREATED:20230605T175756Z
LAST-MODIFIED:20230605T175756Z
UID:10000275-1773342000-1773342000@visaliaelks.org
SUMMARY:Raider Booster Club
DESCRIPTION:The Las Vegas Raiders Booster Club of Tulare & Kings Counties have a meeting at the Elks on the second Thursday of each month at 7pm in the hall. No obligation to join the Club when attending. Family atmosphere. More information please contact President / Elks member Eliseo Zepeda 559-901-7406.
URL:https://visaliaelks.org/events/raider-booster-club/2026-03-12/
LOCATION:Visalia Elks Lodge\, 3100 W Main St\, Visalia\, CA\, 93291\, United States
CATEGORIES:Club Meeting
GEO:36.3292721;-119.3254884
X-APPLE-STRUCTURED-LOCATION;VALUE=URI;X-ADDRESS=Visalia Elks Lodge 3100 W Main St Visalia CA 93291 United States;X-APPLE-RADIUS=500;X-TITLE=3100 W Main St:geo:-119.3254884,36.3292721
END:VEVENT
BEGIN:VEVENT
DTSTART;TZID=UTC:20260313T113000
DTEND;TZID=UTC:20260313T130000
DTSTAMP:20260423T200101
CREATED:20240223T205440Z
LAST-MODIFIED:20250901T192420Z
UID:10000231-1773401400-1773406800@visaliaelks.org
SUMMARY:Friday Lunch
DESCRIPTION:Menu will be posted in the Member’s FB group.
URL:https://visaliaelks.org/events/friday-lunch/2026-03-13/
LOCATION:Visalia Elks Lodge\, 3100 W Main St\, Visalia\, CA\, 93291\, United States
CATEGORIES:Lunch Event
GEO:36.3292721;-119.3254884
X-APPLE-STRUCTURED-LOCATION;VALUE=URI;X-ADDRESS=Visalia Elks Lodge 3100 W Main St Visalia CA 93291 United States;X-APPLE-RADIUS=500;X-TITLE=3100 W Main St:geo:-119.3254884,36.3292721
END:VEVENT
BEGIN:VEVENT
DTSTART;TZID=UTC:20260313T200000
DTEND;TZID=UTC:20260313T230000
DTSTAMP:20260423T200101
CREATED:20260301T200650Z
LAST-MODIFIED:20260301T200650Z
UID:10002804-1773432000-1773442800@visaliaelks.org
SUMMARY:St. Patrick's Karaoke Night
DESCRIPTION:Look for details in the Member’s FB Group
URL:https://visaliaelks.org/events/st-patricks-karaoke-night/
LOCATION:Visalia Elks Lodge\, 3100 W Main St\, Visalia\, CA\, 93291\, United States
CATEGORIES:Special Event
GEO:36.3292721;-119.3254884
X-APPLE-STRUCTURED-LOCATION;VALUE=URI;X-ADDRESS=Visalia Elks Lodge 3100 W Main St Visalia CA 93291 United States;X-APPLE-RADIUS=500;X-TITLE=3100 W Main St:geo:-119.3254884,36.3292721
END:VEVENT
END:VCALENDAR