BEGIN:VCALENDAR
VERSION:2.0
PRODID:-//Visalia Elks Lodge 1298 - ECPv6.15.20//NONSGML v1.0//EN
CALSCALE:GREGORIAN
METHOD:PUBLISH
X-ORIGINAL-URL:https://visaliaelks.org
X-WR-CALDESC:Events for Visalia Elks Lodge 1298
REFRESH-INTERVAL;VALUE=DURATION:PT1H
X-Robots-Tag:noindex
X-PUBLISHED-TTL:PT1H
BEGIN:VTIMEZONE
TZID:UTC
BEGIN:STANDARD
TZOFFSETFROM:+0000
TZOFFSETTO:+0000
TZNAME:UTC
DTSTART:20250101T000000
END:STANDARD
END:VTIMEZONE
BEGIN:VEVENT
DTSTART;TZID=UTC:20260406T180000
DTEND;TZID=UTC:20260406T180000
DTSTAMP:20260423T200048
CREATED:20260330T173252Z
LAST-MODIFIED:20260330T173252Z
UID:10002813-1775498400-1775498400@visaliaelks.org
SUMMARY:Monday Night Dinner
DESCRIPTION:1st and 3rd Monday of Every Month – $10\nWatch the Member’s FB group for details each week.
URL:https://visaliaelks.org/events/monday-night-dinner/2026-04-06/
LOCATION:Visalia Elks Lodge\, 3100 W Main St\, Visalia\, CA\, 93291\, United States
CATEGORIES:Monday Night Dinner
GEO:36.3292721;-119.3254884
X-APPLE-STRUCTURED-LOCATION;VALUE=URI;X-ADDRESS=Visalia Elks Lodge 3100 W Main St Visalia CA 93291 United States;X-APPLE-RADIUS=500;X-TITLE=3100 W Main St:geo:-119.3254884,36.3292721
END:VEVENT
BEGIN:VEVENT
DTSTART;TZID=UTC:20260408T173000
DTEND;TZID=UTC:20260408T173000
DTSTAMP:20260423T200048
CREATED:20180626T174114Z
LAST-MODIFIED:20180626T174114Z
UID:10000093-1775669400-1775669400@visaliaelks.org
SUMMARY:House Committee Meeting
DESCRIPTION:
URL:https://visaliaelks.org/events/house-committee-meeting-3/2026-04-08/
LOCATION:Visalia Elks Lodge\, 3100 W Main St\, Visalia\, CA\, 93291\, United States
CATEGORIES:Lodge Meeting
GEO:36.3292721;-119.3254884
X-APPLE-STRUCTURED-LOCATION;VALUE=URI;X-ADDRESS=Visalia Elks Lodge 3100 W Main St Visalia CA 93291 United States;X-APPLE-RADIUS=500;X-TITLE=3100 W Main St:geo:-119.3254884,36.3292721
END:VEVENT
BEGIN:VEVENT
DTSTART;TZID=UTC:20260408T180000
DTEND;TZID=UTC:20260408T180000
DTSTAMP:20260423T200048
CREATED:20180626T174214Z
LAST-MODIFIED:20180626T174640Z
UID:10000905-1775671200-1775671200@visaliaelks.org
SUMMARY:Trustee Meeting
DESCRIPTION:Note: You must call or e-mail in advance to be on the agenda
URL:https://visaliaelks.org/events/trustee-meeting-3/2026-04-08/
LOCATION:Visalia Elks Lodge\, 3100 W Main St\, Visalia\, CA\, 93291\, United States
CATEGORIES:Lodge Meeting
GEO:36.3292721;-119.3254884
X-APPLE-STRUCTURED-LOCATION;VALUE=URI;X-ADDRESS=Visalia Elks Lodge 3100 W Main St Visalia CA 93291 United States;X-APPLE-RADIUS=500;X-TITLE=3100 W Main St:geo:-119.3254884,36.3292721
END:VEVENT
BEGIN:VEVENT
DTSTART;TZID=UTC:20260408T193000
DTEND;TZID=UTC:20260408T193000
DTSTAMP:20260423T200048
CREATED:20180626T173912Z
LAST-MODIFIED:20180626T173927Z
UID:10000405-1775676600-1775676600@visaliaelks.org
SUMMARY:Lodge Meeting (Business)
DESCRIPTION:
URL:https://visaliaelks.org/events/lodge-meeting-business-2/2026-04-08/
LOCATION:Visalia Elks Lodge\, 3100 W Main St\, Visalia\, CA\, 93291\, United States
CATEGORIES:Lodge Meeting
GEO:36.3292721;-119.3254884
X-APPLE-STRUCTURED-LOCATION;VALUE=URI;X-ADDRESS=Visalia Elks Lodge 3100 W Main St Visalia CA 93291 United States;X-APPLE-RADIUS=500;X-TITLE=3100 W Main St:geo:-119.3254884,36.3292721
END:VEVENT
BEGIN:VEVENT
DTSTART;TZID=UTC:20260409T183000
DTEND;TZID=UTC:20260409T183000
DTSTAMP:20260423T200048
CREATED:20250201T230619Z
LAST-MODIFIED:20250201T230715Z
UID:10001861-1775759400-1775759400@visaliaelks.org
SUMMARY:Cigar Club
DESCRIPTION:
URL:https://visaliaelks.org/events/cigar-club/2026-04-09/
LOCATION:Visalia Elks Lodge\, 3100 W Main St\, Visalia\, CA\, 93291\, United States
CATEGORIES:Club Meeting
GEO:36.3292721;-119.3254884
X-APPLE-STRUCTURED-LOCATION;VALUE=URI;X-ADDRESS=Visalia Elks Lodge 3100 W Main St Visalia CA 93291 United States;X-APPLE-RADIUS=500;X-TITLE=3100 W Main St:geo:-119.3254884,36.3292721
END:VEVENT
BEGIN:VEVENT
DTSTART;TZID=UTC:20260409T190000
DTEND;TZID=UTC:20260409T190000
DTSTAMP:20260423T200048
CREATED:20230605T175756Z
LAST-MODIFIED:20230605T175756Z
UID:10000276-1775761200-1775761200@visaliaelks.org
SUMMARY:Raider Booster Club
DESCRIPTION:The Las Vegas Raiders Booster Club of Tulare & Kings Counties have a meeting at the Elks on the second Thursday of each month at 7pm in the hall. No obligation to join the Club when attending. Family atmosphere. More information please contact President / Elks member Eliseo Zepeda 559-901-7406.
URL:https://visaliaelks.org/events/raider-booster-club/2026-04-09/
LOCATION:Visalia Elks Lodge\, 3100 W Main St\, Visalia\, CA\, 93291\, United States
CATEGORIES:Club Meeting
GEO:36.3292721;-119.3254884
X-APPLE-STRUCTURED-LOCATION;VALUE=URI;X-ADDRESS=Visalia Elks Lodge 3100 W Main St Visalia CA 93291 United States;X-APPLE-RADIUS=500;X-TITLE=3100 W Main St:geo:-119.3254884,36.3292721
END:VEVENT
BEGIN:VEVENT
DTSTART;TZID=UTC:20260410T113000
DTEND;TZID=UTC:20260410T130000
DTSTAMP:20260423T200048
CREATED:20240223T205440Z
LAST-MODIFIED:20250901T192420Z
UID:10000232-1775820600-1775826000@visaliaelks.org
SUMMARY:Friday Lunch
DESCRIPTION:Menu will be posted in the Member’s FB group.
URL:https://visaliaelks.org/events/friday-lunch/2026-04-10/
LOCATION:Visalia Elks Lodge\, 3100 W Main St\, Visalia\, CA\, 93291\, United States
CATEGORIES:Lunch Event
GEO:36.3292721;-119.3254884
X-APPLE-STRUCTURED-LOCATION;VALUE=URI;X-ADDRESS=Visalia Elks Lodge 3100 W Main St Visalia CA 93291 United States;X-APPLE-RADIUS=500;X-TITLE=3100 W Main St:geo:-119.3254884,36.3292721
END:VEVENT
BEGIN:VEVENT
DTSTART;TZID=UTC:20260411T110000
DTEND;TZID=UTC:20260411T140000
DTSTAMP:20260423T200048
CREATED:20260402T144334Z
LAST-MODIFIED:20260402T144334Z
UID:10002994-1775905200-1775916000@visaliaelks.org
SUMMARY:Tea Party
DESCRIPTION:
URL:https://visaliaelks.org/events/tea-party/
LOCATION:Visalia Elks Lodge\, 3100 W Main St\, Visalia\, CA\, 93291\, United States
CATEGORIES:Special Event
GEO:36.3292721;-119.3254884
X-APPLE-STRUCTURED-LOCATION;VALUE=URI;X-ADDRESS=Visalia Elks Lodge 3100 W Main St Visalia CA 93291 United States;X-APPLE-RADIUS=500;X-TITLE=3100 W Main St:geo:-119.3254884,36.3292721
END:VEVENT
END:VCALENDAR