BEGIN:VCALENDAR
VERSION:2.0
PRODID:-//Visalia Elks Lodge 1298 - ECPv6.15.20//NONSGML v1.0//EN
CALSCALE:GREGORIAN
METHOD:PUBLISH
X-ORIGINAL-URL:https://visaliaelks.org
X-WR-CALDESC:Events for Visalia Elks Lodge 1298
REFRESH-INTERVAL;VALUE=DURATION:PT1H
X-Robots-Tag:noindex
X-PUBLISHED-TTL:PT1H
BEGIN:VTIMEZONE
TZID:UTC
BEGIN:STANDARD
TZOFFSETFROM:+0000
TZOFFSETTO:+0000
TZNAME:UTC
DTSTART:20250101T000000
END:STANDARD
END:VTIMEZONE
BEGIN:VEVENT
DTSTART;TZID=UTC:20260412T083000
DTEND;TZID=UTC:20260412T110000
DTSTAMP:20260423T181754
CREATED:20180327T183221Z
LAST-MODIFIED:20260406T163700Z
UID:10000803-1775982600-1775991600@visaliaelks.org
SUMMARY:Veterans Breakfast
DESCRIPTION:Eggs/Omelet bar\nPotatoes\nBacon\nSausage\nFrench toast\nPancakes\nBiscuits and Gravy\n\n8:30 to 11:00am \nAdults $18.00\nKids Under 12 – $15.00\nVeterans: Free
URL:https://visaliaelks.org/events/veterans-breakfast-2/2026-04-12/
LOCATION:Visalia Elks Lodge\, 3100 W Main St\, Visalia\, CA\, 93291\, United States
CATEGORIES:Veterans Breakfast
GEO:36.3292721;-119.3254884
X-APPLE-STRUCTURED-LOCATION;VALUE=URI;X-ADDRESS=Visalia Elks Lodge 3100 W Main St Visalia CA 93291 United States;X-APPLE-RADIUS=500;X-TITLE=3100 W Main St:geo:-119.3254884,36.3292721
END:VEVENT
BEGIN:VEVENT
DTSTART;TZID=UTC:20260415T193000
DTEND;TZID=UTC:20260415T193000
DTSTAMP:20260423T181754
CREATED:20180626T174458Z
LAST-MODIFIED:20180626T174458Z
UID:10001137-1776281400-1776281400@visaliaelks.org
SUMMARY:Vagabonds RV Club Meeting
DESCRIPTION:
URL:https://visaliaelks.org/events/vagabonds-rv-club-meeting-3/2026-04-15/
LOCATION:Visalia Elks Lodge\, 3100 W Main St\, Visalia\, CA\, 93291\, United States
CATEGORIES:Club Meeting
GEO:36.3292721;-119.3254884
X-APPLE-STRUCTURED-LOCATION;VALUE=URI;X-ADDRESS=Visalia Elks Lodge 3100 W Main St Visalia CA 93291 United States;X-APPLE-RADIUS=500;X-TITLE=3100 W Main St:geo:-119.3254884,36.3292721
END:VEVENT
BEGIN:VEVENT
DTSTART;TZID=UTC:20260417T113000
DTEND;TZID=UTC:20260417T130000
DTSTAMP:20260423T181754
CREATED:20240223T205440Z
LAST-MODIFIED:20250901T192420Z
UID:10002428-1776425400-1776430800@visaliaelks.org
SUMMARY:Friday Lunch
DESCRIPTION:Menu will be posted in the Member’s FB group.
URL:https://visaliaelks.org/events/friday-lunch/2026-04-17/
LOCATION:Visalia Elks Lodge\, 3100 W Main St\, Visalia\, CA\, 93291\, United States
CATEGORIES:Lunch Event
GEO:36.3292721;-119.3254884
X-APPLE-STRUCTURED-LOCATION;VALUE=URI;X-ADDRESS=Visalia Elks Lodge 3100 W Main St Visalia CA 93291 United States;X-APPLE-RADIUS=500;X-TITLE=3100 W Main St:geo:-119.3254884,36.3292721
END:VEVENT
BEGIN:VEVENT
DTSTART;TZID=UTC:20260417T180000
DTEND;TZID=UTC:20260417T193000
DTSTAMP:20260423T181754
CREATED:20220103T193401Z
LAST-MODIFIED:20260301T203702Z
UID:10000153-1776448800-1776454200@visaliaelks.org
SUMMARY:Cook Your Own Steak Night
DESCRIPTION:Cook Your Own Steak Night\nTime: 6-7:30pm\nReservations by Thursday at 5 pm
URL:https://visaliaelks.org/events/cook-your-own-steak-night/2026-04-17/
LOCATION:Visalia Elks Lodge\, 3100 W Main St\, Visalia\, CA\, 93291\, United States
CATEGORIES:Cook Your Own Steak
GEO:36.3292721;-119.3254884
X-APPLE-STRUCTURED-LOCATION;VALUE=URI;X-ADDRESS=Visalia Elks Lodge 3100 W Main St Visalia CA 93291 United States;X-APPLE-RADIUS=500;X-TITLE=3100 W Main St:geo:-119.3254884,36.3292721
END:VEVENT
BEGIN:VEVENT
DTSTART;TZID=UTC:20260418T090000
DTEND;TZID=UTC:20260418T140000
DTSTAMP:20260423T181754
CREATED:20260119T173625Z
LAST-MODIFIED:20260123T195121Z
UID:10002777-1776502800-1776520800@visaliaelks.org
SUMMARY:Spring Craft Boutique
DESCRIPTION:Arts and Craft Booths | Food | Drinks \nADMISSION IS FREE AND OPEN TO THE PUBLIC \nMany of your favorite vendors will be here selling their handcrafted and new items. There will be lunch available for purchase. \nDrawing at 12pm and Opportunity Drawing immediately after. \nFor more info: Holly Derington – email: gsscience@aol.com
URL:https://visaliaelks.org/events/spring-craft-boutique/
LOCATION:Visalia Elks Lodge\, 3100 W Main St\, Visalia\, CA\, 93291\, United States
CATEGORIES:Special Event
GEO:36.3292721;-119.3254884
X-APPLE-STRUCTURED-LOCATION;VALUE=URI;X-ADDRESS=Visalia Elks Lodge 3100 W Main St Visalia CA 93291 United States;X-APPLE-RADIUS=500;X-TITLE=3100 W Main St:geo:-119.3254884,36.3292721
END:VEVENT
END:VCALENDAR